BEGIN:VCALENDAR
VERSION:2.0
PRODID:-//Tango in Leipzig - ECPv6.15.20//NONSGML v1.0//EN
CALSCALE:GREGORIAN
METHOD:PUBLISH
X-ORIGINAL-URL:https://tango-in-leipzig.de
X-WR-CALDESC:Veranstaltungen für Tango in Leipzig
REFRESH-INTERVAL;VALUE=DURATION:PT1H
X-Robots-Tag:noindex
X-PUBLISHED-TTL:PT1H
BEGIN:VTIMEZONE
TZID:Europe/Berlin
BEGIN:DAYLIGHT
TZOFFSETFROM:+0100
TZOFFSETTO:+0200
TZNAME:CEST
DTSTART:20250330T010000
END:DAYLIGHT
BEGIN:STANDARD
TZOFFSETFROM:+0200
TZOFFSETTO:+0100
TZNAME:CET
DTSTART:20251026T010000
END:STANDARD
BEGIN:DAYLIGHT
TZOFFSETFROM:+0100
TZOFFSETTO:+0200
TZNAME:CEST
DTSTART:20260329T010000
END:DAYLIGHT
BEGIN:STANDARD
TZOFFSETFROM:+0200
TZOFFSETTO:+0100
TZNAME:CET
DTSTART:20261025T010000
END:STANDARD
BEGIN:DAYLIGHT
TZOFFSETFROM:+0100
TZOFFSETTO:+0200
TZNAME:CEST
DTSTART:20270328T010000
END:DAYLIGHT
BEGIN:STANDARD
TZOFFSETFROM:+0200
TZOFFSETTO:+0100
TZNAME:CET
DTSTART:20271031T010000
END:STANDARD
END:VTIMEZONE
BEGIN:VEVENT
DTSTART;TZID=Europe/Berlin:20260702T190000
DTEND;TZID=Europe/Berlin:20260702T210000
DTSTAMP:20260424T131923
CREATED:20260417T092447Z
LAST-MODIFIED:20260417T092447Z
UID:4382-1783018800-1783026000@tango-in-leipzig.de
SUMMARY:Angeleiteter Übungsabend — Studio 24 Dresden
DESCRIPTION:Wöchentlicher angeleiteter Übungsabend.
URL:https://tango-in-leipzig.de/event/angeleiteter-uebungsabend-studio-24-dresden-12/
LOCATION:Studio 24\, Großenhainer Str. 29\, Dresden\, 01097\, Germany
CATEGORIES:practica
END:VEVENT
BEGIN:VEVENT
DTSTART;TZID=Europe/Berlin:20260702T193000
DTEND;TZID=Europe/Berlin:20260702T210000
DTSTAMP:20260424T131923
CREATED:20260417T092447Z
LAST-MODIFIED:20260417T092447Z
UID:4388-1783020600-1783026000@tango-in-leipzig.de
SUMMARY:Tango Praktika Weimar
DESCRIPTION:Wöchentliche Donnerstags-Praktika.
URL:https://tango-in-leipzig.de/event/tango-praktika-weimar-13/
LOCATION:mon ami Weimar\, Goetheplatz 11\, Weimar\, 99423\, Germany
CATEGORIES:practica
END:VEVENT
BEGIN:VEVENT
DTSTART;TZID=Europe/Berlin:20260702T193000
DTEND;TZID=Europe/Berlin:20260702T210000
DTSTAMP:20260424T131923
CREATED:20260417T092447Z
LAST-MODIFIED:20260417T092447Z
UID:4386-1783020600-1783026000@tango-in-leipzig.de
SUMMARY:Offener Tangokurs — el Tango puro Magdeburg
DESCRIPTION:Offener Kurs Do 19:30–21:00 für Anfänger\, (Wieder-)Einsteiger und Mittelstufe. Eingang hinten zwischen 26a und 26b.
URL:https://tango-in-leipzig.de/event/offener-tangokurs-el-tango-puro-magdeburg-12/
LOCATION:Tanz- und Sportverein Magdeburg\, Lüneburger Str. 26\, Magdeburg\, 39106\, Germany
CATEGORIES:Kurs
END:VEVENT
BEGIN:VEVENT
DTSTART;TZID=Europe/Berlin:20260702T193000
DTEND;TZID=Europe/Berlin:20260702T221500
DTSTAMP:20260424T131923
CREATED:20260417T092447Z
LAST-MODIFIED:20260417T092447Z
UID:4387-1783020600-1783030500@tango-in-leipzig.de
SUMMARY:Praktika — Nou Tango
DESCRIPTION:Donnerstags-Praktika (nur Paare). Mitte.
URL:https://tango-in-leipzig.de/event/praktika-nou-tango-12/
LOCATION:Nou Tango\, Chausseestr. 102\, Berlin\, 10115\, Germany
CATEGORIES:practica
END:VEVENT
BEGIN:VEVENT
DTSTART;TZID=Europe/Berlin:20260702T193000
DTEND;TZID=Europe/Berlin:20260702T230000
DTSTAMP:20260424T131923
CREATED:20260417T092447Z
LAST-MODIFIED:20260417T092447Z
UID:4385-1783020600-1783033200@tango-in-leipzig.de
SUMMARY:Neolonga — Basecamp
DESCRIPTION:Donnerstags-Neolonga in Wilmersdorf.
URL:https://tango-in-leipzig.de/event/neolonga-basecamp-12/
LOCATION:Basecamp\, Düsseldorfer Str. 32\, Berlin\, 10707\, Germany
CATEGORIES:milonga
END:VEVENT
BEGIN:VEVENT
DTSTART;TZID=Europe/Berlin:20260702T200000
DTEND;TZID=Europe/Berlin:20260702T211500
DTSTAMP:20260424T131923
CREATED:20260416T110551Z
LAST-MODIFIED:20260416T110551Z
UID:3656-1783022400-1783026900@tango-in-leipzig.de
SUMMARY:Tango Level 3
DESCRIPTION:Wöchentlicher Kurs für Fortgeschrittene. Lehrer: Juliane & Franz (Vertretung für Almut & Stefan). Anmeldung über Eversports.
URL:https://tango-in-leipzig.de/event/tango-level-3-12/
LOCATION:Tanzschule Tango Mio Halle\, Geiststraße 22\, Halle\, 06108\, Germany
CATEGORIES:Kurs
END:VEVENT
BEGIN:VEVENT
DTSTART;TZID=Europe/Berlin:20260702T200000
DTEND;TZID=Europe/Berlin:20260702T213000
DTSTAMP:20260424T131923
CREATED:20260417T092447Z
LAST-MODIFIED:20260417T092447Z
UID:4389-1783022400-1783027800@tango-in-leipzig.de
SUMMARY:Tanzen-und-Üben Naumburg
DESCRIPTION:Wöchentliches Tanzen-und-Üben im Anschluss an die Kurs-Stunde.
URL:https://tango-in-leipzig.de/event/tanzen-und-ueben-naumburg-13/
LOCATION:JZ OTTO Naumburg\, Poststr. 31\, Naumburg\, 06618\, Germany
CATEGORIES:practica
END:VEVENT
BEGIN:VEVENT
DTSTART;TZID=Europe/Berlin:20260702T201500
DTEND;TZID=Europe/Berlin:20260702T230000
DTSTAMP:20260424T131923
CREATED:20260417T092447Z
LAST-MODIFIED:20260417T092447Z
UID:4390-1783023300-1783033200@tango-in-leipzig.de
SUMMARY:Übungsabend — Estación del Tango Erfurt
DESCRIPTION:Donnerstags-Übungsabend.
URL:https://tango-in-leipzig.de/event/uebungsabend-estacion-del-tango-erfurt-12/
LOCATION:Estación del Tango\, Schmidtstedter Str. 34\, Erfurt\, 99084\, Germany
CATEGORIES:practica
END:VEVENT
BEGIN:VEVENT
DTSTART;TZID=Europe/Berlin:20260702T210500
DTEND;TZID=Europe/Berlin:20260702T224500
DTSTAMP:20260424T131923
CREATED:20260417T092447Z
LAST-MODIFIED:20260417T092447Z
UID:4394-1783026300-1783032300@tango-in-leipzig.de
SUMMARY:Get the Step Practica — Mala Junta
DESCRIPTION:Donnerstags-Practica in Schöneberg.
URL:https://tango-in-leipzig.de/event/get-the-step-practica-mala-junta-12/
LOCATION:Mala Junta\, Kolonnenstr. 29\, Berlin\, 10829\, Germany
CATEGORIES:practica
END:VEVENT
BEGIN:VEVENT
DTSTART;TZID=Europe/Berlin:20260702T211500
DTEND;TZID=Europe/Berlin:20260702T231500
DTSTAMP:20260424T131923
CREATED:20260417T092447Z
LAST-MODIFIED:20260417T092447Z
UID:4395-1783026900-1783034100@tango-in-leipzig.de
SUMMARY:Praktika — Alte Bahnhofshalle Friedenau
DESCRIPTION:Donnerstags-Praktika in Friedenau/Steglitz.
URL:https://tango-in-leipzig.de/event/praktika-alte-bahnhofshalle-friedenau-12/
LOCATION:Alte Bahnhofshalle Friedenau\, Bahnhofstr. 4D\, Berlin\, 12159\, Germany
CATEGORIES:practica
END:VEVENT
BEGIN:VEVENT
DTSTART;TZID=Europe/Berlin:20260703T210000
DTEND;TZID=Europe/Berlin:20260704T000000
DTSTAMP:20260424T131923
CREATED:20260417T092447Z
LAST-MODIFIED:20260417T092447Z
UID:4399-1783112400-1783123200@tango-in-leipzig.de
SUMMARY:Freitag-Milonga — Studio 24 Dresden
DESCRIPTION:Wöchentliche Freitagsmilonga. Kurs ab 20:00 optional.
URL:https://tango-in-leipzig.de/event/freitag-milonga-studio-24-dresden-12/
LOCATION:Studio 24\, Großenhainer Str. 29\, Dresden\, 01097\, Germany
CATEGORIES:milonga
END:VEVENT
BEGIN:VEVENT
DTSTART;TZID=Europe/Berlin:20260703T210000
DTEND;TZID=Europe/Berlin:20260704T010000
DTSTAMP:20260424T131923
CREATED:20260417T092447Z
LAST-MODIFIED:20260417T092447Z
UID:4400-1783112400-1783126800@tango-in-leipzig.de
SUMMARY:Freitags-Milonga — Tango Salon Leipzig
DESCRIPTION:Wöchentliche Freitags-Milonga. Practica ab 20:00 (5 €).
URL:https://tango-in-leipzig.de/event/freitags-milonga-tango-salon-leipzig-11/
LOCATION:Tango Salon Leipzig\, Holbeinstr. 29\, Leipzig\, 04229\, Germany
CATEGORIES:milonga
END:VEVENT
BEGIN:VEVENT
DTSTART;TZID=Europe/Berlin:20260703T210000
DTEND;TZID=Europe/Berlin:20260704T020000
DTSTAMP:20260424T131923
CREATED:20260417T092447Z
LAST-MODIFIED:20260417T092447Z
UID:4401-1783112400-1783130400@tango-in-leipzig.de
SUMMARY:Live-Milonga / Pista Doble — Haus der Sinne
DESCRIPTION:Freitags-Live-Milonga / Pista Doble im Haus der Sinne\, Prenzlauer Berg.
URL:https://tango-in-leipzig.de/event/live-milonga-pista-doble-haus-der-sinne-12/
LOCATION:Haus der Sinne\, Ystader Str. 10\, Berlin\, 10437\, Germany
CATEGORIES:milonga
END:VEVENT
BEGIN:VEVENT
DTSTART;TZID=Europe/Berlin:20260703T210000
DTEND;TZID=Europe/Berlin:20260704T030000
DTSTAMP:20260424T131923
CREATED:20260417T092447Z
LAST-MODIFIED:20260417T092447Z
UID:4398-1783112400-1783134000@tango-in-leipzig.de
SUMMARY:Die Freitagsmilonga — Nou Tango
DESCRIPTION:Freitags-Milonga im Nou Tango\, Mitte.
URL:https://tango-in-leipzig.de/event/die-freitagsmilonga-nou-tango-12/
LOCATION:Nou Tango\, Chausseestr. 102\, Berlin\, 10115\, Germany
CATEGORIES:milonga
END:VEVENT
BEGIN:VEVENT
DTSTART;TZID=Europe/Berlin:20260704T150000
DTEND;TZID=Europe/Berlin:20260704T190000
DTSTAMP:20260424T131923
CREATED:20260417T092447Z
LAST-MODIFIED:20260417T092447Z
UID:4402-1783177200-1783191600@tango-in-leipzig.de
SUMMARY:Tango Café — Maxixe
DESCRIPTION:Samstag-Nachmittags-Milonga in Kreuzberg.
URL:https://tango-in-leipzig.de/event/tango-cafe-maxixe-12/
LOCATION:Maxixe\, Fidicinstr. 3\, Berlin\, 10965\, Germany
CATEGORIES:milonga
END:VEVENT
BEGIN:VEVENT
DTSTART;TZID=Europe/Berlin:20260704T160000
DTEND;TZID=Europe/Berlin:20260704T200000
DTSTAMP:20260424T131923
CREATED:20260417T092448Z
LAST-MODIFIED:20260417T092448Z
UID:4403-1783180800-1783195200@tango-in-leipzig.de
SUMMARY:Tango Café La Bruja / El Gato — weRK36
DESCRIPTION:Samstag-Nachmittags-Milonga in Schöneberg.
URL:https://tango-in-leipzig.de/event/tango-cafe-la-bruja-el-gato-werk36-12/
LOCATION:weRK36\, Ella-Barowsky-Str. 70\, Berlin\, 10829\, Germany
CATEGORIES:milonga
END:VEVENT
BEGIN:VEVENT
DTSTART;TZID=Europe/Berlin:20260704T170000
DTEND;TZID=Europe/Berlin:20260704T220000
DTSTAMP:20260424T131923
CREATED:20260417T092448Z
LAST-MODIFIED:20260417T092448Z
UID:4404-1783184400-1783202400@tango-in-leipzig.de
SUMMARY:Milonga La Remise
DESCRIPTION:Samstags-Milonga in Moabit auf Spendenbasis.
URL:https://tango-in-leipzig.de/event/milonga-la-remise-12/
LOCATION:La Remise\, Bremer Str. 68\, Berlin\, 10551\, Germany
CATEGORIES:milonga
END:VEVENT
BEGIN:VEVENT
DTSTART;TZID=Europe/Berlin:20260704T203000
DTEND;TZID=Europe/Berlin:20260705T000000
DTSTAMP:20260424T131923
CREATED:20260417T092448Z
LAST-MODIFIED:20260417T092448Z
UID:4407-1783197000-1783209600@tango-in-leipzig.de
SUMMARY:Samstag-Milonga — Tres Tangos Dresden
DESCRIPTION:Wöchentliche Samstagsmilonga. Kostenlose Schnupperstunde ab 19:45.
URL:https://tango-in-leipzig.de/event/samstag-milonga-tres-tangos-dresden-12/
LOCATION:Tres Tangos\, Dornblüthstr. 16\, Dresden\, 01277\, Germany
CATEGORIES:milonga
END:VEVENT
BEGIN:VEVENT
DTSTART;TZID=Europe/Berlin:20260704T210000
DTEND;TZID=Europe/Berlin:20260705T030000
DTSTAMP:20260424T131923
CREATED:20260417T092448Z
LAST-MODIFIED:20260417T092448Z
UID:4408-1783198800-1783220400@tango-in-leipzig.de
SUMMARY:Tango Rouge — KitKatClub
DESCRIPTION:Samstags-Milonga im KitKatClub Basement\, Mitte. Strikter Dresscode.
URL:https://tango-in-leipzig.de/event/tango-rouge-kitkatclub-12/
LOCATION:KitKatClub\, Brückenstr. 1\, Berlin\, 10179\, Germany
CATEGORIES:milonga
END:VEVENT
BEGIN:VEVENT
DTSTART;TZID=Europe/Berlin:20260705T110000
DTEND;TZID=Europe/Berlin:20260705T130000
DTSTAMP:20260424T131923
CREATED:20260417T092448Z
LAST-MODIFIED:20260417T092448Z
UID:4409-1783249200-1783256400@tango-in-leipzig.de
SUMMARY:Sonntags Tango Praktika — Mala Junta
DESCRIPTION:Sonntags-Practica in Schöneberg.
URL:https://tango-in-leipzig.de/event/sonntags-tango-praktika-mala-junta-12/
LOCATION:Mala Junta\, Kolonnenstr. 29\, Berlin\, 10829\, Germany
CATEGORIES:practica
END:VEVENT
BEGIN:VEVENT
DTSTART;TZID=Europe/Berlin:20260705T150000
DTEND;TZID=Europe/Berlin:20260705T210000
DTSTAMP:20260424T131923
CREATED:20260417T092448Z
LAST-MODIFIED:20260417T092448Z
UID:4410-1783263600-1783285200@tango-in-leipzig.de
SUMMARY:Café Domínguez — Nou Tango
DESCRIPTION:Sonntags-Milonga im Nou Tango\, Mitte.
URL:https://tango-in-leipzig.de/event/cafe-dominguez-nou-tango-12/
LOCATION:Nou Tango\, Chausseestr. 102\, Berlin\, 10115\, Germany
CATEGORIES:milonga
END:VEVENT
BEGIN:VEVENT
DTSTART;TZID=Europe/Berlin:20260705T160000
DTEND;TZID=Europe/Berlin:20260705T200000
DTSTAMP:20260424T131923
CREATED:20260417T092448Z
LAST-MODIFIED:20260417T092448Z
UID:4411-1783267200-1783281600@tango-in-leipzig.de
SUMMARY:Sonntags-Milonga — Mala Junta
DESCRIPTION:Sonntags-Milonga (Atipica/Bien Pulenta/Mimosa rotierend) in Schöneberg.
URL:https://tango-in-leipzig.de/event/sonntags-milonga-mala-junta-12/
LOCATION:Mala Junta\, Kolonnenstr. 29\, Berlin\, 10829\, Germany
CATEGORIES:milonga
END:VEVENT
BEGIN:VEVENT
DTSTART;TZID=Europe/Berlin:20260705T160000
DTEND;TZID=Europe/Berlin:20260705T200000
DTSTAMP:20260424T131923
CREATED:20260417T092448Z
LAST-MODIFIED:20260417T092448Z
UID:4412-1783267200-1783281600@tango-in-leipzig.de
SUMMARY:Tango zum Glück (Queer/Open Role) — TTMS
DESCRIPTION:Queer/Open-Role-Milonga in Kreuzberg.
URL:https://tango-in-leipzig.de/event/tango-zum-glueck-queer-open-role-ttms-12/
LOCATION:Tangotanzen macht schön (TTMS)\, Oranienstr. 185\, Berlin\, 10999\, Germany
CATEGORIES:milonga
END:VEVENT
BEGIN:VEVENT
DTSTART;TZID=Europe/Berlin:20260705T180000
DTEND;TZID=Europe/Berlin:20260706T020000
DTSTAMP:20260424T131923
CREATED:20260417T092448Z
LAST-MODIFIED:20260417T092448Z
UID:4413-1783274400-1783303200@tango-in-leipzig.de
SUMMARY:Tangoloft Sunday Milonga
DESCRIPTION:Sonntags-Milonga im Tangoloft\, Kreuzberg.
URL:https://tango-in-leipzig.de/event/tangoloft-sunday-milonga-12/
LOCATION:Tangoloft\, Pfuelstr. 5\, Berlin\, 10997\, Germany
CATEGORIES:milonga
END:VEVENT
BEGIN:VEVENT
DTSTART;TZID=Europe/Berlin:20260705T183000
DTEND;TZID=Europe/Berlin:20260705T220000
DTSTAMP:20260424T131923
CREATED:20260417T092448Z
LAST-MODIFIED:20260417T092448Z
UID:4414-1783276200-1783288800@tango-in-leipzig.de
SUMMARY:Sonntags-Milonga Weimar
DESCRIPTION:Wöchentliche Sonntags-Milonga in der Villa Anneliese.
URL:https://tango-in-leipzig.de/event/sonntags-milonga-weimar-13/
LOCATION:Villa Anneliese\, Riessnerstr. 46\, Weimar\, 99423\, Germany
CATEGORIES:milonga
END:VEVENT
BEGIN:VEVENT
DTSTART;TZID=Europe/Berlin:20260706T190000
DTEND;TZID=Europe/Berlin:20260706T203000
DTSTAMP:20260424T131923
CREATED:20260417T092448Z
LAST-MODIFIED:20260417T092448Z
UID:4416-1783364400-1783369800@tango-in-leipzig.de
SUMMARY:Anfängerkurs Weimar
DESCRIPTION:Wöchentlicher Montags-Anfängerkurs. Lehrer: Brigitte Backhaus & Carlos Tapia.
URL:https://tango-in-leipzig.de/event/anfaengerkurs-weimar-13/
LOCATION:mon ami Weimar\, Goetheplatz 11\, Weimar\, 99423\, Germany
CATEGORIES:Kurs
END:VEVENT
BEGIN:VEVENT
DTSTART;TZID=Europe/Berlin:20260706T193000
DTEND;TZID=Europe/Berlin:20260707T000000
DTSTAMP:20260424T131923
CREATED:20260417T092448Z
LAST-MODIFIED:20260417T092448Z
UID:4418-1783366200-1783382400@tango-in-leipzig.de
SUMMARY:Sentidos — Haus der Sinne
DESCRIPTION:Montagsmilonga im Haus der Sinne\, Prenzlauer Berg.
URL:https://tango-in-leipzig.de/event/sentidos-haus-der-sinne-12/
LOCATION:Haus der Sinne\, Ystader Str. 10\, Berlin\, 10437\, Germany
CATEGORIES:milonga
END:VEVENT
BEGIN:VEVENT
DTSTART;TZID=Europe/Berlin:20260706T200000
DTEND;TZID=Europe/Berlin:20260706T230000
DTSTAMP:20260424T131923
CREATED:20260417T092448Z
LAST-MODIFIED:20260417T092448Z
UID:4419-1783368000-1783378800@tango-in-leipzig.de
SUMMARY:Tango Club — Tango Studio Leipzig
DESCRIPTION:Wöchentlicher Tango Club. Offener Tanzabend.
URL:https://tango-in-leipzig.de/event/tango-club-tango-studio-leipzig-24/
LOCATION:Tango Studio Leipzig\, Brandvorwerkstraße 52-54\, Leipzig\, 04275\, Germany
CATEGORIES:milonga
ORGANIZER;CN="Tango Studio Leipzig":MAILTO:thoma@tangostudioleipzig.de
END:VEVENT
BEGIN:VEVENT
DTSTART;TZID=Europe/Berlin:20260706T210000
DTEND;TZID=Europe/Berlin:20260707T010000
DTSTAMP:20260424T131923
CREATED:20260417T092448Z
LAST-MODIFIED:20260417T092448Z
UID:4420-1783371600-1783386000@tango-in-leipzig.de
SUMMARY:Milonga Popular — Tangoloft
DESCRIPTION:Montagsmilonga im Tangoloft\, Kreuzberg.
URL:https://tango-in-leipzig.de/event/milonga-popular-tangoloft-12/
LOCATION:Tangoloft\, Pfuelstr. 5\, Berlin\, 10997\, Germany
CATEGORIES:milonga
END:VEVENT
BEGIN:VEVENT
DTSTART;TZID=Europe/Berlin:20260707T190000
DTEND;TZID=Europe/Berlin:20260707T220000
DTSTAMP:20260424T131923
CREATED:20260417T092448Z
LAST-MODIFIED:20260417T092448Z
UID:4421-1783450800-1783461600@tango-in-leipzig.de
SUMMARY:After-Work-Milonga — Balance-Zentrum Magdeburg
DESCRIPTION:Wöchentliche After-Work-Milonga. Bei warmem Wetter auf dem Glasbalkon an der Elbe.
URL:https://tango-in-leipzig.de/event/after-work-milonga-balance-zentrum-magdeburg-12/
LOCATION:Balance-Zentrum\, Nicolaistr. 5\, Magdeburg\, 39104\, Germany
CATEGORIES:milonga
END:VEVENT
END:VCALENDAR