BEGIN:VCALENDAR
VERSION:2.0
PRODID:-//Tango in Leipzig - ECPv6.15.20//NONSGML v1.0//EN
CALSCALE:GREGORIAN
METHOD:PUBLISH
X-ORIGINAL-URL:https://tango-in-leipzig.de
X-WR-CALDESC:Veranstaltungen für Tango in Leipzig
REFRESH-INTERVAL;VALUE=DURATION:PT1H
X-Robots-Tag:noindex
X-PUBLISHED-TTL:PT1H
BEGIN:VTIMEZONE
TZID:Europe/Berlin
BEGIN:DAYLIGHT
TZOFFSETFROM:+0100
TZOFFSETTO:+0200
TZNAME:CEST
DTSTART:20250330T010000
END:DAYLIGHT
BEGIN:STANDARD
TZOFFSETFROM:+0200
TZOFFSETTO:+0100
TZNAME:CET
DTSTART:20251026T010000
END:STANDARD
BEGIN:DAYLIGHT
TZOFFSETFROM:+0100
TZOFFSETTO:+0200
TZNAME:CEST
DTSTART:20260329T010000
END:DAYLIGHT
BEGIN:STANDARD
TZOFFSETFROM:+0200
TZOFFSETTO:+0100
TZNAME:CET
DTSTART:20261025T010000
END:STANDARD
BEGIN:DAYLIGHT
TZOFFSETFROM:+0100
TZOFFSETTO:+0200
TZNAME:CEST
DTSTART:20270328T010000
END:DAYLIGHT
BEGIN:STANDARD
TZOFFSETFROM:+0200
TZOFFSETTO:+0100
TZNAME:CET
DTSTART:20271031T010000
END:STANDARD
END:VTIMEZONE
BEGIN:VEVENT
DTSTART;TZID=Europe/Berlin:20260525T183000
DTEND;TZID=Europe/Berlin:20260525T200000
DTSTAMP:20260422T034757
CREATED:20260408T153427Z
LAST-MODIFIED:20260408T153427Z
UID:3175-1779733800-1779739200@tango-in-leipzig.de
SUMMARY:Tango Argentino Uni Halle
DESCRIPTION:
URL:https://tango-in-leipzig.de/event/tango-argentino-uni-halle-7/
LOCATION:Sporthalle Kröllwitz\, Halle\, 06120\, Germany
CATEGORIES:Kurs
END:VEVENT
BEGIN:VEVENT
DTSTART;TZID=Europe/Berlin:20260525T190000
DTEND;TZID=Europe/Berlin:20260525T203000
DTSTAMP:20260422T034757
CREATED:20260408T153427Z
LAST-MODIFIED:20260408T153427Z
UID:3172-1779735600-1779741000@tango-in-leipzig.de
SUMMARY:Mittelstufe I – Esquina
DESCRIPTION:Lehrer: Hector Corona & Silvina Machado.
URL:https://tango-in-leipzig.de/event/mittelstufe-i-esquina-7/
LOCATION:Esquina del Tango Erfurt\, Schlösserstr. 5\, Erfurt\, 99084\, Germany
CATEGORIES:Kurs
END:VEVENT
BEGIN:VEVENT
DTSTART;TZID=Europe/Berlin:20260525T190000
DTEND;TZID=Europe/Berlin:20260525T203000
DTSTAMP:20260422T034757
CREATED:20260408T153427Z
LAST-MODIFIED:20260408T153427Z
UID:3173-1779735600-1779741000@tango-in-leipzig.de
SUMMARY:Anfängerkurs Weimar
DESCRIPTION:Lehrer: Brigitte Backhaus & Carlos Tapia.
URL:https://tango-in-leipzig.de/event/anfaengerkurs-weimar-7/
LOCATION:mon ami Weimar\, Goetheplatz 11\, Weimar\, 99423\, Germany
CATEGORIES:Kurs
END:VEVENT
BEGIN:VEVENT
DTSTART;TZID=Europe/Berlin:20260525T193000
DTEND;TZID=Europe/Berlin:20260526T000000
DTSTAMP:20260422T034757
CREATED:20260417T092436Z
LAST-MODIFIED:20260417T092436Z
UID:4094-1779737400-1779753600@tango-in-leipzig.de
SUMMARY:Sentidos — Haus der Sinne
DESCRIPTION:Montagsmilonga im Haus der Sinne\, Prenzlauer Berg.
URL:https://tango-in-leipzig.de/event/sentidos-haus-der-sinne-6/
LOCATION:Haus der Sinne\, Ystader Str. 10\, Berlin\, 10437\, Germany
CATEGORIES:milonga
END:VEVENT
BEGIN:VEVENT
DTSTART;TZID=Europe/Berlin:20260525T200000
DTEND;TZID=Europe/Berlin:20260525T230000
DTSTAMP:20260422T034757
CREATED:20260417T092436Z
LAST-MODIFIED:20260417T092436Z
UID:4095-1779739200-1779750000@tango-in-leipzig.de
SUMMARY:Tango Club — Tango Studio Leipzig
DESCRIPTION:Wöchentlicher Tango Club. Offener Tanzabend.
URL:https://tango-in-leipzig.de/event/tango-club-tango-studio-leipzig-18/
LOCATION:Tango Studio Leipzig\, Brandvorwerkstraße 52-54\, Leipzig\, 04275\, Germany
CATEGORIES:milonga
ORGANIZER;CN="Tango Studio Leipzig":MAILTO:thoma@tangostudioleipzig.de
END:VEVENT
BEGIN:VEVENT
DTSTART;TZID=Europe/Berlin:20260525T203000
DTEND;TZID=Europe/Berlin:20260525T223000
DTSTAMP:20260422T034757
CREATED:20260408T153427Z
LAST-MODIFIED:20260408T153427Z
UID:3171-1779741000-1779748200@tango-in-leipzig.de
SUMMARY:Practilonga Esquina
DESCRIPTION:
URL:https://tango-in-leipzig.de/event/practilonga-esquina-7/
LOCATION:Esquina del Tango Erfurt\, Schlösserstr. 5\, Erfurt\, 99084\, Germany
CATEGORIES:practica
END:VEVENT
BEGIN:VEVENT
DTSTART;TZID=Europe/Berlin:20260525T210000
DTEND;TZID=Europe/Berlin:20260526T010000
DTSTAMP:20260422T034757
CREATED:20260417T092436Z
LAST-MODIFIED:20260417T092436Z
UID:4096-1779742800-1779757200@tango-in-leipzig.de
SUMMARY:Milonga Popular — Tangoloft
DESCRIPTION:Montagsmilonga im Tangoloft\, Kreuzberg.
URL:https://tango-in-leipzig.de/event/milonga-popular-tangoloft-6/
LOCATION:Tangoloft\, Pfuelstr. 5\, Berlin\, 10997\, Germany
CATEGORIES:milonga
END:VEVENT
BEGIN:VEVENT
DTSTART;TZID=Europe/Berlin:20260526T181500
DTEND;TZID=Europe/Berlin:20260526T194500
DTSTAMP:20260422T034757
CREATED:20260408T153427Z
LAST-MODIFIED:20260408T153427Z
UID:3177-1779819300-1779824700@tango-in-leipzig.de
SUMMARY:Mittelstufe II – Esquina
DESCRIPTION:
URL:https://tango-in-leipzig.de/event/mittelstufe-ii-esquina-7/
LOCATION:Esquina del Tango Erfurt\, Schlösserstr. 5\, Erfurt\, 99084\, Germany
CATEGORIES:Kurs
END:VEVENT
BEGIN:VEVENT
DTSTART;TZID=Europe/Berlin:20260526T190000
DTEND;TZID=Europe/Berlin:20260526T220000
DTSTAMP:20260422T034757
CREATED:20260417T092436Z
LAST-MODIFIED:20260417T092436Z
UID:4097-1779822000-1779832800@tango-in-leipzig.de
SUMMARY:After-Work-Milonga — Balance-Zentrum Magdeburg
DESCRIPTION:Wöchentliche After-Work-Milonga. Bei warmem Wetter auf dem Glasbalkon an der Elbe.
URL:https://tango-in-leipzig.de/event/after-work-milonga-balance-zentrum-magdeburg-6/
LOCATION:Balance-Zentrum\, Nicolaistr. 5\, Magdeburg\, 39104\, Germany
CATEGORIES:milonga
END:VEVENT
BEGIN:VEVENT
DTSTART;TZID=Europe/Berlin:20260526T190000
DTEND;TZID=Europe/Berlin:20260526T230000
DTSTAMP:20260422T034757
CREATED:20260417T092436Z
LAST-MODIFIED:20260417T092436Z
UID:4098-1779822000-1779836400@tango-in-leipzig.de
SUMMARY:La Noche del Tango — Café Mosaik Magdeburg
DESCRIPTION:Offener Kurs mit Olenka & Patrick ab 19:00\, dann Milonga Tradicional 20:00–23:00 mit DJ Patrick.
URL:https://tango-in-leipzig.de/event/la-noche-del-tango-cafe-mosaik-magdeburg-6/
LOCATION:Café Mosaik\, Sternstr. 33\, Magdeburg\, 39104\, Germany
CATEGORIES:milonga
END:VEVENT
BEGIN:VEVENT
DTSTART;TZID=Europe/Berlin:20260526T190000
DTEND;TZID=Europe/Berlin:20260526T230000
DTSTAMP:20260422T034757
CREATED:20260417T092436Z
LAST-MODIFIED:20260417T092436Z
UID:4099-1779822000-1779836400@tango-in-leipzig.de
SUMMARY:TorEins Neolonga
DESCRIPTION:Dienstags-Neolonga in Kreuzberg. Eintritt frei.
URL:https://tango-in-leipzig.de/event/toreins-neolonga-6/
LOCATION:TorEins\, Möckernstr. 26\, Berlin\, 10963\, Germany
CATEGORIES:milonga
END:VEVENT
BEGIN:VEVENT
DTSTART;TZID=Europe/Berlin:20260526T200000
DTEND;TZID=Europe/Berlin:20260526T213000
DTSTAMP:20260422T034757
CREATED:20260408T153427Z
LAST-MODIFIED:20260408T153427Z
UID:3178-1779825600-1779831000@tango-in-leipzig.de
SUMMARY:Fortgeschrittene – Esquina
DESCRIPTION:
URL:https://tango-in-leipzig.de/event/fortgeschrittene-esquina-7/
LOCATION:Esquina del Tango Erfurt\, Schlösserstr. 5\, Erfurt\, 99084\, Germany
CATEGORIES:Kurs
END:VEVENT
BEGIN:VEVENT
DTSTART;TZID=Europe/Berlin:20260526T200000
DTEND;TZID=Europe/Berlin:20260527T010000
DTSTAMP:20260422T034757
CREATED:20260417T092436Z
LAST-MODIFIED:20260417T092436Z
UID:4101-1779825600-1779843600@tango-in-leipzig.de
SUMMARY:Tangonacht — Roter Salon / Volksbühne
DESCRIPTION:Dienstags-Tangonacht im Roten Salon an der Volksbühne\, Mitte.
URL:https://tango-in-leipzig.de/event/tangonacht-roter-salon-volksbuehne-6/
LOCATION:Roter Salon / Volksbühne\, Rosa-Luxemburg-Platz\, Berlin\, 10178\, Germany
CATEGORIES:milonga
END:VEVENT
BEGIN:VEVENT
DTSTART;TZID=Europe/Berlin:20260526T210000
DTEND;TZID=Europe/Berlin:20260526T233000
DTSTAMP:20260422T034757
CREATED:20260408T153427Z
LAST-MODIFIED:20260408T153427Z
UID:3176-1779829200-1779838200@tango-in-leipzig.de
SUMMARY:Practica Wasserhäuschen
DESCRIPTION:Dienstags-Practica von L-Tango e.V.
URL:https://tango-in-leipzig.de/event/practica-wasserhaeuschen-7/
LOCATION:Wasserhäuschen\, Industriestr. 72\, Leipzig\, 04229\, Germany
CATEGORIES:practica
END:VEVENT
BEGIN:VEVENT
DTSTART;TZID=Europe/Berlin:20260527T173000
DTEND;TZID=Europe/Berlin:20260527T183000
DTSTAMP:20260422T034757
CREATED:20260408T153427Z
LAST-MODIFIED:20260408T153427Z
UID:3184-1779903000-1779906600@tango-in-leipzig.de
SUMMARY:Anfängerkurs HTWK
DESCRIPTION:Lehrer: Nicole Terentjewa & Thomas Grau.
URL:https://tango-in-leipzig.de/event/anfaengerkurs-htwk-8/
LOCATION:HTWK Leipzig\, Gustav-Freytag-Str. 43-45\, Leipzig\, 04277\, Germany
CATEGORIES:Kurs
END:VEVENT
BEGIN:VEVENT
DTSTART;TZID=Europe/Berlin:20260527T174500
DTEND;TZID=Europe/Berlin:20260527T184500
DTSTAMP:20260422T034757
CREATED:20260408T153427Z
LAST-MODIFIED:20260408T153427Z
UID:3194-1779903900-1779907500@tango-in-leipzig.de
SUMMARY:Tango Grundstufe Gera
DESCRIPTION:Lehrer: Marion & Detlef. Kostenlose Probestunde.
URL:https://tango-in-leipzig.de/event/tango-grundstufe-gera-8/
LOCATION:Tanzschule Schulze Gera\, Friedrich-Naumann-Platz 3\, Gera\, 07545\, Germany
CATEGORIES:Kurs
END:VEVENT
BEGIN:VEVENT
DTSTART;TZID=Europe/Berlin:20260527T180000
DTEND;TZID=Europe/Berlin:20260527T191500
DTSTAMP:20260422T034757
CREATED:20260408T153427Z
LAST-MODIFIED:20260408T153427Z
UID:3190-1779904800-1779909300@tango-in-leipzig.de
SUMMARY:Anfänger II C-Tango
DESCRIPTION:
URL:https://tango-in-leipzig.de/event/anfaenger-ii-c-tango-4/
LOCATION:Kraftwerk e.V. Chemnitz\, Kassbergstr. 36\, Chemnitz\, 09112\, Germany
CATEGORIES:Kurs
END:VEVENT
BEGIN:VEVENT
DTSTART;TZID=Europe/Berlin:20260527T181500
DTEND;TZID=Europe/Berlin:20260527T193000
DTSTAMP:20260422T034757
CREATED:20260408T153427Z
LAST-MODIFIED:20260408T153427Z
UID:3182-1779905700-1779910200@tango-in-leipzig.de
SUMMARY:Mittelstufe – Sarah Mirren
DESCRIPTION:
URL:https://tango-in-leipzig.de/event/mittelstufe-sarah-mirren-8/
LOCATION:Sarah Mirren Tango\, Am Kanal 30\, Leipzig\, 04179\, Germany
CATEGORIES:Kurs
END:VEVENT
BEGIN:VEVENT
DTSTART;TZID=Europe/Berlin:20260527T183000
DTEND;TZID=Europe/Berlin:20260527T193000
DTSTAMP:20260422T034757
CREATED:20260408T153427Z
LAST-MODIFIED:20260408T153427Z
UID:3185-1779906600-1779910200@tango-in-leipzig.de
SUMMARY:Aufbaukurs HTWK
DESCRIPTION:Lehrer: Nicole Terentjewa & Thomas Grau.
URL:https://tango-in-leipzig.de/event/aufbaukurs-htwk-8/
LOCATION:HTWK Leipzig\, Gustav-Freytag-Str. 43-45\, Leipzig\, 04277\, Germany
CATEGORIES:Kurs
END:VEVENT
BEGIN:VEVENT
DTSTART;TZID=Europe/Berlin:20260527T183000
DTEND;TZID=Europe/Berlin:20260527T200000
DTSTAMP:20260422T034757
CREATED:20260408T153427Z
LAST-MODIFIED:20260408T153427Z
UID:3186-1779906600-1779912000@tango-in-leipzig.de
SUMMARY:Anfänger-Mittelstufe – Esquina
DESCRIPTION:
URL:https://tango-in-leipzig.de/event/anfaenger-mittelstufe-esquina-8/
LOCATION:Esquina del Tango Erfurt\, Schlösserstr. 5\, Erfurt\, 99084\, Germany
CATEGORIES:Kurs
END:VEVENT
BEGIN:VEVENT
DTSTART;TZID=Europe/Berlin:20260527T184500
DTEND;TZID=Europe/Berlin:20260527T201500
DTSTAMP:20260422T034757
CREATED:20260408T153427Z
LAST-MODIFIED:20260408T153427Z
UID:3195-1779907500-1779912900@tango-in-leipzig.de
SUMMARY:Tango Club (Fortgeschrittene) Gera
DESCRIPTION:
URL:https://tango-in-leipzig.de/event/tango-club-fortgeschrittene-gera-8/
LOCATION:Tanzschule Schulze Gera\, Friedrich-Naumann-Platz 3\, Gera\, 07545\, Germany
CATEGORIES:Kurs
END:VEVENT
BEGIN:VEVENT
DTSTART;TZID=Europe/Berlin:20260527T190000
DTEND;TZID=Europe/Berlin:20260527T201500
DTSTAMP:20260422T034757
CREATED:20260408T153427Z
LAST-MODIFIED:20260408T153427Z
UID:3180-1779908400-1779912900@tango-in-leipzig.de
SUMMARY:Level 3 Mittelstufe – Tangosalon
DESCRIPTION:
URL:https://tango-in-leipzig.de/event/level-3-mittelstufe-tangosalon-8/
LOCATION:Tangosalon Leipzig\, Holbeinstr. 29\, Leipzig\, 04229\, Germany
CATEGORIES:Kurs
END:VEVENT
BEGIN:VEVENT
DTSTART;TZID=Europe/Berlin:20260527T190000
DTEND;TZID=Europe/Berlin:20260527T203000
DTSTAMP:20260422T034757
CREATED:20260408T153427Z
LAST-MODIFIED:20260408T153427Z
UID:3193-1779908400-1779913800@tango-in-leipzig.de
SUMMARY:Basics – Seele des Tangos (La academia)
DESCRIPTION:Lehrerin: Carsta Mock.
URL:https://tango-in-leipzig.de/event/basics-seele-des-tangos-la-academia-8/
LOCATION:La academia\, Altleubnitz 11\, Dresden\, 01219\, Germany
CATEGORIES:Kurs
END:VEVENT
BEGIN:VEVENT
DTSTART;TZID=Europe/Berlin:20260527T191500
DTEND;TZID=Europe/Berlin:20260527T201500
DTSTAMP:20260422T034757
CREATED:20260408T153427Z
LAST-MODIFIED:20260408T153427Z
UID:3188-1779909300-1779912900@tango-in-leipzig.de
SUMMARY:Tango Grund-/Aufbaukurs Jena
DESCRIPTION:Lehrer: Rena & Olaf.
URL:https://tango-in-leipzig.de/event/tango-grund-aufbaukurs-jena-8/
LOCATION:Tanzhaus Jena\, Camsdorfer Ufer 17\, Jena\, 07749\, Germany
CATEGORIES:Kurs
END:VEVENT
BEGIN:VEVENT
DTSTART;TZID=Europe/Berlin:20260527T191500
DTEND;TZID=Europe/Berlin:20260527T203000
DTSTAMP:20260422T034757
CREATED:20260408T153427Z
LAST-MODIFIED:20260408T153427Z
UID:3191-1779909300-1779913800@tango-in-leipzig.de
SUMMARY:Mittelstufe II C-Tango
DESCRIPTION:
URL:https://tango-in-leipzig.de/event/mittelstufe-ii-c-tango-4/
LOCATION:Kraftwerk e.V. Chemnitz\, Kassbergstr. 36\, Chemnitz\, 09112\, Germany
CATEGORIES:Kurs
END:VEVENT
BEGIN:VEVENT
DTSTART;TZID=Europe/Berlin:20260527T193000
DTEND;TZID=Europe/Berlin:20260527T203000
DTSTAMP:20260422T034757
CREATED:20260408T153427Z
LAST-MODIFIED:20260408T153427Z
UID:3192-1779910200-1779913800@tango-in-leipzig.de
SUMMARY:TanzFabrik Mittelstufe
DESCRIPTION:
URL:https://tango-in-leipzig.de/event/tanzfabrik-mittelstufe-8/
LOCATION:TanzFabrik Chemnitz\, Neefestr. 58\, Chemnitz\, 09119\, Germany
CATEGORIES:Kurs
END:VEVENT
BEGIN:VEVENT
DTSTART;TZID=Europe/Berlin:20260527T193000
DTEND;TZID=Europe/Berlin:20260527T204500
DTSTAMP:20260422T034757
CREATED:20260408T153427Z
LAST-MODIFIED:20260408T153427Z
UID:3183-1779910200-1779914700@tango-in-leipzig.de
SUMMARY:Fortgeschrittene – Sarah Mirren
DESCRIPTION:
URL:https://tango-in-leipzig.de/event/fortgeschrittene-sarah-mirren-8/
LOCATION:Sarah Mirren Tango\, Am Kanal 30\, Leipzig\, 04179\, Germany
CATEGORIES:Kurs
END:VEVENT
BEGIN:VEVENT
DTSTART;TZID=Europe/Berlin:20260527T200000
DTEND;TZID=Europe/Berlin:20260527T213000
DTSTAMP:20260422T034757
CREATED:20260408T153427Z
LAST-MODIFIED:20260408T153427Z
UID:3187-1779912000-1779917400@tango-in-leipzig.de
SUMMARY:Mittelstufe-Fortgeschrittene – Esquina
DESCRIPTION:
URL:https://tango-in-leipzig.de/event/mittelstufe-fortgeschrittene-esquina-8/
LOCATION:Esquina del Tango Erfurt\, Schlösserstr. 5\, Erfurt\, 99084\, Germany
CATEGORIES:Kurs
END:VEVENT
BEGIN:VEVENT
DTSTART;TZID=Europe/Berlin:20260527T200000
DTEND;TZID=Europe/Berlin:20260528T010000
DTSTAMP:20260422T034757
CREATED:20260417T092436Z
LAST-MODIFIED:20260417T092436Z
UID:4105-1779912000-1779930000@tango-in-leipzig.de
SUMMARY:Ballhaus Milonga — Wedding
DESCRIPTION:Mittwochs-Milonga im Ballhaus Wedding.
URL:https://tango-in-leipzig.de/event/ballhaus-milonga-wedding-6/
LOCATION:Ballhaus Wedding\, Wriezener Str. 6\, Berlin\, 13359\, Germany
CATEGORIES:milonga
END:VEVENT
BEGIN:VEVENT
DTSTART;TZID=Europe/Berlin:20260527T202000
DTEND;TZID=Europe/Berlin:20260527T213000
DTSTAMP:20260422T034757
CREATED:20260408T153427Z
LAST-MODIFIED:20260408T153427Z
UID:3189-1779913200-1779917400@tango-in-leipzig.de
SUMMARY:Tango Mittelstufe Jena
DESCRIPTION:
URL:https://tango-in-leipzig.de/event/tango-mittelstufe-jena-8/
LOCATION:Tanzhaus Jena\, Camsdorfer Ufer 17\, Jena\, 07749\, Germany
CATEGORIES:Kurs
END:VEVENT
END:VCALENDAR