BEGIN:VCALENDAR
VERSION:2.0
PRODID:-//Tango in Leipzig - ECPv6.15.20//NONSGML v1.0//EN
CALSCALE:GREGORIAN
METHOD:PUBLISH
X-ORIGINAL-URL:https://tango-in-leipzig.de
X-WR-CALDESC:Veranstaltungen für Tango in Leipzig
REFRESH-INTERVAL;VALUE=DURATION:PT1H
X-Robots-Tag:noindex
X-PUBLISHED-TTL:PT1H
BEGIN:VTIMEZONE
TZID:Europe/Berlin
BEGIN:DAYLIGHT
TZOFFSETFROM:+0100
TZOFFSETTO:+0200
TZNAME:CEST
DTSTART:20250330T010000
END:DAYLIGHT
BEGIN:STANDARD
TZOFFSETFROM:+0200
TZOFFSETTO:+0100
TZNAME:CET
DTSTART:20251026T010000
END:STANDARD
BEGIN:DAYLIGHT
TZOFFSETFROM:+0100
TZOFFSETTO:+0200
TZNAME:CEST
DTSTART:20260329T010000
END:DAYLIGHT
BEGIN:STANDARD
TZOFFSETFROM:+0200
TZOFFSETTO:+0100
TZNAME:CET
DTSTART:20261025T010000
END:STANDARD
BEGIN:DAYLIGHT
TZOFFSETFROM:+0100
TZOFFSETTO:+0200
TZNAME:CEST
DTSTART:20270328T010000
END:DAYLIGHT
BEGIN:STANDARD
TZOFFSETFROM:+0200
TZOFFSETTO:+0100
TZNAME:CET
DTSTART:20271031T010000
END:STANDARD
END:VTIMEZONE
BEGIN:VEVENT
DTSTART;TZID=Europe/Berlin:20260521T160000
DTEND;TZID=Europe/Berlin:20260521T235900
DTSTAMP:20260421T213204
CREATED:20260408T153426Z
LAST-MODIFIED:20260408T153426Z
UID:3146-1779379200-1779407940@tango-in-leipzig.de
SUMMARY:Mattstedt Tango Weekend (Pfingsten)
DESCRIPTION:Tango-Wochenende 21.-25.05. mit Milongas\, Workshops\, Yoga und Sauna. Workshop-Lehrerin: Diana Cortes. DJs: Marcus Quander\, Annegret Stanke\, Seba Canto u.a. Preise inkl. Uebernachtung/Verpflegung.
URL:https://tango-in-leipzig.de/event/mattstedt-tango-weekend-pfingsten/
LOCATION:Mühlenhof Mattstedt\, Unterdorf 115\, Mattstedt\, 99510\, Germany
CATEGORIES:Festival
END:VEVENT
BEGIN:VEVENT
DTSTART;TZID=Europe/Berlin:20260521T170000
DTEND;TZID=Europe/Berlin:20260521T194500
DTSTAMP:20260421T213204
CREATED:20260417T092434Z
LAST-MODIFIED:20260417T092434Z
UID:4058-1779382800-1779392700@tango-in-leipzig.de
SUMMARY:Tangowerkstatt — Esquina del Tango Erfurt
DESCRIPTION:Donnerstags-Tangowerkstatt.
URL:https://tango-in-leipzig.de/event/tangowerkstatt-esquina-del-tango-erfurt-6/
LOCATION:Esquina del Tango\, Schlösserstr. 5\, Erfurt\, 99084\, Germany
CATEGORIES:practica
END:VEVENT
BEGIN:VEVENT
DTSTART;TZID=Europe/Berlin:20260521T180000
DTEND;TZID=Europe/Berlin:20260521T191500
DTSTAMP:20260421T213204
CREATED:20260408T153426Z
LAST-MODIFIED:20260408T153426Z
UID:3152-1779386400-1779390900@tango-in-leipzig.de
SUMMARY:Level 1 Basis – Tangosalon
DESCRIPTION:Anfaengerkurs. Einstieg jederzeit.
URL:https://tango-in-leipzig.de/event/level-1-basis-tangosalon-7/
LOCATION:Tangosalon Leipzig\, Holbeinstr. 29\, Leipzig\, 04229\, Germany
CATEGORIES:Kurs
END:VEVENT
BEGIN:VEVENT
DTSTART;TZID=Europe/Berlin:20260521T183000
DTEND;TZID=Europe/Berlin:20260521T194500
DTSTAMP:20260421T213204
CREATED:20260416T110551Z
LAST-MODIFIED:20260416T110551Z
UID:3643-1779388200-1779392700@tango-in-leipzig.de
SUMMARY:Tango Level 1/2
DESCRIPTION:Wöchentlicher Kurs für Anfänger und Mittelstufe. Lehrer: Juliane & Franz (Vertretung für Almut & Stefan). Anmeldung über Eversports.
URL:https://tango-in-leipzig.de/event/tango-level-1-2-6/
LOCATION:Tanzschule Tango Mio Halle\, Geiststraße 22\, Halle\, 06108\, Germany
CATEGORIES:Kurs
END:VEVENT
BEGIN:VEVENT
DTSTART;TZID=Europe/Berlin:20260521T183000
DTEND;TZID=Europe/Berlin:20260521T200000
DTSTAMP:20260421T213204
CREATED:20260408T153426Z
LAST-MODIFIED:20260408T153426Z
UID:3157-1779388200-1779393600@tango-in-leipzig.de
SUMMARY:Frauentechnik – Esquina
DESCRIPTION:Lehrerin: Silvina Machado.
URL:https://tango-in-leipzig.de/event/frauentechnik-esquina/
LOCATION:Esquina del Tango Erfurt\, Schlösserstr. 5\, Erfurt\, 99084\, Germany
CATEGORIES:Kurs
END:VEVENT
BEGIN:VEVENT
DTSTART;TZID=Europe/Berlin:20260521T184500
DTEND;TZID=Europe/Berlin:20260521T200000
DTSTAMP:20260421T213204
CREATED:20260408T153426Z
LAST-MODIFIED:20260408T153426Z
UID:3154-1779389100-1779393600@tango-in-leipzig.de
SUMMARY:BASIS-Kurs – Sarah Mirren
DESCRIPTION:Anfaengerkurs.
URL:https://tango-in-leipzig.de/event/basis-kurs-sarah-mirren-7/
LOCATION:Sarah Mirren Tango\, Am Kanal 30\, Leipzig\, 04179\, Germany
CATEGORIES:Kurs
END:VEVENT
BEGIN:VEVENT
DTSTART;TZID=Europe/Berlin:20260521T190000
DTEND;TZID=Europe/Berlin:20260521T200000
DTSTAMP:20260421T213204
CREATED:20260408T153426Z
LAST-MODIFIED:20260408T153426Z
UID:3158-1779390000-1779393600@tango-in-leipzig.de
SUMMARY:Donnerstagskurs Typisch Tango
DESCRIPTION:
URL:https://tango-in-leipzig.de/event/donnerstagskurs-typisch-tango-7/
LOCATION:Yogastudio Ekatra\, Seengässlein 3\, Erfurt\, 99084\, Germany
CATEGORIES:Kurs
END:VEVENT
BEGIN:VEVENT
DTSTART;TZID=Europe/Berlin:20260521T190000
DTEND;TZID=Europe/Berlin:20260521T200000
DTSTAMP:20260421T213204
CREATED:20260408T153426Z
LAST-MODIFIED:20260408T153426Z
UID:3160-1779390000-1779393600@tango-in-leipzig.de
SUMMARY:Tango-Kurs-Stunde Naumburg
DESCRIPTION:Lehrer: Hermhild & Jochen Hilgenberg.
URL:https://tango-in-leipzig.de/event/tango-kurs-stunde-naumburg-7/
LOCATION:JZ OTTO Naumburg\, Poststr. 31\, Naumburg\, 06618\, Germany
CATEGORIES:Kurs
END:VEVENT
BEGIN:VEVENT
DTSTART;TZID=Europe/Berlin:20260521T190000
DTEND;TZID=Europe/Berlin:20260521T210000
DTSTAMP:20260421T213204
CREATED:20260408T153426Z
LAST-MODIFIED:20260408T153426Z
UID:3150-1779390000-1779397200@tango-in-leipzig.de
SUMMARY:Angeleiteter Übungsabend Studio 24
DESCRIPTION:
URL:https://tango-in-leipzig.de/event/angeleiteter-uebungsabend-studio-24-7/
LOCATION:Studio 24 Dresden\, Grossenhainer Str. 29\, Dresden\, 01097\, Germany
CATEGORIES:practica
END:VEVENT
BEGIN:VEVENT
DTSTART;TZID=Europe/Berlin:20260521T193000
DTEND;TZID=Europe/Berlin:20260521T204500
DTSTAMP:20260421T213204
CREATED:20260408T153426Z
LAST-MODIFIED:20260408T153426Z
UID:3153-1779391800-1779396300@tango-in-leipzig.de
SUMMARY:Level 2 Aufbau – Tangosalon
DESCRIPTION:
URL:https://tango-in-leipzig.de/event/level-2-aufbau-tangosalon-7/
LOCATION:Tangosalon Leipzig\, Holbeinstr. 29\, Leipzig\, 04229\, Germany
CATEGORIES:Kurs
END:VEVENT
BEGIN:VEVENT
DTSTART;TZID=Europe/Berlin:20260521T193000
DTEND;TZID=Europe/Berlin:20260521T210000
DTSTAMP:20260421T213204
CREATED:20260408T153426Z
LAST-MODIFIED:20260408T153426Z
UID:3159-1779391800-1779397200@tango-in-leipzig.de
SUMMARY:Offener Tango-Kurs el Tango puro
DESCRIPTION:Lehrer: Marie & Norman.
URL:https://tango-in-leipzig.de/event/offener-tango-kurs-el-tango-puro-7/
LOCATION:el Tango puro Magdeburg\, Lüneburger Str. 26\, Magdeburg\, 39106\, Germany
CATEGORIES:Kurs
END:VEVENT
BEGIN:VEVENT
DTSTART;TZID=Europe/Berlin:20260521T193000
DTEND;TZID=Europe/Berlin:20260521T210000
DTSTAMP:20260421T213204
CREATED:20260408T153426Z
LAST-MODIFIED:20260408T153426Z
UID:3149-1779391800-1779397200@tango-in-leipzig.de
SUMMARY:Tango Praktika Weimar
DESCRIPTION:
URL:https://tango-in-leipzig.de/event/tango-praktika-weimar-7/
LOCATION:mon ami Weimar\, Goetheplatz 11\, Weimar\, 99423\, Germany
CATEGORIES:practica
END:VEVENT
BEGIN:VEVENT
DTSTART;TZID=Europe/Berlin:20260521T193000
DTEND;TZID=Europe/Berlin:20260521T221500
DTSTAMP:20260421T213204
CREATED:20260417T092435Z
LAST-MODIFIED:20260417T092435Z
UID:4064-1779391800-1779401700@tango-in-leipzig.de
SUMMARY:Praktika — Nou Tango
DESCRIPTION:Donnerstags-Praktika (nur Paare). Mitte.
URL:https://tango-in-leipzig.de/event/praktika-nou-tango-6/
LOCATION:Nou Tango\, Chausseestr. 102\, Berlin\, 10115\, Germany
CATEGORIES:practica
END:VEVENT
BEGIN:VEVENT
DTSTART;TZID=Europe/Berlin:20260521T193000
DTEND;TZID=Europe/Berlin:20260521T230000
DTSTAMP:20260421T213204
CREATED:20260417T092435Z
LAST-MODIFIED:20260417T092435Z
UID:4062-1779391800-1779404400@tango-in-leipzig.de
SUMMARY:Neolonga — Basecamp
DESCRIPTION:Donnerstags-Neolonga in Wilmersdorf.
URL:https://tango-in-leipzig.de/event/neolonga-basecamp-6/
LOCATION:Basecamp\, Düsseldorfer Str. 32\, Berlin\, 10707\, Germany
CATEGORIES:milonga
END:VEVENT
BEGIN:VEVENT
DTSTART;TZID=Europe/Berlin:20260521T200000
DTEND;TZID=Europe/Berlin:20260521T211500
DTSTAMP:20260421T213204
CREATED:20260408T153426Z
LAST-MODIFIED:20260408T153426Z
UID:3155-1779393600-1779398100@tango-in-leipzig.de
SUMMARY:Mittelstufe/Fortgeschrittene – Sarah Mirren
DESCRIPTION:
URL:https://tango-in-leipzig.de/event/mittelstufe-fortgeschrittene-sarah-mirren-7/
LOCATION:Sarah Mirren Tango\, Am Kanal 30\, Leipzig\, 04179\, Germany
CATEGORIES:Kurs
END:VEVENT
BEGIN:VEVENT
DTSTART;TZID=Europe/Berlin:20260521T200000
DTEND;TZID=Europe/Berlin:20260521T211500
DTSTAMP:20260421T213204
CREATED:20260416T110551Z
LAST-MODIFIED:20260416T110551Z
UID:3644-1779393600-1779398100@tango-in-leipzig.de
SUMMARY:Tango Level 3
DESCRIPTION:Wöchentlicher Kurs für Fortgeschrittene. Lehrer: Juliane & Franz (Vertretung für Almut & Stefan). Anmeldung über Eversports.
URL:https://tango-in-leipzig.de/event/tango-level-3-6/
LOCATION:Tanzschule Tango Mio Halle\, Geiststraße 22\, Halle\, 06108\, Germany
CATEGORIES:Kurs
END:VEVENT
BEGIN:VEVENT
DTSTART;TZID=Europe/Berlin:20260521T200000
DTEND;TZID=Europe/Berlin:20260521T213000
DTSTAMP:20260421T213204
CREATED:20260408T153426Z
LAST-MODIFIED:20260408T153426Z
UID:3156-1779393600-1779399000@tango-in-leipzig.de
SUMMARY:Anfänger-Mittelstufe Do – Esquina
DESCRIPTION:
URL:https://tango-in-leipzig.de/event/anfaenger-mittelstufe-do-esquina-7/
LOCATION:Esquina del Tango Erfurt\, Schlösserstr. 5\, Erfurt\, 99084\, Germany
CATEGORIES:Kurs
END:VEVENT
BEGIN:VEVENT
DTSTART;TZID=Europe/Berlin:20260521T200000
DTEND;TZID=Europe/Berlin:20260521T213000
DTSTAMP:20260421T213204
CREATED:20260408T153426Z
LAST-MODIFIED:20260408T153426Z
UID:3151-1779393600-1779399000@tango-in-leipzig.de
SUMMARY:Tanzen-und-Üben Naumburg
DESCRIPTION:
URL:https://tango-in-leipzig.de/event/tanzen-und-ueben-naumburg-7/
LOCATION:JZ OTTO Naumburg\, Poststr. 31\, Naumburg\, 06618\, Germany
CATEGORIES:practica
END:VEVENT
BEGIN:VEVENT
DTSTART;TZID=Europe/Berlin:20260521T201500
DTEND;TZID=Europe/Berlin:20260521T230000
DTSTAMP:20260421T213204
CREATED:20260408T153426Z
LAST-MODIFIED:20260408T153426Z
UID:3148-1779394500-1779404400@tango-in-leipzig.de
SUMMARY:Übungsabend Typisch Tango
DESCRIPTION:
URL:https://tango-in-leipzig.de/event/uebungsabend-typisch-tango-7/
LOCATION:Yogastudio Ekatra\, Seengässlein 3\, Erfurt\, 99084\, Germany
CATEGORIES:practica
END:VEVENT
BEGIN:VEVENT
DTSTART;TZID=Europe/Berlin:20260521T201500
DTEND;TZID=Europe/Berlin:20260521T230000
DTSTAMP:20260421T213204
CREATED:20260417T092435Z
LAST-MODIFIED:20260417T092435Z
UID:4065-1779394500-1779404400@tango-in-leipzig.de
SUMMARY:Übungsabend — Estación del Tango Erfurt
DESCRIPTION:Donnerstags-Übungsabend.
URL:https://tango-in-leipzig.de/event/uebungsabend-estacion-del-tango-erfurt-6/
LOCATION:Estación del Tango\, Schmidtstedter Str. 34\, Erfurt\, 99084\, Germany
CATEGORIES:practica
END:VEVENT
BEGIN:VEVENT
DTSTART;TZID=Europe/Berlin:20260521T210000
DTEND;TZID=Europe/Berlin:20260521T233000
DTSTAMP:20260421T213204
CREATED:20260408T153426Z
LAST-MODIFIED:20260408T153426Z
UID:3147-1779397200-1779406200@tango-in-leipzig.de
SUMMARY:Sarahs Milonga
DESCRIPTION:
URL:https://tango-in-leipzig.de/event/sarahs-milonga-3/
LOCATION:Sarah Mirren Tango\, Am Kanal 30\, Leipzig\, 04179\, Germany
CATEGORIES:milonga
END:VEVENT
BEGIN:VEVENT
DTSTART;TZID=Europe/Berlin:20260521T210500
DTEND;TZID=Europe/Berlin:20260521T224500
DTSTAMP:20260421T213204
CREATED:20260417T092435Z
LAST-MODIFIED:20260417T092435Z
UID:4069-1779397500-1779403500@tango-in-leipzig.de
SUMMARY:Get the Step Practica — Mala Junta
DESCRIPTION:Donnerstags-Practica in Schöneberg.
URL:https://tango-in-leipzig.de/event/get-the-step-practica-mala-junta-6/
LOCATION:Mala Junta\, Kolonnenstr. 29\, Berlin\, 10829\, Germany
CATEGORIES:practica
END:VEVENT
BEGIN:VEVENT
DTSTART;TZID=Europe/Berlin:20260521T211500
DTEND;TZID=Europe/Berlin:20260521T231500
DTSTAMP:20260421T213204
CREATED:20260417T092435Z
LAST-MODIFIED:20260417T092435Z
UID:4070-1779398100-1779405300@tango-in-leipzig.de
SUMMARY:Praktika — Alte Bahnhofshalle Friedenau
DESCRIPTION:Donnerstags-Praktika in Friedenau/Steglitz.
URL:https://tango-in-leipzig.de/event/praktika-alte-bahnhofshalle-friedenau-6/
LOCATION:Alte Bahnhofshalle Friedenau\, Bahnhofstr. 4D\, Berlin\, 12159\, Germany
CATEGORIES:practica
END:VEVENT
BEGIN:VEVENT
DTSTART;TZID=Europe/Berlin:20260522T190000
DTEND;TZID=Europe/Berlin:20260524T030000
DTSTAMP:20260421T213204
CREATED:20260417T092435Z
LAST-MODIFIED:20260417T092435Z
UID:4075-1779476400-1779591600@tango-in-leipzig.de
SUMMARY:El Contrapunto — Queer & Open Role Tango Marathon
DESCRIPTION:3. Edition. Pfingstwochenende. 90 % traditionell\, keine Neo/Non-Tango. DJs: Lea Hart\, Paz u.a. Catering inkludiert. Berlin-Kreuzberg.
URL:https://tango-in-leipzig.de/event/el-contrapunto-queer-open-role-tango-marathon/
LOCATION:Ballhaus Kuchus\, Berlin\, Germany
CATEGORIES:Festival
END:VEVENT
BEGIN:VEVENT
DTSTART;TZID=Europe/Berlin:20260522T200000
DTEND;TZID=Europe/Berlin:20260522T210000
DTSTAMP:20260421T213204
CREATED:20260408T153426Z
LAST-MODIFIED:20260408T153426Z
UID:3163-1779480000-1779483600@tango-in-leipzig.de
SUMMARY:Freitags-Practica (angeleitet)
DESCRIPTION:
URL:https://tango-in-leipzig.de/event/freitags-practica-angeleitet-7/
LOCATION:Tangosalon Leipzig\, Holbeinstr. 29\, Leipzig\, 04229\, Germany
CATEGORIES:practica
END:VEVENT
BEGIN:VEVENT
DTSTART;TZID=Europe/Berlin:20260522T200000
DTEND;TZID=Europe/Berlin:20260522T210000
DTSTAMP:20260421T213204
CREATED:20260408T153426Z
LAST-MODIFIED:20260408T153426Z
UID:3164-1779480000-1779483600@tango-in-leipzig.de
SUMMARY:Offener Tangokurs Studio 24
DESCRIPTION:Vor der Freitags-Milonga.
URL:https://tango-in-leipzig.de/event/offener-tangokurs-studio-24-7/
LOCATION:Studio 24 Dresden\, Grossenhainer Str. 29\, Dresden\, 01097\, Germany
CATEGORIES:Kurs
END:VEVENT
BEGIN:VEVENT
DTSTART;TZID=Europe/Berlin:20260522T210000
DTEND;TZID=Europe/Berlin:20260523T000000
DTSTAMP:20260421T213204
CREATED:20260408T153426Z
LAST-MODIFIED:20260408T153426Z
UID:3162-1779483600-1779494400@tango-in-leipzig.de
SUMMARY:Freitags-Milonga Studio 24
DESCRIPTION:Offener Kurs ab 20:00 (10 EUR inkl. Tanzabend).
URL:https://tango-in-leipzig.de/event/freitags-milonga-studio-24-7/
LOCATION:Studio 24 Dresden\, Grossenhainer Str. 29\, Dresden\, 01097\, Germany
CATEGORIES:milonga
END:VEVENT
BEGIN:VEVENT
DTSTART;TZID=Europe/Berlin:20260522T210000
DTEND;TZID=Europe/Berlin:20260523T010000
DTSTAMP:20260421T213204
CREATED:20260408T153426Z
LAST-MODIFIED:20260408T153426Z
UID:3161-1779483600-1779498000@tango-in-leipzig.de
SUMMARY:Freitags-Milonga Tangosalon
DESCRIPTION:
URL:https://tango-in-leipzig.de/event/freitags-milonga-tangosalon-6/
LOCATION:Tangosalon Leipzig\, Holbeinstr. 29\, Leipzig\, 04229\, Germany
CATEGORIES:milonga
END:VEVENT
BEGIN:VEVENT
DTSTART;TZID=Europe/Berlin:20260522T210000
DTEND;TZID=Europe/Berlin:20260523T020000
DTSTAMP:20260421T213204
CREATED:20260417T092435Z
LAST-MODIFIED:20260417T092435Z
UID:4079-1779483600-1779501600@tango-in-leipzig.de
SUMMARY:Live-Milonga / Pista Doble — Haus der Sinne
DESCRIPTION:Freitags-Live-Milonga / Pista Doble im Haus der Sinne\, Prenzlauer Berg.
URL:https://tango-in-leipzig.de/event/live-milonga-pista-doble-haus-der-sinne-6/
LOCATION:Haus der Sinne\, Ystader Str. 10\, Berlin\, 10437\, Germany
CATEGORIES:milonga
END:VEVENT
BEGIN:VEVENT
DTSTART;TZID=Europe/Berlin:20260522T210000
DTEND;TZID=Europe/Berlin:20260523T030000
DTSTAMP:20260421T213204
CREATED:20260417T092435Z
LAST-MODIFIED:20260417T092435Z
UID:4076-1779483600-1779505200@tango-in-leipzig.de
SUMMARY:Die Freitagsmilonga — Nou Tango
DESCRIPTION:Freitags-Milonga im Nou Tango\, Mitte.
URL:https://tango-in-leipzig.de/event/die-freitagsmilonga-nou-tango-6/
LOCATION:Nou Tango\, Chausseestr. 102\, Berlin\, 10115\, Germany
CATEGORIES:milonga
END:VEVENT
END:VCALENDAR