BEGIN:VCALENDAR
VERSION:2.0
PRODID:-//Tango in Leipzig - ECPv6.15.20//NONSGML v1.0//EN
CALSCALE:GREGORIAN
METHOD:PUBLISH
X-ORIGINAL-URL:https://tango-in-leipzig.de
X-WR-CALDESC:Veranstaltungen für Tango in Leipzig
REFRESH-INTERVAL;VALUE=DURATION:PT1H
X-Robots-Tag:noindex
X-PUBLISHED-TTL:PT1H
BEGIN:VTIMEZONE
TZID:Europe/Berlin
BEGIN:DAYLIGHT
TZOFFSETFROM:+0100
TZOFFSETTO:+0200
TZNAME:CEST
DTSTART:20250330T010000
END:DAYLIGHT
BEGIN:STANDARD
TZOFFSETFROM:+0200
TZOFFSETTO:+0100
TZNAME:CET
DTSTART:20251026T010000
END:STANDARD
BEGIN:DAYLIGHT
TZOFFSETFROM:+0100
TZOFFSETTO:+0200
TZNAME:CEST
DTSTART:20260329T010000
END:DAYLIGHT
BEGIN:STANDARD
TZOFFSETFROM:+0200
TZOFFSETTO:+0100
TZNAME:CET
DTSTART:20261025T010000
END:STANDARD
BEGIN:DAYLIGHT
TZOFFSETFROM:+0100
TZOFFSETTO:+0200
TZNAME:CEST
DTSTART:20270328T010000
END:DAYLIGHT
BEGIN:STANDARD
TZOFFSETFROM:+0200
TZOFFSETTO:+0100
TZNAME:CET
DTSTART:20271031T010000
END:STANDARD
END:VTIMEZONE
BEGIN:VEVENT
DTSTART;TZID=Europe/Berlin:20260515T203000
DTEND;TZID=Europe/Berlin:20260515T233000
DTSTAMP:20260421T124655
CREATED:20260417T092433Z
LAST-MODIFIED:20260417T092433Z
UID:4018-1778877000-1778887800@tango-in-leipzig.de
SUMMARY:Milonga — TangoMio Halle
DESCRIPTION:Milonga bei TangoMio. Jeden 2. Freitag.
URL:https://tango-in-leipzig.de/event/milonga-tangomio-halle-3/
LOCATION:TangoMio Halle\, Geiststr. 22 (3. OG)\, Halle\, 06108\, Germany
CATEGORIES:milonga
END:VEVENT
BEGIN:VEVENT
DTSTART;TZID=Europe/Berlin:20260515T210000
DTEND;TZID=Europe/Berlin:20260516T000000
DTSTAMP:20260421T124655
CREATED:20260408T153424Z
LAST-MODIFIED:20260408T153424Z
UID:3103-1778878800-1778889600@tango-in-leipzig.de
SUMMARY:Freitags-Milonga Studio 24
DESCRIPTION:Offener Kurs ab 20:00 (10 EUR inkl. Tanzabend).
URL:https://tango-in-leipzig.de/event/freitags-milonga-studio-24-6/
LOCATION:Studio 24 Dresden\, Grossenhainer Str. 29\, Dresden\, 01097\, Germany
CATEGORIES:milonga
END:VEVENT
BEGIN:VEVENT
DTSTART;TZID=Europe/Berlin:20260515T210000
DTEND;TZID=Europe/Berlin:20260516T010000
DTSTAMP:20260421T124655
CREATED:20260408T153424Z
LAST-MODIFIED:20260408T153424Z
UID:3102-1778878800-1778893200@tango-in-leipzig.de
SUMMARY:Freitags-Milonga Tangosalon
DESCRIPTION:
URL:https://tango-in-leipzig.de/event/freitags-milonga-tangosalon-5/
LOCATION:Tangosalon Leipzig\, Holbeinstr. 29\, Leipzig\, 04229\, Germany
CATEGORIES:milonga
END:VEVENT
BEGIN:VEVENT
DTSTART;TZID=Europe/Berlin:20260515T210000
DTEND;TZID=Europe/Berlin:20260516T020000
DTSTAMP:20260421T124655
CREATED:20260417T092433Z
LAST-MODIFIED:20260417T092433Z
UID:4022-1778878800-1778896800@tango-in-leipzig.de
SUMMARY:Live-Milonga / Pista Doble — Haus der Sinne
DESCRIPTION:Freitags-Live-Milonga / Pista Doble im Haus der Sinne\, Prenzlauer Berg.
URL:https://tango-in-leipzig.de/event/live-milonga-pista-doble-haus-der-sinne-5/
LOCATION:Haus der Sinne\, Ystader Str. 10\, Berlin\, 10437\, Germany
CATEGORIES:milonga
END:VEVENT
BEGIN:VEVENT
DTSTART;TZID=Europe/Berlin:20260515T210000
DTEND;TZID=Europe/Berlin:20260516T030000
DTSTAMP:20260421T124655
CREATED:20260417T092433Z
LAST-MODIFIED:20260417T092433Z
UID:4019-1778878800-1778900400@tango-in-leipzig.de
SUMMARY:Die Freitagsmilonga — Nou Tango
DESCRIPTION:Freitags-Milonga im Nou Tango\, Mitte.
URL:https://tango-in-leipzig.de/event/die-freitagsmilonga-nou-tango-5/
LOCATION:Nou Tango\, Chausseestr. 102\, Berlin\, 10115\, Germany
CATEGORIES:milonga
END:VEVENT
BEGIN:VEVENT
DTSTART;TZID=Europe/Berlin:20260516T150000
DTEND;TZID=Europe/Berlin:20260516T190000
DTSTAMP:20260421T124655
CREATED:20260417T092433Z
LAST-MODIFIED:20260417T092433Z
UID:4023-1778943600-1778958000@tango-in-leipzig.de
SUMMARY:Tango Café — Maxixe
DESCRIPTION:Samstag-Nachmittags-Milonga in Kreuzberg.
URL:https://tango-in-leipzig.de/event/tango-cafe-maxixe-5/
LOCATION:Maxixe\, Fidicinstr. 3\, Berlin\, 10965\, Germany
CATEGORIES:milonga
END:VEVENT
BEGIN:VEVENT
DTSTART;TZID=Europe/Berlin:20260516T153000
DTEND;TZID=Europe/Berlin:20260516T163000
DTSTAMP:20260421T124655
CREATED:20260408T153425Z
LAST-MODIFIED:20260408T153425Z
UID:3111-1778945400-1778949000@tango-in-leipzig.de
SUMMARY:Tango Club Näder
DESCRIPTION:
URL:https://tango-in-leipzig.de/event/tango-club-naeder-6/
LOCATION:Tanzschule Näder Jena\, Engelplatz 8\, Jena\, 07743\, Germany
CATEGORIES:Kurs
END:VEVENT
BEGIN:VEVENT
DTSTART;TZID=Europe/Berlin:20260516T160000
DTEND;TZID=Europe/Berlin:20260516T200000
DTSTAMP:20260421T124655
CREATED:20260417T092433Z
LAST-MODIFIED:20260417T092433Z
UID:4024-1778947200-1778961600@tango-in-leipzig.de
SUMMARY:Tango Café La Bruja / El Gato — weRK36
DESCRIPTION:Samstag-Nachmittags-Milonga in Schöneberg.
URL:https://tango-in-leipzig.de/event/tango-cafe-la-bruja-el-gato-werk36-5/
LOCATION:weRK36\, Ella-Barowsky-Str. 70\, Berlin\, 10829\, Germany
CATEGORIES:milonga
END:VEVENT
BEGIN:VEVENT
DTSTART;TZID=Europe/Berlin:20260516T170000
DTEND;TZID=Europe/Berlin:20260516T220000
DTSTAMP:20260421T124655
CREATED:20260417T092433Z
LAST-MODIFIED:20260417T092433Z
UID:4025-1778950800-1778968800@tango-in-leipzig.de
SUMMARY:Milonga La Remise
DESCRIPTION:Samstags-Milonga in Moabit auf Spendenbasis.
URL:https://tango-in-leipzig.de/event/milonga-la-remise-5/
LOCATION:La Remise\, Bremer Str. 68\, Berlin\, 10551\, Germany
CATEGORIES:milonga
END:VEVENT
BEGIN:VEVENT
DTSTART;TZID=Europe/Berlin:20260516T173000
DTEND;TZID=Europe/Berlin:20260516T190000
DTSTAMP:20260421T124655
CREATED:20260408T153424Z
LAST-MODIFIED:20260408T153424Z
UID:3110-1778952600-1778958000@tango-in-leipzig.de
SUMMARY:Tango-Schnupperstunde KVHS Apolda
DESCRIPTION:
URL:https://tango-in-leipzig.de/event/tango-schnupperstunde-kvhs-apolda/
LOCATION:KVHS Apolda\, Bernhardstr. 16\, Apolda\, 99510\, Germany
CATEGORIES:Schnupperkurs
END:VEVENT
BEGIN:VEVENT
DTSTART;TZID=Europe/Berlin:20260516T203000
DTEND;TZID=Europe/Berlin:20260517T003000
DTSTAMP:20260421T124655
CREATED:20260408T153424Z
LAST-MODIFIED:20260408T153424Z
UID:3107-1778963400-1778977800@tango-in-leipzig.de
SUMMARY:Samstagsmilonga Tres Tangos
DESCRIPTION:Kostenlose Tangostunde 19:45-20:30 vor jeder Milonga.
URL:https://tango-in-leipzig.de/event/samstagsmilonga-tres-tangos-6/
LOCATION:Tres Tangos Dresden\, Dornblüthstr. 16\, Dresden\, 01277\, Germany
CATEGORIES:milonga
END:VEVENT
BEGIN:VEVENT
DTSTART;TZID=Europe/Berlin:20260516T210000
DTEND;TZID=Europe/Berlin:20260517T030000
DTSTAMP:20260421T124655
CREATED:20260417T092433Z
LAST-MODIFIED:20260417T092433Z
UID:4029-1778965200-1778986800@tango-in-leipzig.de
SUMMARY:Tango Rouge — KitKatClub
DESCRIPTION:Samstags-Milonga im KitKatClub Basement\, Mitte. Strikter Dresscode.
URL:https://tango-in-leipzig.de/event/tango-rouge-kitkatclub-5/
LOCATION:KitKatClub\, Brückenstr. 1\, Berlin\, 10179\, Germany
CATEGORIES:milonga
END:VEVENT
BEGIN:VEVENT
DTSTART;TZID=Europe/Berlin:20260516T213000
DTEND;TZID=Europe/Berlin:20260517T020000
DTSTAMP:20260421T124655
CREATED:20260408T153424Z
LAST-MODIFIED:20260408T153424Z
UID:3106-1778967000-1778983200@tango-in-leipzig.de
SUMMARY:Milonga CENTRAL im Baileo
DESCRIPTION:Groesste regulaere Milonga Leipzigs. Gastgeber: Thoma & Sarah Mirren. DJ: Thoma.
URL:https://tango-in-leipzig.de/event/milonga-central-im-baileo-2/
LOCATION:Baileo – Tanzpassion Leipzig\, Dittrichring 17\, Leipzig\, 04109\, Germany
CATEGORIES:milonga
END:VEVENT
BEGIN:VEVENT
DTSTART;TZID=Europe/Berlin:20260517T110000
DTEND;TZID=Europe/Berlin:20260517T130000
DTSTAMP:20260421T124655
CREATED:20260417T092433Z
LAST-MODIFIED:20260417T092433Z
UID:4030-1779015600-1779022800@tango-in-leipzig.de
SUMMARY:Sonntags Tango Praktika — Mala Junta
DESCRIPTION:Sonntags-Practica in Schöneberg.
URL:https://tango-in-leipzig.de/event/sonntags-tango-praktika-mala-junta-5/
LOCATION:Mala Junta\, Kolonnenstr. 29\, Berlin\, 10829\, Germany
CATEGORIES:practica
END:VEVENT
BEGIN:VEVENT
DTSTART;TZID=Europe/Berlin:20260517T150000
DTEND;TZID=Europe/Berlin:20260517T210000
DTSTAMP:20260421T124655
CREATED:20260417T092433Z
LAST-MODIFIED:20260417T092433Z
UID:4031-1779030000-1779051600@tango-in-leipzig.de
SUMMARY:Café Domínguez — Nou Tango
DESCRIPTION:Sonntags-Milonga im Nou Tango\, Mitte.
URL:https://tango-in-leipzig.de/event/cafe-dominguez-nou-tango-5/
LOCATION:Nou Tango\, Chausseestr. 102\, Berlin\, 10115\, Germany
CATEGORIES:milonga
END:VEVENT
BEGIN:VEVENT
DTSTART;TZID=Europe/Berlin:20260517T160000
DTEND;TZID=Europe/Berlin:20260517T180000
DTSTAMP:20260421T124655
CREATED:20260408T153425Z
LAST-MODIFIED:20260408T153425Z
UID:3114-1779033600-1779040800@tango-in-leipzig.de
SUMMARY:Sonntagskurs Typisch Tango
DESCRIPTION:Offenes Level.
URL:https://tango-in-leipzig.de/event/sonntagskurs-typisch-tango-6/
LOCATION:Yogastudio Ekatra\, Seengässlein 3\, Erfurt\, 99084\, Germany
CATEGORIES:Kurs
END:VEVENT
BEGIN:VEVENT
DTSTART;TZID=Europe/Berlin:20260517T160000
DTEND;TZID=Europe/Berlin:20260517T200000
DTSTAMP:20260421T124655
CREATED:20260417T092433Z
LAST-MODIFIED:20260417T092433Z
UID:4033-1779033600-1779048000@tango-in-leipzig.de
SUMMARY:Tango zum Glück (Queer/Open Role) — TTMS
DESCRIPTION:Queer/Open-Role-Milonga in Kreuzberg.
URL:https://tango-in-leipzig.de/event/tango-zum-glueck-queer-open-role-ttms-5/
LOCATION:Tangotanzen macht schön (TTMS)\, Oranienstr. 185\, Berlin\, 10999\, Germany
CATEGORIES:milonga
END:VEVENT
BEGIN:VEVENT
DTSTART;TZID=Europe/Berlin:20260517T160000
DTEND;TZID=Europe/Berlin:20260517T200000
DTSTAMP:20260421T124655
CREATED:20260417T092433Z
LAST-MODIFIED:20260417T092433Z
UID:4032-1779033600-1779048000@tango-in-leipzig.de
SUMMARY:Sonntags-Milonga — Mala Junta
DESCRIPTION:Sonntags-Milonga (Atipica/Bien Pulenta/Mimosa rotierend) in Schöneberg.
URL:https://tango-in-leipzig.de/event/sonntags-milonga-mala-junta-5/
LOCATION:Mala Junta\, Kolonnenstr. 29\, Berlin\, 10829\, Germany
CATEGORIES:milonga
END:VEVENT
BEGIN:VEVENT
DTSTART;TZID=Europe/Berlin:20260517T180000
DTEND;TZID=Europe/Berlin:20260518T020000
DTSTAMP:20260421T124655
CREATED:20260417T092433Z
LAST-MODIFIED:20260417T092433Z
UID:4034-1779040800-1779069600@tango-in-leipzig.de
SUMMARY:Tangoloft Sunday Milonga
DESCRIPTION:Sonntags-Milonga im Tangoloft\, Kreuzberg.
URL:https://tango-in-leipzig.de/event/tangoloft-sunday-milonga-5/
LOCATION:Tangoloft\, Pfuelstr. 5\, Berlin\, 10997\, Germany
CATEGORIES:milonga
END:VEVENT
BEGIN:VEVENT
DTSTART;TZID=Europe/Berlin:20260517T183000
DTEND;TZID=Europe/Berlin:20260517T220000
DTSTAMP:20260421T124655
CREATED:20260408T153425Z
LAST-MODIFIED:20260408T153425Z
UID:3112-1779042600-1779055200@tango-in-leipzig.de
SUMMARY:Sonntags-Milonga Weimar
DESCRIPTION:
URL:https://tango-in-leipzig.de/event/sonntags-milonga-weimar-6/
LOCATION:Villa Anneliese\, Riessnerstr. 46\, Weimar\, 99423\, Germany
CATEGORIES:milonga
END:VEVENT
BEGIN:VEVENT
DTSTART;TZID=Europe/Berlin:20260517T190000
DTEND;TZID=Europe/Berlin:20260517T200000
DTSTAMP:20260421T124655
CREATED:20260408T153425Z
LAST-MODIFIED:20260408T153425Z
UID:3115-1779044400-1779048000@tango-in-leipzig.de
SUMMARY:TanzFabrik BASIC
DESCRIPTION:
URL:https://tango-in-leipzig.de/event/tanzfabrik-basic-6/
LOCATION:TanzFabrik Chemnitz\, Neefestr. 58\, Chemnitz\, 09119\, Germany
CATEGORIES:Kurs
END:VEVENT
BEGIN:VEVENT
DTSTART;TZID=Europe/Berlin:20260517T203000
DTEND;TZID=Europe/Berlin:20260517T220000
DTSTAMP:20260421T124655
CREATED:20260408T153425Z
LAST-MODIFIED:20260408T153425Z
UID:3113-1779049800-1779055200@tango-in-leipzig.de
SUMMARY:Übungskurs TanzFabrik Chemnitz
DESCRIPTION:
URL:https://tango-in-leipzig.de/event/uebungskurs-tanzfabrik-chemnitz-6/
LOCATION:TanzFabrik Chemnitz\, Neefestr. 58\, Chemnitz\, 09119\, Germany
CATEGORIES:practica
END:VEVENT
BEGIN:VEVENT
DTSTART;TZID=Europe/Berlin:20260518T183000
DTEND;TZID=Europe/Berlin:20260518T193000
DTSTAMP:20260421T124655
CREATED:20260408T153425Z
LAST-MODIFIED:20260408T153425Z
UID:3119-1779129000-1779132600@tango-in-leipzig.de
SUMMARY:Tango Club Hartwig
DESCRIPTION:
URL:https://tango-in-leipzig.de/event/tango-club-hartwig-6/
LOCATION:Tanzschule Hartwig Jena\, Lassallestr. 8\, Jena\, 07743\, Germany
CATEGORIES:Kurs
END:VEVENT
BEGIN:VEVENT
DTSTART;TZID=Europe/Berlin:20260518T183000
DTEND;TZID=Europe/Berlin:20260518T200000
DTSTAMP:20260421T124655
CREATED:20260408T153425Z
LAST-MODIFIED:20260408T153425Z
UID:3122-1779129000-1779134400@tango-in-leipzig.de
SUMMARY:Tango Argentino Uni Halle
DESCRIPTION:
URL:https://tango-in-leipzig.de/event/tango-argentino-uni-halle-6/
LOCATION:Sporthalle Kröllwitz\, Halle\, 06120\, Germany
CATEGORIES:Kurs
END:VEVENT
BEGIN:VEVENT
DTSTART;TZID=Europe/Berlin:20260518T190000
DTEND;TZID=Europe/Berlin:20260518T203000
DTSTAMP:20260421T124655
CREATED:20260408T153425Z
LAST-MODIFIED:20260408T153425Z
UID:3117-1779130800-1779136200@tango-in-leipzig.de
SUMMARY:Mittelstufe I – Esquina
DESCRIPTION:Lehrer: Hector Corona & Silvina Machado.
URL:https://tango-in-leipzig.de/event/mittelstufe-i-esquina-6/
LOCATION:Esquina del Tango Erfurt\, Schlösserstr. 5\, Erfurt\, 99084\, Germany
CATEGORIES:Kurs
END:VEVENT
BEGIN:VEVENT
DTSTART;TZID=Europe/Berlin:20260518T190000
DTEND;TZID=Europe/Berlin:20260518T203000
DTSTAMP:20260421T124655
CREATED:20260408T153425Z
LAST-MODIFIED:20260408T153425Z
UID:3118-1779130800-1779136200@tango-in-leipzig.de
SUMMARY:Anfängerkurs Weimar
DESCRIPTION:Lehrer: Brigitte Backhaus & Carlos Tapia.
URL:https://tango-in-leipzig.de/event/anfaengerkurs-weimar-6/
LOCATION:mon ami Weimar\, Goetheplatz 11\, Weimar\, 99423\, Germany
CATEGORIES:Kurs
END:VEVENT
BEGIN:VEVENT
DTSTART;TZID=Europe/Berlin:20260518T191500
DTEND;TZID=Europe/Berlin:20260518T201500
DTSTAMP:20260421T124655
CREATED:20260408T153425Z
LAST-MODIFIED:20260408T153425Z
UID:3120-1779131700-1779135300@tango-in-leipzig.de
SUMMARY:Anfängerkurs Studio 24
DESCRIPTION:
URL:https://tango-in-leipzig.de/event/anfaengerkurs-studio-24-6/
LOCATION:Studio 24 Dresden\, Grossenhainer Str. 29\, Dresden\, 01097\, Germany
CATEGORIES:Kurs
END:VEVENT
BEGIN:VEVENT
DTSTART;TZID=Europe/Berlin:20260518T193000
DTEND;TZID=Europe/Berlin:20260519T000000
DTSTAMP:20260421T124655
CREATED:20260417T092434Z
LAST-MODIFIED:20260417T092434Z
UID:4037-1779132600-1779148800@tango-in-leipzig.de
SUMMARY:Sentidos — Haus der Sinne
DESCRIPTION:Montagsmilonga im Haus der Sinne\, Prenzlauer Berg.
URL:https://tango-in-leipzig.de/event/sentidos-haus-der-sinne-5/
LOCATION:Haus der Sinne\, Ystader Str. 10\, Berlin\, 10437\, Germany
CATEGORIES:milonga
END:VEVENT
BEGIN:VEVENT
DTSTART;TZID=Europe/Berlin:20260518T200000
DTEND;TZID=Europe/Berlin:20260518T230000
DTSTAMP:20260421T124655
CREATED:20260408T192204Z
LAST-MODIFIED:20260408T192204Z
UID:3518-1779134400-1779145200@tango-in-leipzig.de
SUMMARY:Tango Club – Tango Studio Leipzig
DESCRIPTION:
URL:https://tango-in-leipzig.de/event/tango-club-tango-studio-leipzig-6/
LOCATION:Tango Studio Leipzig\, Brandvorwerkstraße 52-54\, Leipzig\, 04275\, Germany
CATEGORIES:milonga
ORGANIZER;CN="Tango Studio Leipzig":MAILTO:thoma@tangostudioleipzig.de
END:VEVENT
BEGIN:VEVENT
DTSTART;TZID=Europe/Berlin:20260518T201500
DTEND;TZID=Europe/Berlin:20260518T211500
DTSTAMP:20260421T124655
CREATED:20260408T153425Z
LAST-MODIFIED:20260408T153425Z
UID:3121-1779135300-1779138900@tango-in-leipzig.de
SUMMARY:Mittelstufe/Fortgeschrittene Studio 24
DESCRIPTION:
URL:https://tango-in-leipzig.de/event/mittelstufe-fortgeschrittene-studio-24-6/
LOCATION:Studio 24 Dresden\, Grossenhainer Str. 29\, Dresden\, 01097\, Germany
CATEGORIES:Kurs
END:VEVENT
END:VCALENDAR