BEGIN:VCALENDAR
VERSION:2.0
PRODID:-//Tango in Leipzig - ECPv6.15.20//NONSGML v1.0//EN
CALSCALE:GREGORIAN
METHOD:PUBLISH
X-WR-CALNAME:Tango in Leipzig
X-ORIGINAL-URL:https://tango-in-leipzig.de
X-WR-CALDESC:Veranstaltungen für Tango in Leipzig
REFRESH-INTERVAL;VALUE=DURATION:PT1H
X-Robots-Tag:noindex
X-PUBLISHED-TTL:PT1H
BEGIN:VTIMEZONE
TZID:Europe/Berlin
BEGIN:DAYLIGHT
TZOFFSETFROM:+0100
TZOFFSETTO:+0200
TZNAME:CEST
DTSTART:20250330T010000
END:DAYLIGHT
BEGIN:STANDARD
TZOFFSETFROM:+0200
TZOFFSETTO:+0100
TZNAME:CET
DTSTART:20251026T010000
END:STANDARD
BEGIN:DAYLIGHT
TZOFFSETFROM:+0100
TZOFFSETTO:+0200
TZNAME:CEST
DTSTART:20260329T010000
END:DAYLIGHT
BEGIN:STANDARD
TZOFFSETFROM:+0200
TZOFFSETTO:+0100
TZNAME:CET
DTSTART:20261025T010000
END:STANDARD
BEGIN:DAYLIGHT
TZOFFSETFROM:+0100
TZOFFSETTO:+0200
TZNAME:CEST
DTSTART:20270328T010000
END:DAYLIGHT
BEGIN:STANDARD
TZOFFSETFROM:+0200
TZOFFSETTO:+0100
TZNAME:CET
DTSTART:20271031T010000
END:STANDARD
END:VTIMEZONE
BEGIN:VEVENT
DTSTART;TZID=Europe/Berlin:20260723T193000
DTEND;TZID=Europe/Berlin:20260723T210000
DTSTAMP:20260425T053220
CREATED:20260417T092453Z
LAST-MODIFIED:20260417T092453Z
UID:4558-1784835000-1784840400@tango-in-leipzig.de
SUMMARY:Offener Tangokurs — el Tango puro Magdeburg
DESCRIPTION:Offener Kurs Do 19:30–21:00 für Anfänger\, (Wieder-)Einsteiger und Mittelstufe. Eingang hinten zwischen 26a und 26b.
URL:https://tango-in-leipzig.de/event/offener-tangokurs-el-tango-puro-magdeburg-15/
LOCATION:Tanz- und Sportverein Magdeburg\, Lüneburger Str. 26\, Magdeburg\, 39106\, Germany
CATEGORIES:Kurs
END:VEVENT
BEGIN:VEVENT
DTSTART;TZID=Europe/Berlin:20260723T193000
DTEND;TZID=Europe/Berlin:20260723T210000
DTSTAMP:20260425T053220
CREATED:20260417T092453Z
LAST-MODIFIED:20260417T092453Z
UID:4560-1784835000-1784840400@tango-in-leipzig.de
SUMMARY:Tango Praktika Weimar
DESCRIPTION:Wöchentliche Donnerstags-Praktika.
URL:https://tango-in-leipzig.de/event/tango-praktika-weimar-16/
LOCATION:mon ami Weimar\, Goetheplatz 11\, Weimar\, 99423\, Germany
CATEGORIES:practica
END:VEVENT
BEGIN:VEVENT
DTSTART;TZID=Europe/Berlin:20260723T193000
DTEND;TZID=Europe/Berlin:20260723T221500
DTSTAMP:20260425T053220
CREATED:20260417T092453Z
LAST-MODIFIED:20260417T092453Z
UID:4559-1784835000-1784844900@tango-in-leipzig.de
SUMMARY:Praktika — Nou Tango
DESCRIPTION:Donnerstags-Praktika (nur Paare). Mitte.
URL:https://tango-in-leipzig.de/event/praktika-nou-tango-15/
LOCATION:Nou Tango\, Chausseestr. 102\, Berlin\, 10115\, Germany
CATEGORIES:practica
END:VEVENT
BEGIN:VEVENT
DTSTART;TZID=Europe/Berlin:20260723T193000
DTEND;TZID=Europe/Berlin:20260723T230000
DTSTAMP:20260425T053220
CREATED:20260417T092453Z
LAST-MODIFIED:20260417T092453Z
UID:4557-1784835000-1784847600@tango-in-leipzig.de
SUMMARY:Neolonga — Basecamp
DESCRIPTION:Donnerstags-Neolonga in Wilmersdorf.
URL:https://tango-in-leipzig.de/event/neolonga-basecamp-15/
LOCATION:Basecamp\, Düsseldorfer Str. 32\, Berlin\, 10707\, Germany
CATEGORIES:milonga
END:VEVENT
BEGIN:VEVENT
DTSTART;TZID=Europe/Berlin:20260723T200000
DTEND;TZID=Europe/Berlin:20260723T211500
DTSTAMP:20260425T053220
CREATED:20260416T110551Z
LAST-MODIFIED:20260416T110551Z
UID:3662-1784836800-1784841300@tango-in-leipzig.de
SUMMARY:Tango Level 3
DESCRIPTION:Wöchentlicher Kurs für Fortgeschrittene. Lehrer: Juliane & Franz (Vertretung für Almut & Stefan). Anmeldung über Eversports.
URL:https://tango-in-leipzig.de/event/tango-level-3-15/
LOCATION:Tanzschule Tango Mio Halle\, Geiststraße 22\, Halle\, 06108\, Germany
CATEGORIES:Kurs
END:VEVENT
BEGIN:VEVENT
DTSTART;TZID=Europe/Berlin:20260723T200000
DTEND;TZID=Europe/Berlin:20260723T213000
DTSTAMP:20260425T053220
CREATED:20260417T092453Z
LAST-MODIFIED:20260417T092453Z
UID:4561-1784836800-1784842200@tango-in-leipzig.de
SUMMARY:Tanzen-und-Üben Naumburg
DESCRIPTION:Wöchentliches Tanzen-und-Üben im Anschluss an die Kurs-Stunde.
URL:https://tango-in-leipzig.de/event/tanzen-und-ueben-naumburg-16/
LOCATION:JZ OTTO Naumburg\, Poststr. 31\, Naumburg\, 06618\, Germany
CATEGORIES:practica
END:VEVENT
BEGIN:VEVENT
DTSTART;TZID=Europe/Berlin:20260723T201500
DTEND;TZID=Europe/Berlin:20260723T230000
DTSTAMP:20260425T053220
CREATED:20260417T092454Z
LAST-MODIFIED:20260417T092454Z
UID:4562-1784837700-1784847600@tango-in-leipzig.de
SUMMARY:Übungsabend — Estación del Tango Erfurt
DESCRIPTION:Donnerstags-Übungsabend.
URL:https://tango-in-leipzig.de/event/uebungsabend-estacion-del-tango-erfurt-15/
LOCATION:Estación del Tango\, Schmidtstedter Str. 34\, Erfurt\, 99084\, Germany
CATEGORIES:practica
END:VEVENT
BEGIN:VEVENT
DTSTART;TZID=Europe/Berlin:20260723T210500
DTEND;TZID=Europe/Berlin:20260723T224500
DTSTAMP:20260425T053220
CREATED:20260417T092454Z
LAST-MODIFIED:20260417T092454Z
UID:4566-1784840700-1784846700@tango-in-leipzig.de
SUMMARY:Get the Step Practica — Mala Junta
DESCRIPTION:Donnerstags-Practica in Schöneberg.
URL:https://tango-in-leipzig.de/event/get-the-step-practica-mala-junta-15/
LOCATION:Mala Junta\, Kolonnenstr. 29\, Berlin\, 10829\, Germany
CATEGORIES:practica
END:VEVENT
BEGIN:VEVENT
DTSTART;TZID=Europe/Berlin:20260723T211500
DTEND;TZID=Europe/Berlin:20260723T231500
DTSTAMP:20260425T053220
CREATED:20260417T092454Z
LAST-MODIFIED:20260417T092454Z
UID:4567-1784841300-1784848500@tango-in-leipzig.de
SUMMARY:Praktika — Alte Bahnhofshalle Friedenau
DESCRIPTION:Donnerstags-Praktika in Friedenau/Steglitz.
URL:https://tango-in-leipzig.de/event/praktika-alte-bahnhofshalle-friedenau-15/
LOCATION:Alte Bahnhofshalle Friedenau\, Bahnhofstr. 4D\, Berlin\, 12159\, Germany
CATEGORIES:practica
END:VEVENT
BEGIN:VEVENT
DTSTART;TZID=Europe/Berlin:20260724T203000
DTEND;TZID=Europe/Berlin:20260724T233000
DTSTAMP:20260425T053220
CREATED:20260417T092454Z
LAST-MODIFIED:20260417T092454Z
UID:4570-1784925000-1784935800@tango-in-leipzig.de
SUMMARY:Milonga — TangoMio Halle
DESCRIPTION:Milonga bei TangoMio. Jeden 2. Freitag.
URL:https://tango-in-leipzig.de/event/milonga-tangomio-halle-8/
LOCATION:TangoMio Halle\, Geiststr. 22 (3. OG)\, Halle\, 06108\, Germany
CATEGORIES:milonga
END:VEVENT
BEGIN:VEVENT
DTSTART;TZID=Europe/Berlin:20260724T210000
DTEND;TZID=Europe/Berlin:20260725T000000
DTSTAMP:20260425T053220
CREATED:20260417T092454Z
LAST-MODIFIED:20260417T092454Z
UID:4572-1784926800-1784937600@tango-in-leipzig.de
SUMMARY:Freitag-Milonga — Studio 24 Dresden
DESCRIPTION:Wöchentliche Freitagsmilonga. Kurs ab 20:00 optional.
URL:https://tango-in-leipzig.de/event/freitag-milonga-studio-24-dresden-15/
LOCATION:Studio 24\, Großenhainer Str. 29\, Dresden\, 01097\, Germany
CATEGORIES:milonga
END:VEVENT
BEGIN:VEVENT
DTSTART;TZID=Europe/Berlin:20260724T210000
DTEND;TZID=Europe/Berlin:20260725T010000
DTSTAMP:20260425T053220
CREATED:20260417T092454Z
LAST-MODIFIED:20260417T092454Z
UID:4573-1784926800-1784941200@tango-in-leipzig.de
SUMMARY:Freitags-Milonga — Tango Salon Leipzig
DESCRIPTION:Wöchentliche Freitags-Milonga. Practica ab 20:00 (5 €).
URL:https://tango-in-leipzig.de/event/freitags-milonga-tango-salon-leipzig-14/
LOCATION:Tango Salon Leipzig\, Holbeinstr. 29\, Leipzig\, 04229\, Germany
CATEGORIES:milonga
END:VEVENT
BEGIN:VEVENT
DTSTART;TZID=Europe/Berlin:20260724T210000
DTEND;TZID=Europe/Berlin:20260725T020000
DTSTAMP:20260425T053220
CREATED:20260417T092454Z
LAST-MODIFIED:20260417T092454Z
UID:4574-1784926800-1784944800@tango-in-leipzig.de
SUMMARY:Live-Milonga / Pista Doble — Haus der Sinne
DESCRIPTION:Freitags-Live-Milonga / Pista Doble im Haus der Sinne\, Prenzlauer Berg.
URL:https://tango-in-leipzig.de/event/live-milonga-pista-doble-haus-der-sinne-15/
LOCATION:Haus der Sinne\, Ystader Str. 10\, Berlin\, 10437\, Germany
CATEGORIES:milonga
END:VEVENT
BEGIN:VEVENT
DTSTART;TZID=Europe/Berlin:20260724T210000
DTEND;TZID=Europe/Berlin:20260725T030000
DTSTAMP:20260425T053220
CREATED:20260417T092454Z
LAST-MODIFIED:20260417T092454Z
UID:4571-1784926800-1784948400@tango-in-leipzig.de
SUMMARY:Die Freitagsmilonga — Nou Tango
DESCRIPTION:Freitags-Milonga im Nou Tango\, Mitte.
URL:https://tango-in-leipzig.de/event/die-freitagsmilonga-nou-tango-15/
LOCATION:Nou Tango\, Chausseestr. 102\, Berlin\, 10115\, Germany
CATEGORIES:milonga
END:VEVENT
BEGIN:VEVENT
DTSTART;TZID=Europe/Berlin:20260725T150000
DTEND;TZID=Europe/Berlin:20260725T190000
DTSTAMP:20260425T053220
CREATED:20260417T092454Z
LAST-MODIFIED:20260417T092454Z
UID:4575-1784991600-1785006000@tango-in-leipzig.de
SUMMARY:Tango Café — Maxixe
DESCRIPTION:Samstag-Nachmittags-Milonga in Kreuzberg.
URL:https://tango-in-leipzig.de/event/tango-cafe-maxixe-15/
LOCATION:Maxixe\, Fidicinstr. 3\, Berlin\, 10965\, Germany
CATEGORIES:milonga
END:VEVENT
BEGIN:VEVENT
DTSTART;TZID=Europe/Berlin:20260725T160000
DTEND;TZID=Europe/Berlin:20260725T200000
DTSTAMP:20260425T053220
CREATED:20260417T092454Z
LAST-MODIFIED:20260417T092454Z
UID:4576-1784995200-1785009600@tango-in-leipzig.de
SUMMARY:Tango Café La Bruja / El Gato — weRK36
DESCRIPTION:Samstag-Nachmittags-Milonga in Schöneberg.
URL:https://tango-in-leipzig.de/event/tango-cafe-la-bruja-el-gato-werk36-15/
LOCATION:weRK36\, Ella-Barowsky-Str. 70\, Berlin\, 10829\, Germany
CATEGORIES:milonga
END:VEVENT
BEGIN:VEVENT
DTSTART;TZID=Europe/Berlin:20260725T170000
DTEND;TZID=Europe/Berlin:20260725T220000
DTSTAMP:20260425T053220
CREATED:20260417T092454Z
LAST-MODIFIED:20260417T092454Z
UID:4577-1784998800-1785016800@tango-in-leipzig.de
SUMMARY:Milonga La Remise
DESCRIPTION:Samstags-Milonga in Moabit auf Spendenbasis.
URL:https://tango-in-leipzig.de/event/milonga-la-remise-15/
LOCATION:La Remise\, Bremer Str. 68\, Berlin\, 10551\, Germany
CATEGORIES:milonga
END:VEVENT
BEGIN:VEVENT
DTSTART;TZID=Europe/Berlin:20260725T203000
DTEND;TZID=Europe/Berlin:20260726T000000
DTSTAMP:20260425T053220
CREATED:20260417T092454Z
LAST-MODIFIED:20260417T092454Z
UID:4580-1785011400-1785024000@tango-in-leipzig.de
SUMMARY:Samstag-Milonga — Tres Tangos Dresden
DESCRIPTION:Wöchentliche Samstagsmilonga. Kostenlose Schnupperstunde ab 19:45.
URL:https://tango-in-leipzig.de/event/samstag-milonga-tres-tangos-dresden-15/
LOCATION:Tres Tangos\, Dornblüthstr. 16\, Dresden\, 01277\, Germany
CATEGORIES:milonga
END:VEVENT
BEGIN:VEVENT
DTSTART;TZID=Europe/Berlin:20260725T210000
DTEND;TZID=Europe/Berlin:20260726T030000
DTSTAMP:20260425T053220
CREATED:20260417T092454Z
LAST-MODIFIED:20260417T092454Z
UID:4581-1785013200-1785034800@tango-in-leipzig.de
SUMMARY:Tango Rouge — KitKatClub
DESCRIPTION:Samstags-Milonga im KitKatClub Basement\, Mitte. Strikter Dresscode.
URL:https://tango-in-leipzig.de/event/tango-rouge-kitkatclub-15/
LOCATION:KitKatClub\, Brückenstr. 1\, Berlin\, 10179\, Germany
CATEGORIES:milonga
END:VEVENT
BEGIN:VEVENT
DTSTART;TZID=Europe/Berlin:20260726T110000
DTEND;TZID=Europe/Berlin:20260726T130000
DTSTAMP:20260425T053220
CREATED:20260417T092454Z
LAST-MODIFIED:20260417T092454Z
UID:4582-1785063600-1785070800@tango-in-leipzig.de
SUMMARY:Sonntags Tango Praktika — Mala Junta
DESCRIPTION:Sonntags-Practica in Schöneberg.
URL:https://tango-in-leipzig.de/event/sonntags-tango-praktika-mala-junta-15/
LOCATION:Mala Junta\, Kolonnenstr. 29\, Berlin\, 10829\, Germany
CATEGORIES:practica
END:VEVENT
BEGIN:VEVENT
DTSTART;TZID=Europe/Berlin:20260726T150000
DTEND;TZID=Europe/Berlin:20260726T210000
DTSTAMP:20260425T053220
CREATED:20260417T092454Z
LAST-MODIFIED:20260417T092454Z
UID:4583-1785078000-1785099600@tango-in-leipzig.de
SUMMARY:Café Domínguez — Nou Tango
DESCRIPTION:Sonntags-Milonga im Nou Tango\, Mitte.
URL:https://tango-in-leipzig.de/event/cafe-dominguez-nou-tango-15/
LOCATION:Nou Tango\, Chausseestr. 102\, Berlin\, 10115\, Germany
CATEGORIES:milonga
END:VEVENT
BEGIN:VEVENT
DTSTART;TZID=Europe/Berlin:20260726T160000
DTEND;TZID=Europe/Berlin:20260726T200000
DTSTAMP:20260425T053220
CREATED:20260417T092454Z
LAST-MODIFIED:20260417T092454Z
UID:4584-1785081600-1785096000@tango-in-leipzig.de
SUMMARY:Sonntags-Milonga — Mala Junta
DESCRIPTION:Sonntags-Milonga (Atipica/Bien Pulenta/Mimosa rotierend) in Schöneberg.
URL:https://tango-in-leipzig.de/event/sonntags-milonga-mala-junta-15/
LOCATION:Mala Junta\, Kolonnenstr. 29\, Berlin\, 10829\, Germany
CATEGORIES:milonga
END:VEVENT
BEGIN:VEVENT
DTSTART;TZID=Europe/Berlin:20260726T160000
DTEND;TZID=Europe/Berlin:20260726T200000
DTSTAMP:20260425T053220
CREATED:20260417T092454Z
LAST-MODIFIED:20260417T092454Z
UID:4585-1785081600-1785096000@tango-in-leipzig.de
SUMMARY:Tango zum Glück (Queer/Open Role) — TTMS
DESCRIPTION:Queer/Open-Role-Milonga in Kreuzberg.
URL:https://tango-in-leipzig.de/event/tango-zum-glueck-queer-open-role-ttms-15/
LOCATION:Tangotanzen macht schön (TTMS)\, Oranienstr. 185\, Berlin\, 10999\, Germany
CATEGORIES:milonga
END:VEVENT
BEGIN:VEVENT
DTSTART;TZID=Europe/Berlin:20260726T180000
DTEND;TZID=Europe/Berlin:20260727T020000
DTSTAMP:20260425T053220
CREATED:20260417T092455Z
LAST-MODIFIED:20260417T092455Z
UID:4586-1785088800-1785117600@tango-in-leipzig.de
SUMMARY:Tangoloft Sunday Milonga
DESCRIPTION:Sonntags-Milonga im Tangoloft\, Kreuzberg.
URL:https://tango-in-leipzig.de/event/tangoloft-sunday-milonga-15/
LOCATION:Tangoloft\, Pfuelstr. 5\, Berlin\, 10997\, Germany
CATEGORIES:milonga
END:VEVENT
BEGIN:VEVENT
DTSTART;TZID=Europe/Berlin:20260726T183000
DTEND;TZID=Europe/Berlin:20260726T220000
DTSTAMP:20260425T053220
CREATED:20260417T092455Z
LAST-MODIFIED:20260417T092455Z
UID:4587-1785090600-1785103200@tango-in-leipzig.de
SUMMARY:Sonntags-Milonga Weimar
DESCRIPTION:Wöchentliche Sonntags-Milonga in der Villa Anneliese.
URL:https://tango-in-leipzig.de/event/sonntags-milonga-weimar-16/
LOCATION:Villa Anneliese\, Riessnerstr. 46\, Weimar\, 99423\, Germany
CATEGORIES:milonga
END:VEVENT
BEGIN:VEVENT
DTSTART;TZID=Europe/Berlin:20260727T190000
DTEND;TZID=Europe/Berlin:20260727T203000
DTSTAMP:20260425T053220
CREATED:20260417T092455Z
LAST-MODIFIED:20260417T092455Z
UID:4589-1785178800-1785184200@tango-in-leipzig.de
SUMMARY:Anfängerkurs Weimar
DESCRIPTION:Wöchentlicher Montags-Anfängerkurs. Lehrer: Brigitte Backhaus & Carlos Tapia.
URL:https://tango-in-leipzig.de/event/anfaengerkurs-weimar-16/
LOCATION:mon ami Weimar\, Goetheplatz 11\, Weimar\, 99423\, Germany
CATEGORIES:Kurs
END:VEVENT
BEGIN:VEVENT
DTSTART;TZID=Europe/Berlin:20260727T193000
DTEND;TZID=Europe/Berlin:20260728T000000
DTSTAMP:20260425T053220
CREATED:20260417T092455Z
LAST-MODIFIED:20260417T092455Z
UID:4591-1785180600-1785196800@tango-in-leipzig.de
SUMMARY:Sentidos — Haus der Sinne
DESCRIPTION:Montagsmilonga im Haus der Sinne\, Prenzlauer Berg.
URL:https://tango-in-leipzig.de/event/sentidos-haus-der-sinne-15/
LOCATION:Haus der Sinne\, Ystader Str. 10\, Berlin\, 10437\, Germany
CATEGORIES:milonga
END:VEVENT
BEGIN:VEVENT
DTSTART;TZID=Europe/Berlin:20260727T200000
DTEND;TZID=Europe/Berlin:20260727T230000
DTSTAMP:20260425T053220
CREATED:20260417T092455Z
LAST-MODIFIED:20260417T092455Z
UID:4592-1785182400-1785193200@tango-in-leipzig.de
SUMMARY:Tango Club — Tango Studio Leipzig
DESCRIPTION:Wöchentlicher Tango Club. Offener Tanzabend.
URL:https://tango-in-leipzig.de/event/tango-club-tango-studio-leipzig-27/
LOCATION:Tango Studio Leipzig\, Brandvorwerkstraße 52-54\, Leipzig\, 04275\, Germany
CATEGORIES:milonga
ORGANIZER;CN="Tango Studio Leipzig":MAILTO:thoma@tangostudioleipzig.de
END:VEVENT
BEGIN:VEVENT
DTSTART;TZID=Europe/Berlin:20260727T210000
DTEND;TZID=Europe/Berlin:20260728T010000
DTSTAMP:20260425T053220
CREATED:20260417T092455Z
LAST-MODIFIED:20260417T092455Z
UID:4593-1785186000-1785200400@tango-in-leipzig.de
SUMMARY:Milonga Popular — Tangoloft
DESCRIPTION:Montagsmilonga im Tangoloft\, Kreuzberg.
URL:https://tango-in-leipzig.de/event/milonga-popular-tangoloft-15/
LOCATION:Tangoloft\, Pfuelstr. 5\, Berlin\, 10997\, Germany
CATEGORIES:milonga
END:VEVENT
BEGIN:VEVENT
DTSTART;TZID=Europe/Berlin:20260728T190000
DTEND;TZID=Europe/Berlin:20260728T220000
DTSTAMP:20260425T053220
CREATED:20260417T092455Z
LAST-MODIFIED:20260417T092455Z
UID:4594-1785265200-1785276000@tango-in-leipzig.de
SUMMARY:After-Work-Milonga — Balance-Zentrum Magdeburg
DESCRIPTION:Wöchentliche After-Work-Milonga. Bei warmem Wetter auf dem Glasbalkon an der Elbe.
URL:https://tango-in-leipzig.de/event/after-work-milonga-balance-zentrum-magdeburg-15/
LOCATION:Balance-Zentrum\, Nicolaistr. 5\, Magdeburg\, 39104\, Germany
CATEGORIES:milonga
END:VEVENT
END:VCALENDAR