BEGIN:VCALENDAR
VERSION:2.0
PRODID:-//Tango in Leipzig - ECPv6.15.20//NONSGML v1.0//EN
CALSCALE:GREGORIAN
METHOD:PUBLISH
X-WR-CALNAME:Tango in Leipzig
X-ORIGINAL-URL:https://tango-in-leipzig.de
X-WR-CALDESC:Veranstaltungen für Tango in Leipzig
REFRESH-INTERVAL;VALUE=DURATION:PT1H
X-Robots-Tag:noindex
X-PUBLISHED-TTL:PT1H
BEGIN:VTIMEZONE
TZID:Europe/Berlin
BEGIN:DAYLIGHT
TZOFFSETFROM:+0100
TZOFFSETTO:+0200
TZNAME:CEST
DTSTART:20250330T010000
END:DAYLIGHT
BEGIN:STANDARD
TZOFFSETFROM:+0200
TZOFFSETTO:+0100
TZNAME:CET
DTSTART:20251026T010000
END:STANDARD
BEGIN:DAYLIGHT
TZOFFSETFROM:+0100
TZOFFSETTO:+0200
TZNAME:CEST
DTSTART:20260329T010000
END:DAYLIGHT
BEGIN:STANDARD
TZOFFSETFROM:+0200
TZOFFSETTO:+0100
TZNAME:CET
DTSTART:20261025T010000
END:STANDARD
BEGIN:DAYLIGHT
TZOFFSETFROM:+0100
TZOFFSETTO:+0200
TZNAME:CEST
DTSTART:20270328T010000
END:DAYLIGHT
BEGIN:STANDARD
TZOFFSETFROM:+0200
TZOFFSETTO:+0100
TZNAME:CET
DTSTART:20271031T010000
END:STANDARD
END:VTIMEZONE
BEGIN:VEVENT
DTSTART;TZID=Europe/Berlin:20260713T193000
DTEND;TZID=Europe/Berlin:20260714T000000
DTSTAMP:20260424T211340
CREATED:20260417T092450Z
LAST-MODIFIED:20260417T092450Z
UID:4475-1783971000-1783987200@tango-in-leipzig.de
SUMMARY:Sentidos — Haus der Sinne
DESCRIPTION:Montagsmilonga im Haus der Sinne\, Prenzlauer Berg.
URL:https://tango-in-leipzig.de/event/sentidos-haus-der-sinne-13/
LOCATION:Haus der Sinne\, Ystader Str. 10\, Berlin\, 10437\, Germany
CATEGORIES:milonga
END:VEVENT
BEGIN:VEVENT
DTSTART;TZID=Europe/Berlin:20260713T200000
DTEND;TZID=Europe/Berlin:20260713T230000
DTSTAMP:20260424T211340
CREATED:20260417T092450Z
LAST-MODIFIED:20260417T092450Z
UID:4476-1783972800-1783983600@tango-in-leipzig.de
SUMMARY:Tango Club — Tango Studio Leipzig
DESCRIPTION:Wöchentlicher Tango Club. Offener Tanzabend.
URL:https://tango-in-leipzig.de/event/tango-club-tango-studio-leipzig-25/
LOCATION:Tango Studio Leipzig\, Brandvorwerkstraße 52-54\, Leipzig\, 04275\, Germany
CATEGORIES:milonga
ORGANIZER;CN="Tango Studio Leipzig":MAILTO:thoma@tangostudioleipzig.de
END:VEVENT
BEGIN:VEVENT
DTSTART;TZID=Europe/Berlin:20260713T210000
DTEND;TZID=Europe/Berlin:20260714T010000
DTSTAMP:20260424T211340
CREATED:20260417T092450Z
LAST-MODIFIED:20260417T092450Z
UID:4477-1783976400-1783990800@tango-in-leipzig.de
SUMMARY:Milonga Popular — Tangoloft
DESCRIPTION:Montagsmilonga im Tangoloft\, Kreuzberg.
URL:https://tango-in-leipzig.de/event/milonga-popular-tangoloft-13/
LOCATION:Tangoloft\, Pfuelstr. 5\, Berlin\, 10997\, Germany
CATEGORIES:milonga
END:VEVENT
BEGIN:VEVENT
DTSTART;TZID=Europe/Berlin:20260714T190000
DTEND;TZID=Europe/Berlin:20260714T220000
DTSTAMP:20260424T211340
CREATED:20260417T092450Z
LAST-MODIFIED:20260417T092450Z
UID:4478-1784055600-1784066400@tango-in-leipzig.de
SUMMARY:After-Work-Milonga — Balance-Zentrum Magdeburg
DESCRIPTION:Wöchentliche After-Work-Milonga. Bei warmem Wetter auf dem Glasbalkon an der Elbe.
URL:https://tango-in-leipzig.de/event/after-work-milonga-balance-zentrum-magdeburg-13/
LOCATION:Balance-Zentrum\, Nicolaistr. 5\, Magdeburg\, 39104\, Germany
CATEGORIES:milonga
END:VEVENT
BEGIN:VEVENT
DTSTART;TZID=Europe/Berlin:20260714T190000
DTEND;TZID=Europe/Berlin:20260714T230000
DTSTAMP:20260424T211340
CREATED:20260417T092450Z
LAST-MODIFIED:20260417T092450Z
UID:4479-1784055600-1784070000@tango-in-leipzig.de
SUMMARY:La Noche del Tango — Café Mosaik Magdeburg
DESCRIPTION:Offener Kurs mit Olenka & Patrick ab 19:00\, dann Milonga Tradicional 20:00–23:00 mit DJ Patrick.
URL:https://tango-in-leipzig.de/event/la-noche-del-tango-cafe-mosaik-magdeburg-13/
LOCATION:Café Mosaik\, Sternstr. 33\, Magdeburg\, 39104\, Germany
CATEGORIES:milonga
END:VEVENT
BEGIN:VEVENT
DTSTART;TZID=Europe/Berlin:20260714T190000
DTEND;TZID=Europe/Berlin:20260714T230000
DTSTAMP:20260424T211340
CREATED:20260417T092450Z
LAST-MODIFIED:20260417T092450Z
UID:4480-1784055600-1784070000@tango-in-leipzig.de
SUMMARY:TorEins Neolonga
DESCRIPTION:Dienstags-Neolonga in Kreuzberg. Eintritt frei.
URL:https://tango-in-leipzig.de/event/toreins-neolonga-13/
LOCATION:TorEins\, Möckernstr. 26\, Berlin\, 10963\, Germany
CATEGORIES:milonga
END:VEVENT
BEGIN:VEVENT
DTSTART;TZID=Europe/Berlin:20260714T200000
DTEND;TZID=Europe/Berlin:20260715T010000
DTSTAMP:20260424T211340
CREATED:20260417T092450Z
LAST-MODIFIED:20260417T092450Z
UID:4482-1784059200-1784077200@tango-in-leipzig.de
SUMMARY:Tangonacht — Roter Salon / Volksbühne
DESCRIPTION:Dienstags-Tangonacht im Roten Salon an der Volksbühne\, Mitte.
URL:https://tango-in-leipzig.de/event/tangonacht-roter-salon-volksbuehne-13/
LOCATION:Roter Salon / Volksbühne\, Rosa-Luxemburg-Platz\, Berlin\, 10178\, Germany
CATEGORIES:milonga
END:VEVENT
BEGIN:VEVENT
DTSTART;TZID=Europe/Berlin:20260714T210000
DTEND;TZID=Europe/Berlin:20260714T233000
DTSTAMP:20260424T211340
CREATED:20260417T092451Z
LAST-MODIFIED:20260417T092451Z
UID:4484-1784062800-1784071800@tango-in-leipzig.de
SUMMARY:Practica Wasserhäuschen — L.tango e.V.
DESCRIPTION:Wöchentliche Dienstags-Practica.
URL:https://tango-in-leipzig.de/event/practica-wasserhaeuschen-l-tango-e-v-13/
LOCATION:Wasserhäuschen\, Industriestr. 72\, Leipzig\, 04229\, Germany
CATEGORIES:practica
END:VEVENT
BEGIN:VEVENT
DTSTART;TZID=Europe/Berlin:20260715T184500
DTEND;TZID=Europe/Berlin:20260715T201500
DTSTAMP:20260424T211340
CREATED:20260417T092451Z
LAST-MODIFIED:20260417T092451Z
UID:4485-1784141100-1784146500@tango-in-leipzig.de
SUMMARY:TanGera — Tango Club Gera
DESCRIPTION:Tango-Unterricht / Tangoclub mit Marion & Detlef.
URL:https://tango-in-leipzig.de/event/tangera-tango-club-gera-13/
LOCATION:Tanz- und Ballhaus Walhalla\, Friedrich-Naumann-Platz 3\, Gera\, 07545\, Germany
CATEGORIES:Kurs
END:VEVENT
BEGIN:VEVENT
DTSTART;TZID=Europe/Berlin:20260715T200000
DTEND;TZID=Europe/Berlin:20260715T210000
DTSTAMP:20260424T211340
CREATED:20260417T092451Z
LAST-MODIFIED:20260417T092451Z
UID:4487-1784145600-1784149200@tango-in-leipzig.de
SUMMARY:Grundkurs Tango Argentino — Tanzhaus Jena
DESCRIPTION:Grundkurs (7–8 Termine\, Start Mai 2026). Practica im Anschluss 21:00–22:00.
URL:https://tango-in-leipzig.de/event/grundkurs-tango-argentino-tanzhaus-jena-11/
LOCATION:Tanzhaus Jena e.V.\, Camsdorfer Ufer 17\, Jena\, 07749\, Germany
CATEGORIES:Kurs
END:VEVENT
BEGIN:VEVENT
DTSTART;TZID=Europe/Berlin:20260715T200000
DTEND;TZID=Europe/Berlin:20260716T010000
DTSTAMP:20260424T211340
CREATED:20260417T092451Z
LAST-MODIFIED:20260417T092451Z
UID:4486-1784145600-1784163600@tango-in-leipzig.de
SUMMARY:Ballhaus Milonga — Wedding
DESCRIPTION:Mittwochs-Milonga im Ballhaus Wedding.
URL:https://tango-in-leipzig.de/event/ballhaus-milonga-wedding-13/
LOCATION:Ballhaus Wedding\, Wriezener Str. 6\, Berlin\, 13359\, Germany
CATEGORIES:milonga
END:VEVENT
BEGIN:VEVENT
DTSTART;TZID=Europe/Berlin:20260715T203000
DTEND;TZID=Europe/Berlin:20260716T000000
DTSTAMP:20260424T211340
CREATED:20260417T092451Z
LAST-MODIFIED:20260417T092451Z
UID:4488-1784147400-1784160000@tango-in-leipzig.de
SUMMARY:Milonga im Spiegelsaal — Clärchens Ballhaus
DESCRIPTION:Mittwochs-Milonga im Spiegelsaal. DJs: Gaia & Leandro.
URL:https://tango-in-leipzig.de/event/milonga-im-spiegelsaal-claerchens-ballhaus-13/
LOCATION:Clärchens Ballhaus\, Auguststr. 24\, Berlin\, 10117\, Germany
CATEGORIES:milonga
END:VEVENT
BEGIN:VEVENT
DTSTART;TZID=Europe/Berlin:20260715T210000
DTEND;TZID=Europe/Berlin:20260715T220000
DTSTAMP:20260424T211340
CREATED:20260417T092451Z
LAST-MODIFIED:20260417T092451Z
UID:4490-1784149200-1784152800@tango-in-leipzig.de
SUMMARY:Practica — Tanzhaus Jena
DESCRIPTION:Wöchentliche Mittwochs-Practica nach dem Grundkurs.
URL:https://tango-in-leipzig.de/event/practica-tanzhaus-jena-23/
LOCATION:Tanzhaus Jena e.V.\, Camsdorfer Ufer 17\, Jena\, 07749\, Germany
CATEGORIES:practica
END:VEVENT
BEGIN:VEVENT
DTSTART;TZID=Europe/Berlin:20260715T210000
DTEND;TZID=Europe/Berlin:20260715T230000
DTSTAMP:20260424T211340
CREATED:20260417T092451Z
LAST-MODIFIED:20260417T092451Z
UID:4491-1784149200-1784156400@tango-in-leipzig.de
SUMMARY:TTMS Mittwochspraktika
DESCRIPTION:Mittwochspraktika bei TTMS in Kreuzberg.
URL:https://tango-in-leipzig.de/event/ttms-mittwochspraktika-13/
LOCATION:Tangotanzen macht schön (TTMS)\, Oranienstr. 185\, Berlin\, 10999\, Germany
CATEGORIES:practica
END:VEVENT
BEGIN:VEVENT
DTSTART;TZID=Europe/Berlin:20260715T210000
DTEND;TZID=Europe/Berlin:20260716T003000
DTSTAMP:20260424T211340
CREATED:20260417T092451Z
LAST-MODIFIED:20260417T092451Z
UID:4492-1784149200-1784161800@tango-in-leipzig.de
SUMMARY:Tangonacht — Mala Junta
DESCRIPTION:Mittwochs-Tangonacht. Open Class ab 19:45. Schöneberg.
URL:https://tango-in-leipzig.de/event/tangonacht-mala-junta-13/
LOCATION:Mala Junta\, Kolonnenstr. 29\, Berlin\, 10829\, Germany
CATEGORIES:milonga
END:VEVENT
BEGIN:VEVENT
DTSTART;TZID=Europe/Berlin:20260716T170000
DTEND;TZID=Europe/Berlin:20260716T194500
DTSTAMP:20260424T211340
CREATED:20260417T092451Z
LAST-MODIFIED:20260417T092451Z
UID:4494-1784221200-1784231100@tango-in-leipzig.de
SUMMARY:Tangowerkstatt — Esquina del Tango Erfurt
DESCRIPTION:Donnerstags-Tangowerkstatt.
URL:https://tango-in-leipzig.de/event/tangowerkstatt-esquina-del-tango-erfurt-14/
LOCATION:Esquina del Tango\, Schlösserstr. 5\, Erfurt\, 99084\, Germany
CATEGORIES:practica
END:VEVENT
BEGIN:VEVENT
DTSTART;TZID=Europe/Berlin:20260716T183000
DTEND;TZID=Europe/Berlin:20260716T194500
DTSTAMP:20260424T211340
CREATED:20260416T110551Z
LAST-MODIFIED:20260416T110551Z
UID:3659-1784226600-1784231100@tango-in-leipzig.de
SUMMARY:Tango Level 1/2
DESCRIPTION:Wöchentlicher Kurs für Anfänger und Mittelstufe. Lehrer: Juliane & Franz (Vertretung für Almut & Stefan). Anmeldung über Eversports.
URL:https://tango-in-leipzig.de/event/tango-level-1-2-14/
LOCATION:Tanzschule Tango Mio Halle\, Geiststraße 22\, Halle\, 06108\, Germany
CATEGORIES:Kurs
END:VEVENT
BEGIN:VEVENT
DTSTART;TZID=Europe/Berlin:20260716T190000
DTEND;TZID=Europe/Berlin:20260716T200000
DTSTAMP:20260424T211340
CREATED:20260417T092451Z
LAST-MODIFIED:20260417T092451Z
UID:4499-1784228400-1784232000@tango-in-leipzig.de
SUMMARY:Tango-Kurs-Stunde Naumburg
DESCRIPTION:Wöchentliche Donnerstags-Kurs-Stunde. Lehrer: Hermhild & Jochen Hilgenberg.
URL:https://tango-in-leipzig.de/event/tango-kurs-stunde-naumburg-15/
LOCATION:JZ OTTO Naumburg\, Poststr. 31\, Naumburg\, 06618\, Germany
CATEGORIES:Kurs
END:VEVENT
BEGIN:VEVENT
DTSTART;TZID=Europe/Berlin:20260716T190000
DTEND;TZID=Europe/Berlin:20260716T210000
DTSTAMP:20260424T211340
CREATED:20260417T092451Z
LAST-MODIFIED:20260417T092451Z
UID:4495-1784228400-1784235600@tango-in-leipzig.de
SUMMARY:Angeleiteter Übungsabend — Studio 24 Dresden
DESCRIPTION:Wöchentlicher angeleiteter Übungsabend.
URL:https://tango-in-leipzig.de/event/angeleiteter-uebungsabend-studio-24-dresden-14/
LOCATION:Studio 24\, Großenhainer Str. 29\, Dresden\, 01097\, Germany
CATEGORIES:practica
END:VEVENT
BEGIN:VEVENT
DTSTART;TZID=Europe/Berlin:20260716T190000
DTEND;TZID=Europe/Berlin:20260719T030000
DTSTAMP:20260424T211340
CREATED:20260417T092451Z
LAST-MODIFIED:20260417T092451Z
UID:4498-1784228400-1784430000@tango-in-leipzig.de
SUMMARY:Berlin Festival Milonguero 2026
DESCRIPTION:Live-Orchester: Sonder Tango Orquesta mit Carlos Roulet. Maestros: Jonathan Saavedra & Clarisa Aragón\, Facundo Piñero & Vanesa Villalba\, Fernando Sanchez & Ariadna Naveira\, Martin Vicente & Ayelén Urrutia u.v.m. DJs: Diego Riemer\, Maria Mondino\, Guillermo Monti u.a. Venue-Adresse: berlinfestivalmilonguero.com/venue/.
URL:https://tango-in-leipzig.de/event/berlin-festival-milonguero-2026/
LOCATION:Berlin Festival Milonguero Venue\, Berlin\, Germany
CATEGORIES:Festival
END:VEVENT
BEGIN:VEVENT
DTSTART;TZID=Europe/Berlin:20260716T193000
DTEND;TZID=Europe/Berlin:20260716T210000
DTSTAMP:20260424T211340
CREATED:20260417T092451Z
LAST-MODIFIED:20260417T092451Z
UID:4501-1784230200-1784235600@tango-in-leipzig.de
SUMMARY:Offener Tangokurs — el Tango puro Magdeburg
DESCRIPTION:Offener Kurs Do 19:30–21:00 für Anfänger\, (Wieder-)Einsteiger und Mittelstufe. Eingang hinten zwischen 26a und 26b.
URL:https://tango-in-leipzig.de/event/offener-tangokurs-el-tango-puro-magdeburg-14/
LOCATION:Tanz- und Sportverein Magdeburg\, Lüneburger Str. 26\, Magdeburg\, 39106\, Germany
CATEGORIES:Kurs
END:VEVENT
BEGIN:VEVENT
DTSTART;TZID=Europe/Berlin:20260716T193000
DTEND;TZID=Europe/Berlin:20260716T210000
DTSTAMP:20260424T211340
CREATED:20260417T092451Z
LAST-MODIFIED:20260417T092451Z
UID:4503-1784230200-1784235600@tango-in-leipzig.de
SUMMARY:Tango Praktika Weimar
DESCRIPTION:Wöchentliche Donnerstags-Praktika.
URL:https://tango-in-leipzig.de/event/tango-praktika-weimar-15/
LOCATION:mon ami Weimar\, Goetheplatz 11\, Weimar\, 99423\, Germany
CATEGORIES:practica
END:VEVENT
BEGIN:VEVENT
DTSTART;TZID=Europe/Berlin:20260716T193000
DTEND;TZID=Europe/Berlin:20260716T221500
DTSTAMP:20260424T211340
CREATED:20260417T092451Z
LAST-MODIFIED:20260417T092451Z
UID:4502-1784230200-1784240100@tango-in-leipzig.de
SUMMARY:Praktika — Nou Tango
DESCRIPTION:Donnerstags-Praktika (nur Paare). Mitte.
URL:https://tango-in-leipzig.de/event/praktika-nou-tango-14/
LOCATION:Nou Tango\, Chausseestr. 102\, Berlin\, 10115\, Germany
CATEGORIES:practica
END:VEVENT
BEGIN:VEVENT
DTSTART;TZID=Europe/Berlin:20260716T193000
DTEND;TZID=Europe/Berlin:20260716T230000
DTSTAMP:20260424T211340
CREATED:20260417T092451Z
LAST-MODIFIED:20260417T092451Z
UID:4500-1784230200-1784242800@tango-in-leipzig.de
SUMMARY:Neolonga — Basecamp
DESCRIPTION:Donnerstags-Neolonga in Wilmersdorf.
URL:https://tango-in-leipzig.de/event/neolonga-basecamp-14/
LOCATION:Basecamp\, Düsseldorfer Str. 32\, Berlin\, 10707\, Germany
CATEGORIES:milonga
END:VEVENT
BEGIN:VEVENT
DTSTART;TZID=Europe/Berlin:20260716T200000
DTEND;TZID=Europe/Berlin:20260716T211500
DTSTAMP:20260424T211340
CREATED:20260416T110551Z
LAST-MODIFIED:20260416T110551Z
UID:3660-1784232000-1784236500@tango-in-leipzig.de
SUMMARY:Tango Level 3
DESCRIPTION:Wöchentlicher Kurs für Fortgeschrittene. Lehrer: Juliane & Franz (Vertretung für Almut & Stefan). Anmeldung über Eversports.
URL:https://tango-in-leipzig.de/event/tango-level-3-14/
LOCATION:Tanzschule Tango Mio Halle\, Geiststraße 22\, Halle\, 06108\, Germany
CATEGORIES:Kurs
END:VEVENT
BEGIN:VEVENT
DTSTART;TZID=Europe/Berlin:20260716T200000
DTEND;TZID=Europe/Berlin:20260716T213000
DTSTAMP:20260424T211340
CREATED:20260417T092451Z
LAST-MODIFIED:20260417T092451Z
UID:4504-1784232000-1784237400@tango-in-leipzig.de
SUMMARY:Tanzen-und-Üben Naumburg
DESCRIPTION:Wöchentliches Tanzen-und-Üben im Anschluss an die Kurs-Stunde.
URL:https://tango-in-leipzig.de/event/tanzen-und-ueben-naumburg-15/
LOCATION:JZ OTTO Naumburg\, Poststr. 31\, Naumburg\, 06618\, Germany
CATEGORIES:practica
END:VEVENT
BEGIN:VEVENT
DTSTART;TZID=Europe/Berlin:20260716T201500
DTEND;TZID=Europe/Berlin:20260716T230000
DTSTAMP:20260424T211340
CREATED:20260417T092451Z
LAST-MODIFIED:20260417T092451Z
UID:4505-1784232900-1784242800@tango-in-leipzig.de
SUMMARY:Übungsabend — Estación del Tango Erfurt
DESCRIPTION:Donnerstags-Übungsabend.
URL:https://tango-in-leipzig.de/event/uebungsabend-estacion-del-tango-erfurt-14/
LOCATION:Estación del Tango\, Schmidtstedter Str. 34\, Erfurt\, 99084\, Germany
CATEGORIES:practica
END:VEVENT
BEGIN:VEVENT
DTSTART;TZID=Europe/Berlin:20260716T210500
DTEND;TZID=Europe/Berlin:20260716T224500
DTSTAMP:20260424T211340
CREATED:20260417T092451Z
LAST-MODIFIED:20260417T092451Z
UID:4509-1784235900-1784241900@tango-in-leipzig.de
SUMMARY:Get the Step Practica — Mala Junta
DESCRIPTION:Donnerstags-Practica in Schöneberg.
URL:https://tango-in-leipzig.de/event/get-the-step-practica-mala-junta-14/
LOCATION:Mala Junta\, Kolonnenstr. 29\, Berlin\, 10829\, Germany
CATEGORIES:practica
END:VEVENT
BEGIN:VEVENT
DTSTART;TZID=Europe/Berlin:20260716T211500
DTEND;TZID=Europe/Berlin:20260716T231500
DTSTAMP:20260424T211340
CREATED:20260417T092451Z
LAST-MODIFIED:20260417T092451Z
UID:4510-1784236500-1784243700@tango-in-leipzig.de
SUMMARY:Praktika — Alte Bahnhofshalle Friedenau
DESCRIPTION:Donnerstags-Praktika in Friedenau/Steglitz.
URL:https://tango-in-leipzig.de/event/praktika-alte-bahnhofshalle-friedenau-14/
LOCATION:Alte Bahnhofshalle Friedenau\, Bahnhofstr. 4D\, Berlin\, 12159\, Germany
CATEGORIES:practica
END:VEVENT
BEGIN:VEVENT
DTSTART;TZID=Europe/Berlin:20260717T210000
DTEND;TZID=Europe/Berlin:20260718T000000
DTSTAMP:20260424T211340
CREATED:20260417T092452Z
LAST-MODIFIED:20260417T092452Z
UID:4514-1784322000-1784332800@tango-in-leipzig.de
SUMMARY:Freitag-Milonga — Studio 24 Dresden
DESCRIPTION:Wöchentliche Freitagsmilonga. Kurs ab 20:00 optional.
URL:https://tango-in-leipzig.de/event/freitag-milonga-studio-24-dresden-14/
LOCATION:Studio 24\, Großenhainer Str. 29\, Dresden\, 01097\, Germany
CATEGORIES:milonga
END:VEVENT
END:VCALENDAR