BEGIN:VCALENDAR
VERSION:2.0
PRODID:-//Tango in Leipzig - ECPv6.15.20//NONSGML v1.0//EN
CALSCALE:GREGORIAN
METHOD:PUBLISH
X-WR-CALNAME:Tango in Leipzig
X-ORIGINAL-URL:https://tango-in-leipzig.de
X-WR-CALDESC:Veranstaltungen für Tango in Leipzig
REFRESH-INTERVAL;VALUE=DURATION:PT1H
X-Robots-Tag:noindex
X-PUBLISHED-TTL:PT1H
BEGIN:VTIMEZONE
TZID:Europe/Berlin
BEGIN:DAYLIGHT
TZOFFSETFROM:+0100
TZOFFSETTO:+0200
TZNAME:CEST
DTSTART:20250330T010000
END:DAYLIGHT
BEGIN:STANDARD
TZOFFSETFROM:+0200
TZOFFSETTO:+0100
TZNAME:CET
DTSTART:20251026T010000
END:STANDARD
BEGIN:DAYLIGHT
TZOFFSETFROM:+0100
TZOFFSETTO:+0200
TZNAME:CEST
DTSTART:20260329T010000
END:DAYLIGHT
BEGIN:STANDARD
TZOFFSETFROM:+0200
TZOFFSETTO:+0100
TZNAME:CET
DTSTART:20261025T010000
END:STANDARD
BEGIN:DAYLIGHT
TZOFFSETFROM:+0100
TZOFFSETTO:+0200
TZNAME:CEST
DTSTART:20270328T010000
END:DAYLIGHT
BEGIN:STANDARD
TZOFFSETFROM:+0200
TZOFFSETTO:+0100
TZNAME:CET
DTSTART:20271031T010000
END:STANDARD
END:VTIMEZONE
BEGIN:VEVENT
DTSTART;TZID=Europe/Berlin:20260707T190000
DTEND;TZID=Europe/Berlin:20260707T230000
DTSTAMP:20260424T160250
CREATED:20260417T092448Z
LAST-MODIFIED:20260417T092448Z
UID:4423-1783450800-1783465200@tango-in-leipzig.de
SUMMARY:TorEins Neolonga
DESCRIPTION:Dienstags-Neolonga in Kreuzberg. Eintritt frei.
URL:https://tango-in-leipzig.de/event/toreins-neolonga-12/
LOCATION:TorEins\, Möckernstr. 26\, Berlin\, 10963\, Germany
CATEGORIES:milonga
END:VEVENT
BEGIN:VEVENT
DTSTART;TZID=Europe/Berlin:20260707T200000
DTEND;TZID=Europe/Berlin:20260708T010000
DTSTAMP:20260424T160250
CREATED:20260417T092448Z
LAST-MODIFIED:20260417T092448Z
UID:4425-1783454400-1783472400@tango-in-leipzig.de
SUMMARY:Tangonacht — Roter Salon / Volksbühne
DESCRIPTION:Dienstags-Tangonacht im Roten Salon an der Volksbühne\, Mitte.
URL:https://tango-in-leipzig.de/event/tangonacht-roter-salon-volksbuehne-12/
LOCATION:Roter Salon / Volksbühne\, Rosa-Luxemburg-Platz\, Berlin\, 10178\, Germany
CATEGORIES:milonga
END:VEVENT
BEGIN:VEVENT
DTSTART;TZID=Europe/Berlin:20260707T210000
DTEND;TZID=Europe/Berlin:20260707T233000
DTSTAMP:20260424T160250
CREATED:20260417T092449Z
LAST-MODIFIED:20260417T092449Z
UID:4427-1783458000-1783467000@tango-in-leipzig.de
SUMMARY:Practica Wasserhäuschen — L.tango e.V.
DESCRIPTION:Wöchentliche Dienstags-Practica.
URL:https://tango-in-leipzig.de/event/practica-wasserhaeuschen-l-tango-e-v-12/
LOCATION:Wasserhäuschen\, Industriestr. 72\, Leipzig\, 04229\, Germany
CATEGORIES:practica
END:VEVENT
BEGIN:VEVENT
DTSTART;TZID=Europe/Berlin:20260708T173000
DTEND;TZID=Europe/Berlin:20260708T183000
DTSTAMP:20260424T160250
CREATED:20260408T153436Z
LAST-MODIFIED:20260408T153436Z
UID:3449-1783531800-1783535400@tango-in-leipzig.de
SUMMARY:Anfängerkurs HTWK
DESCRIPTION:Lehrer: Nicole Terentjewa & Thomas Grau.
URL:https://tango-in-leipzig.de/event/anfaengerkurs-htwk-14/
LOCATION:HTWK Leipzig\, Gustav-Freytag-Str. 43-45\, Leipzig\, 04277\, Germany
CATEGORIES:Kurs
END:VEVENT
BEGIN:VEVENT
DTSTART;TZID=Europe/Berlin:20260708T183000
DTEND;TZID=Europe/Berlin:20260708T193000
DTSTAMP:20260424T160250
CREATED:20260408T153436Z
LAST-MODIFIED:20260408T153436Z
UID:3450-1783535400-1783539000@tango-in-leipzig.de
SUMMARY:Aufbaukurs HTWK
DESCRIPTION:Lehrer: Nicole Terentjewa & Thomas Grau.
URL:https://tango-in-leipzig.de/event/aufbaukurs-htwk-14/
LOCATION:HTWK Leipzig\, Gustav-Freytag-Str. 43-45\, Leipzig\, 04277\, Germany
CATEGORIES:Kurs
END:VEVENT
BEGIN:VEVENT
DTSTART;TZID=Europe/Berlin:20260708T184500
DTEND;TZID=Europe/Berlin:20260708T201500
DTSTAMP:20260424T160250
CREATED:20260417T092449Z
LAST-MODIFIED:20260417T092449Z
UID:4428-1783536300-1783541700@tango-in-leipzig.de
SUMMARY:TanGera — Tango Club Gera
DESCRIPTION:Tango-Unterricht / Tangoclub mit Marion & Detlef.
URL:https://tango-in-leipzig.de/event/tangera-tango-club-gera-12/
LOCATION:Tanz- und Ballhaus Walhalla\, Friedrich-Naumann-Platz 3\, Gera\, 07545\, Germany
CATEGORIES:Kurs
END:VEVENT
BEGIN:VEVENT
DTSTART;TZID=Europe/Berlin:20260708T200000
DTEND;TZID=Europe/Berlin:20260708T210000
DTSTAMP:20260424T160250
CREATED:20260417T092449Z
LAST-MODIFIED:20260417T092449Z
UID:4430-1783540800-1783544400@tango-in-leipzig.de
SUMMARY:Grundkurs Tango Argentino — Tanzhaus Jena
DESCRIPTION:Grundkurs (7–8 Termine\, Start Mai 2026). Practica im Anschluss 21:00–22:00.
URL:https://tango-in-leipzig.de/event/grundkurs-tango-argentino-tanzhaus-jena-10/
LOCATION:Tanzhaus Jena e.V.\, Camsdorfer Ufer 17\, Jena\, 07749\, Germany
CATEGORIES:Kurs
END:VEVENT
BEGIN:VEVENT
DTSTART;TZID=Europe/Berlin:20260708T200000
DTEND;TZID=Europe/Berlin:20260709T010000
DTSTAMP:20260424T160250
CREATED:20260417T092449Z
LAST-MODIFIED:20260417T092449Z
UID:4429-1783540800-1783558800@tango-in-leipzig.de
SUMMARY:Ballhaus Milonga — Wedding
DESCRIPTION:Mittwochs-Milonga im Ballhaus Wedding.
URL:https://tango-in-leipzig.de/event/ballhaus-milonga-wedding-12/
LOCATION:Ballhaus Wedding\, Wriezener Str. 6\, Berlin\, 13359\, Germany
CATEGORIES:milonga
END:VEVENT
BEGIN:VEVENT
DTSTART;TZID=Europe/Berlin:20260708T203000
DTEND;TZID=Europe/Berlin:20260709T000000
DTSTAMP:20260424T160250
CREATED:20260417T092449Z
LAST-MODIFIED:20260417T092449Z
UID:4431-1783542600-1783555200@tango-in-leipzig.de
SUMMARY:Milonga im Spiegelsaal — Clärchens Ballhaus
DESCRIPTION:Mittwochs-Milonga im Spiegelsaal. DJs: Gaia & Leandro.
URL:https://tango-in-leipzig.de/event/milonga-im-spiegelsaal-claerchens-ballhaus-12/
LOCATION:Clärchens Ballhaus\, Auguststr. 24\, Berlin\, 10117\, Germany
CATEGORIES:milonga
END:VEVENT
BEGIN:VEVENT
DTSTART;TZID=Europe/Berlin:20260708T210000
DTEND;TZID=Europe/Berlin:20260708T220000
DTSTAMP:20260424T160250
CREATED:20260417T092449Z
LAST-MODIFIED:20260417T092449Z
UID:4433-1783544400-1783548000@tango-in-leipzig.de
SUMMARY:Practica — Tanzhaus Jena
DESCRIPTION:Wöchentliche Mittwochs-Practica nach dem Grundkurs.
URL:https://tango-in-leipzig.de/event/practica-tanzhaus-jena-22/
LOCATION:Tanzhaus Jena e.V.\, Camsdorfer Ufer 17\, Jena\, 07749\, Germany
CATEGORIES:practica
END:VEVENT
BEGIN:VEVENT
DTSTART;TZID=Europe/Berlin:20260708T210000
DTEND;TZID=Europe/Berlin:20260708T230000
DTSTAMP:20260424T160250
CREATED:20260417T092449Z
LAST-MODIFIED:20260417T092449Z
UID:4434-1783544400-1783551600@tango-in-leipzig.de
SUMMARY:TTMS Mittwochspraktika
DESCRIPTION:Mittwochspraktika bei TTMS in Kreuzberg.
URL:https://tango-in-leipzig.de/event/ttms-mittwochspraktika-12/
LOCATION:Tangotanzen macht schön (TTMS)\, Oranienstr. 185\, Berlin\, 10999\, Germany
CATEGORIES:practica
END:VEVENT
BEGIN:VEVENT
DTSTART;TZID=Europe/Berlin:20260708T210000
DTEND;TZID=Europe/Berlin:20260709T003000
DTSTAMP:20260424T160250
CREATED:20260417T092449Z
LAST-MODIFIED:20260417T092449Z
UID:4435-1783544400-1783557000@tango-in-leipzig.de
SUMMARY:Tangonacht — Mala Junta
DESCRIPTION:Mittwochs-Tangonacht. Open Class ab 19:45. Schöneberg.
URL:https://tango-in-leipzig.de/event/tangonacht-mala-junta-12/
LOCATION:Mala Junta\, Kolonnenstr. 29\, Berlin\, 10829\, Germany
CATEGORIES:milonga
END:VEVENT
BEGIN:VEVENT
DTSTART;TZID=Europe/Berlin:20260709T170000
DTEND;TZID=Europe/Berlin:20260709T194500
DTSTAMP:20260424T160250
CREATED:20260417T092449Z
LAST-MODIFIED:20260417T092449Z
UID:4437-1783616400-1783626300@tango-in-leipzig.de
SUMMARY:Tangowerkstatt — Esquina del Tango Erfurt
DESCRIPTION:Donnerstags-Tangowerkstatt.
URL:https://tango-in-leipzig.de/event/tangowerkstatt-esquina-del-tango-erfurt-13/
LOCATION:Esquina del Tango\, Schlösserstr. 5\, Erfurt\, 99084\, Germany
CATEGORIES:practica
END:VEVENT
BEGIN:VEVENT
DTSTART;TZID=Europe/Berlin:20260709T183000
DTEND;TZID=Europe/Berlin:20260709T194500
DTSTAMP:20260424T160250
CREATED:20260416T110551Z
LAST-MODIFIED:20260416T110551Z
UID:3657-1783621800-1783626300@tango-in-leipzig.de
SUMMARY:Tango Level 1/2
DESCRIPTION:Wöchentlicher Kurs für Anfänger und Mittelstufe. Lehrer: Juliane & Franz (Vertretung für Almut & Stefan). Anmeldung über Eversports.
URL:https://tango-in-leipzig.de/event/tango-level-1-2-13/
LOCATION:Tanzschule Tango Mio Halle\, Geiststraße 22\, Halle\, 06108\, Germany
CATEGORIES:Kurs
END:VEVENT
BEGIN:VEVENT
DTSTART;TZID=Europe/Berlin:20260709T190000
DTEND;TZID=Europe/Berlin:20260709T200000
DTSTAMP:20260424T160250
CREATED:20260417T092449Z
LAST-MODIFIED:20260417T092449Z
UID:4440-1783623600-1783627200@tango-in-leipzig.de
SUMMARY:Tango-Kurs-Stunde Naumburg
DESCRIPTION:Wöchentliche Donnerstags-Kurs-Stunde. Lehrer: Hermhild & Jochen Hilgenberg.
URL:https://tango-in-leipzig.de/event/tango-kurs-stunde-naumburg-14/
LOCATION:JZ OTTO Naumburg\, Poststr. 31\, Naumburg\, 06618\, Germany
CATEGORIES:Kurs
END:VEVENT
BEGIN:VEVENT
DTSTART;TZID=Europe/Berlin:20260709T190000
DTEND;TZID=Europe/Berlin:20260709T210000
DTSTAMP:20260424T160250
CREATED:20260417T092449Z
LAST-MODIFIED:20260417T092449Z
UID:4438-1783623600-1783630800@tango-in-leipzig.de
SUMMARY:Angeleiteter Übungsabend — Studio 24 Dresden
DESCRIPTION:Wöchentlicher angeleiteter Übungsabend.
URL:https://tango-in-leipzig.de/event/angeleiteter-uebungsabend-studio-24-dresden-13/
LOCATION:Studio 24\, Großenhainer Str. 29\, Dresden\, 01097\, Germany
CATEGORIES:practica
END:VEVENT
BEGIN:VEVENT
DTSTART;TZID=Europe/Berlin:20260709T193000
DTEND;TZID=Europe/Berlin:20260709T210000
DTSTAMP:20260424T160250
CREATED:20260417T092449Z
LAST-MODIFIED:20260417T092449Z
UID:4444-1783625400-1783630800@tango-in-leipzig.de
SUMMARY:Tango Praktika Weimar
DESCRIPTION:Wöchentliche Donnerstags-Praktika.
URL:https://tango-in-leipzig.de/event/tango-praktika-weimar-14/
LOCATION:mon ami Weimar\, Goetheplatz 11\, Weimar\, 99423\, Germany
CATEGORIES:practica
END:VEVENT
BEGIN:VEVENT
DTSTART;TZID=Europe/Berlin:20260709T193000
DTEND;TZID=Europe/Berlin:20260709T210000
DTSTAMP:20260424T160250
CREATED:20260417T092449Z
LAST-MODIFIED:20260417T092449Z
UID:4442-1783625400-1783630800@tango-in-leipzig.de
SUMMARY:Offener Tangokurs — el Tango puro Magdeburg
DESCRIPTION:Offener Kurs Do 19:30–21:00 für Anfänger\, (Wieder-)Einsteiger und Mittelstufe. Eingang hinten zwischen 26a und 26b.
URL:https://tango-in-leipzig.de/event/offener-tangokurs-el-tango-puro-magdeburg-13/
LOCATION:Tanz- und Sportverein Magdeburg\, Lüneburger Str. 26\, Magdeburg\, 39106\, Germany
CATEGORIES:Kurs
END:VEVENT
BEGIN:VEVENT
DTSTART;TZID=Europe/Berlin:20260709T193000
DTEND;TZID=Europe/Berlin:20260709T221500
DTSTAMP:20260424T160250
CREATED:20260417T092449Z
LAST-MODIFIED:20260417T092449Z
UID:4443-1783625400-1783635300@tango-in-leipzig.de
SUMMARY:Praktika — Nou Tango
DESCRIPTION:Donnerstags-Praktika (nur Paare). Mitte.
URL:https://tango-in-leipzig.de/event/praktika-nou-tango-13/
LOCATION:Nou Tango\, Chausseestr. 102\, Berlin\, 10115\, Germany
CATEGORIES:practica
END:VEVENT
BEGIN:VEVENT
DTSTART;TZID=Europe/Berlin:20260709T193000
DTEND;TZID=Europe/Berlin:20260709T230000
DTSTAMP:20260424T160250
CREATED:20260417T092449Z
LAST-MODIFIED:20260417T092449Z
UID:4441-1783625400-1783638000@tango-in-leipzig.de
SUMMARY:Neolonga — Basecamp
DESCRIPTION:Donnerstags-Neolonga in Wilmersdorf.
URL:https://tango-in-leipzig.de/event/neolonga-basecamp-13/
LOCATION:Basecamp\, Düsseldorfer Str. 32\, Berlin\, 10707\, Germany
CATEGORIES:milonga
END:VEVENT
BEGIN:VEVENT
DTSTART;TZID=Europe/Berlin:20260709T200000
DTEND;TZID=Europe/Berlin:20260709T211500
DTSTAMP:20260424T160250
CREATED:20260416T110551Z
LAST-MODIFIED:20260416T110551Z
UID:3658-1783627200-1783631700@tango-in-leipzig.de
SUMMARY:Tango Level 3
DESCRIPTION:Wöchentlicher Kurs für Fortgeschrittene. Lehrer: Juliane & Franz (Vertretung für Almut & Stefan). Anmeldung über Eversports.
URL:https://tango-in-leipzig.de/event/tango-level-3-13/
LOCATION:Tanzschule Tango Mio Halle\, Geiststraße 22\, Halle\, 06108\, Germany
CATEGORIES:Kurs
END:VEVENT
BEGIN:VEVENT
DTSTART;TZID=Europe/Berlin:20260709T200000
DTEND;TZID=Europe/Berlin:20260709T213000
DTSTAMP:20260424T160250
CREATED:20260417T092449Z
LAST-MODIFIED:20260417T092449Z
UID:4445-1783627200-1783632600@tango-in-leipzig.de
SUMMARY:Tanzen-und-Üben Naumburg
DESCRIPTION:Wöchentliches Tanzen-und-Üben im Anschluss an die Kurs-Stunde.
URL:https://tango-in-leipzig.de/event/tanzen-und-ueben-naumburg-14/
LOCATION:JZ OTTO Naumburg\, Poststr. 31\, Naumburg\, 06618\, Germany
CATEGORIES:practica
END:VEVENT
BEGIN:VEVENT
DTSTART;TZID=Europe/Berlin:20260709T201500
DTEND;TZID=Europe/Berlin:20260709T230000
DTSTAMP:20260424T160250
CREATED:20260417T092449Z
LAST-MODIFIED:20260417T092449Z
UID:4446-1783628100-1783638000@tango-in-leipzig.de
SUMMARY:Übungsabend — Estación del Tango Erfurt
DESCRIPTION:Donnerstags-Übungsabend.
URL:https://tango-in-leipzig.de/event/uebungsabend-estacion-del-tango-erfurt-13/
LOCATION:Estación del Tango\, Schmidtstedter Str. 34\, Erfurt\, 99084\, Germany
CATEGORIES:practica
END:VEVENT
BEGIN:VEVENT
DTSTART;TZID=Europe/Berlin:20260709T210500
DTEND;TZID=Europe/Berlin:20260709T224500
DTSTAMP:20260424T160250
CREATED:20260417T092449Z
LAST-MODIFIED:20260417T092449Z
UID:4450-1783631100-1783637100@tango-in-leipzig.de
SUMMARY:Get the Step Practica — Mala Junta
DESCRIPTION:Donnerstags-Practica in Schöneberg.
URL:https://tango-in-leipzig.de/event/get-the-step-practica-mala-junta-13/
LOCATION:Mala Junta\, Kolonnenstr. 29\, Berlin\, 10829\, Germany
CATEGORIES:practica
END:VEVENT
BEGIN:VEVENT
DTSTART;TZID=Europe/Berlin:20260709T211500
DTEND;TZID=Europe/Berlin:20260709T231500
DTSTAMP:20260424T160250
CREATED:20260417T092449Z
LAST-MODIFIED:20260417T092449Z
UID:4451-1783631700-1783638900@tango-in-leipzig.de
SUMMARY:Praktika — Alte Bahnhofshalle Friedenau
DESCRIPTION:Donnerstags-Praktika in Friedenau/Steglitz.
URL:https://tango-in-leipzig.de/event/praktika-alte-bahnhofshalle-friedenau-13/
LOCATION:Alte Bahnhofshalle Friedenau\, Bahnhofstr. 4D\, Berlin\, 12159\, Germany
CATEGORIES:practica
END:VEVENT
BEGIN:VEVENT
DTSTART;TZID=Europe/Berlin:20260710T203000
DTEND;TZID=Europe/Berlin:20260710T233000
DTSTAMP:20260424T160250
CREATED:20260417T092449Z
LAST-MODIFIED:20260417T092449Z
UID:4454-1783715400-1783726200@tango-in-leipzig.de
SUMMARY:Milonga — TangoMio Halle
DESCRIPTION:Milonga bei TangoMio. Jeden 2. Freitag.
URL:https://tango-in-leipzig.de/event/milonga-tangomio-halle-7/
LOCATION:TangoMio Halle\, Geiststr. 22 (3. OG)\, Halle\, 06108\, Germany
CATEGORIES:milonga
END:VEVENT
BEGIN:VEVENT
DTSTART;TZID=Europe/Berlin:20260710T210000
DTEND;TZID=Europe/Berlin:20260711T000000
DTSTAMP:20260424T160250
CREATED:20260417T092450Z
LAST-MODIFIED:20260417T092450Z
UID:4456-1783717200-1783728000@tango-in-leipzig.de
SUMMARY:Freitag-Milonga — Studio 24 Dresden
DESCRIPTION:Wöchentliche Freitagsmilonga. Kurs ab 20:00 optional.
URL:https://tango-in-leipzig.de/event/freitag-milonga-studio-24-dresden-13/
LOCATION:Studio 24\, Großenhainer Str. 29\, Dresden\, 01097\, Germany
CATEGORIES:milonga
END:VEVENT
BEGIN:VEVENT
DTSTART;TZID=Europe/Berlin:20260710T210000
DTEND;TZID=Europe/Berlin:20260711T010000
DTSTAMP:20260424T160250
CREATED:20260417T092450Z
LAST-MODIFIED:20260417T092450Z
UID:4457-1783717200-1783731600@tango-in-leipzig.de
SUMMARY:Freitags-Milonga — Tango Salon Leipzig
DESCRIPTION:Wöchentliche Freitags-Milonga. Practica ab 20:00 (5 €).
URL:https://tango-in-leipzig.de/event/freitags-milonga-tango-salon-leipzig-12/
LOCATION:Tango Salon Leipzig\, Holbeinstr. 29\, Leipzig\, 04229\, Germany
CATEGORIES:milonga
END:VEVENT
BEGIN:VEVENT
DTSTART;TZID=Europe/Berlin:20260710T210000
DTEND;TZID=Europe/Berlin:20260711T020000
DTSTAMP:20260424T160250
CREATED:20260417T092450Z
LAST-MODIFIED:20260417T092450Z
UID:4458-1783717200-1783735200@tango-in-leipzig.de
SUMMARY:Live-Milonga / Pista Doble — Haus der Sinne
DESCRIPTION:Freitags-Live-Milonga / Pista Doble im Haus der Sinne\, Prenzlauer Berg.
URL:https://tango-in-leipzig.de/event/live-milonga-pista-doble-haus-der-sinne-13/
LOCATION:Haus der Sinne\, Ystader Str. 10\, Berlin\, 10437\, Germany
CATEGORIES:milonga
END:VEVENT
BEGIN:VEVENT
DTSTART;TZID=Europe/Berlin:20260710T210000
DTEND;TZID=Europe/Berlin:20260711T030000
DTSTAMP:20260424T160250
CREATED:20260417T092450Z
LAST-MODIFIED:20260417T092450Z
UID:4455-1783717200-1783738800@tango-in-leipzig.de
SUMMARY:Die Freitagsmilonga — Nou Tango
DESCRIPTION:Freitags-Milonga im Nou Tango\, Mitte.
URL:https://tango-in-leipzig.de/event/die-freitagsmilonga-nou-tango-13/
LOCATION:Nou Tango\, Chausseestr. 102\, Berlin\, 10115\, Germany
CATEGORIES:milonga
END:VEVENT
END:VCALENDAR