BEGIN:VCALENDAR
VERSION:2.0
PRODID:-//Tango in Leipzig - ECPv6.15.20//NONSGML v1.0//EN
CALSCALE:GREGORIAN
METHOD:PUBLISH
X-WR-CALNAME:Tango in Leipzig
X-ORIGINAL-URL:https://tango-in-leipzig.de
X-WR-CALDESC:Veranstaltungen für Tango in Leipzig
REFRESH-INTERVAL;VALUE=DURATION:PT1H
X-Robots-Tag:noindex
X-PUBLISHED-TTL:PT1H
BEGIN:VTIMEZONE
TZID:Europe/Berlin
BEGIN:DAYLIGHT
TZOFFSETFROM:+0100
TZOFFSETTO:+0200
TZNAME:CEST
DTSTART:20250330T010000
END:DAYLIGHT
BEGIN:STANDARD
TZOFFSETFROM:+0200
TZOFFSETTO:+0100
TZNAME:CET
DTSTART:20251026T010000
END:STANDARD
BEGIN:DAYLIGHT
TZOFFSETFROM:+0100
TZOFFSETTO:+0200
TZNAME:CEST
DTSTART:20260329T010000
END:DAYLIGHT
BEGIN:STANDARD
TZOFFSETFROM:+0200
TZOFFSETTO:+0100
TZNAME:CET
DTSTART:20261025T010000
END:STANDARD
BEGIN:DAYLIGHT
TZOFFSETFROM:+0100
TZOFFSETTO:+0200
TZNAME:CEST
DTSTART:20270328T010000
END:DAYLIGHT
BEGIN:STANDARD
TZOFFSETFROM:+0200
TZOFFSETTO:+0100
TZNAME:CET
DTSTART:20271031T010000
END:STANDARD
END:VTIMEZONE
BEGIN:VEVENT
DTSTART;TZID=Europe/Berlin:20260628T183000
DTEND;TZID=Europe/Berlin:20260628T220000
DTSTAMP:20260424T075203
CREATED:20260408T153436Z
LAST-MODIFIED:20260408T153436Z
UID:3435-1782671400-1782684000@tango-in-leipzig.de
SUMMARY:Sonntags-Milonga Weimar
DESCRIPTION:
URL:https://tango-in-leipzig.de/event/sonntags-milonga-weimar-12/
LOCATION:Villa Anneliese\, Riessnerstr. 46\, Weimar\, 99423\, Germany
CATEGORIES:milonga
END:VEVENT
BEGIN:VEVENT
DTSTART;TZID=Europe/Berlin:20260628T190000
DTEND;TZID=Europe/Berlin:20260628T200000
DTSTAMP:20260424T075203
CREATED:20260408T153436Z
LAST-MODIFIED:20260408T153436Z
UID:3438-1782673200-1782676800@tango-in-leipzig.de
SUMMARY:TanzFabrik BASIC
DESCRIPTION:
URL:https://tango-in-leipzig.de/event/tanzfabrik-basic-12/
LOCATION:TanzFabrik Chemnitz\, Neefestr. 58\, Chemnitz\, 09119\, Germany
CATEGORIES:Kurs
END:VEVENT
BEGIN:VEVENT
DTSTART;TZID=Europe/Berlin:20260628T203000
DTEND;TZID=Europe/Berlin:20260628T220000
DTSTAMP:20260424T075203
CREATED:20260408T153436Z
LAST-MODIFIED:20260408T153436Z
UID:3436-1782678600-1782684000@tango-in-leipzig.de
SUMMARY:Übungskurs TanzFabrik Chemnitz
DESCRIPTION:
URL:https://tango-in-leipzig.de/event/uebungskurs-tanzfabrik-chemnitz-12/
LOCATION:TanzFabrik Chemnitz\, Neefestr. 58\, Chemnitz\, 09119\, Germany
CATEGORIES:practica
END:VEVENT
BEGIN:VEVENT
DTSTART;TZID=Europe/Berlin:20260629T183000
DTEND;TZID=Europe/Berlin:20260629T193000
DTSTAMP:20260424T075203
CREATED:20260408T153436Z
LAST-MODIFIED:20260408T153436Z
UID:3442-1782757800-1782761400@tango-in-leipzig.de
SUMMARY:Tango Club Hartwig
DESCRIPTION:
URL:https://tango-in-leipzig.de/event/tango-club-hartwig-12/
LOCATION:Tanzschule Hartwig Jena\, Lassallestr. 8\, Jena\, 07743\, Germany
CATEGORIES:Kurs
END:VEVENT
BEGIN:VEVENT
DTSTART;TZID=Europe/Berlin:20260629T183000
DTEND;TZID=Europe/Berlin:20260629T200000
DTSTAMP:20260424T075203
CREATED:20260408T153436Z
LAST-MODIFIED:20260408T153436Z
UID:3443-1782757800-1782763200@tango-in-leipzig.de
SUMMARY:Tango Argentino Uni Halle
DESCRIPTION:
URL:https://tango-in-leipzig.de/event/tango-argentino-uni-halle-12/
LOCATION:Sporthalle Kröllwitz\, Halle\, 06120\, Germany
CATEGORIES:Kurs
END:VEVENT
BEGIN:VEVENT
DTSTART;TZID=Europe/Berlin:20260629T190000
DTEND;TZID=Europe/Berlin:20260629T203000
DTSTAMP:20260424T075203
CREATED:20260408T153436Z
LAST-MODIFIED:20260408T153436Z
UID:3440-1782759600-1782765000@tango-in-leipzig.de
SUMMARY:Mittelstufe I – Esquina
DESCRIPTION:Lehrer: Hector Corona & Silvina Machado.
URL:https://tango-in-leipzig.de/event/mittelstufe-i-esquina-12/
LOCATION:Esquina del Tango Erfurt\, Schlösserstr. 5\, Erfurt\, 99084\, Germany
CATEGORIES:Kurs
END:VEVENT
BEGIN:VEVENT
DTSTART;TZID=Europe/Berlin:20260629T190000
DTEND;TZID=Europe/Berlin:20260629T203000
DTSTAMP:20260424T075203
CREATED:20260408T153436Z
LAST-MODIFIED:20260408T153436Z
UID:3441-1782759600-1782765000@tango-in-leipzig.de
SUMMARY:Anfängerkurs Weimar
DESCRIPTION:Lehrer: Brigitte Backhaus & Carlos Tapia.
URL:https://tango-in-leipzig.de/event/anfaengerkurs-weimar-12/
LOCATION:mon ami Weimar\, Goetheplatz 11\, Weimar\, 99423\, Germany
CATEGORIES:Kurs
END:VEVENT
BEGIN:VEVENT
DTSTART;TZID=Europe/Berlin:20260629T193000
DTEND;TZID=Europe/Berlin:20260630T000000
DTSTAMP:20260424T075203
CREATED:20260417T092446Z
LAST-MODIFIED:20260417T092446Z
UID:4363-1782761400-1782777600@tango-in-leipzig.de
SUMMARY:Sentidos — Haus der Sinne
DESCRIPTION:Montagsmilonga im Haus der Sinne\, Prenzlauer Berg.
URL:https://tango-in-leipzig.de/event/sentidos-haus-der-sinne-11/
LOCATION:Haus der Sinne\, Ystader Str. 10\, Berlin\, 10437\, Germany
CATEGORIES:milonga
END:VEVENT
BEGIN:VEVENT
DTSTART;TZID=Europe/Berlin:20260629T200000
DTEND;TZID=Europe/Berlin:20260629T230000
DTSTAMP:20260424T075203
CREATED:20260408T192239Z
LAST-MODIFIED:20260408T192239Z
UID:3523-1782763200-1782774000@tango-in-leipzig.de
SUMMARY:Tango Club – Tango Studio Leipzig
DESCRIPTION:
URL:https://tango-in-leipzig.de/event/tango-club-tango-studio-leipzig-11/
LOCATION:Tango Studio Leipzig\, Brandvorwerkstraße 52-54\, Leipzig\, 04275\, Germany
CATEGORIES:milonga
ORGANIZER;CN="Tango Studio Leipzig":MAILTO:thoma@tangostudioleipzig.de
END:VEVENT
BEGIN:VEVENT
DTSTART;TZID=Europe/Berlin:20260629T203000
DTEND;TZID=Europe/Berlin:20260629T223000
DTSTAMP:20260424T075203
CREATED:20260408T153436Z
LAST-MODIFIED:20260408T153436Z
UID:3439-1782765000-1782772200@tango-in-leipzig.de
SUMMARY:Practilonga Esquina
DESCRIPTION:
URL:https://tango-in-leipzig.de/event/practilonga-esquina-12/
LOCATION:Esquina del Tango Erfurt\, Schlösserstr. 5\, Erfurt\, 99084\, Germany
CATEGORIES:practica
END:VEVENT
BEGIN:VEVENT
DTSTART;TZID=Europe/Berlin:20260629T210000
DTEND;TZID=Europe/Berlin:20260630T010000
DTSTAMP:20260424T075203
CREATED:20260417T092446Z
LAST-MODIFIED:20260417T092446Z
UID:4365-1782766800-1782781200@tango-in-leipzig.de
SUMMARY:Milonga Popular — Tangoloft
DESCRIPTION:Montagsmilonga im Tangoloft\, Kreuzberg.
URL:https://tango-in-leipzig.de/event/milonga-popular-tangoloft-11/
LOCATION:Tangoloft\, Pfuelstr. 5\, Berlin\, 10997\, Germany
CATEGORIES:milonga
END:VEVENT
BEGIN:VEVENT
DTSTART;TZID=Europe/Berlin:20260630T181500
DTEND;TZID=Europe/Berlin:20260630T194500
DTSTAMP:20260424T075203
CREATED:20260408T153436Z
LAST-MODIFIED:20260408T153436Z
UID:3445-1782843300-1782848700@tango-in-leipzig.de
SUMMARY:Mittelstufe II – Esquina
DESCRIPTION:
URL:https://tango-in-leipzig.de/event/mittelstufe-ii-esquina-12/
LOCATION:Esquina del Tango Erfurt\, Schlösserstr. 5\, Erfurt\, 99084\, Germany
CATEGORIES:Kurs
END:VEVENT
BEGIN:VEVENT
DTSTART;TZID=Europe/Berlin:20260630T190000
DTEND;TZID=Europe/Berlin:20260630T220000
DTSTAMP:20260424T075203
CREATED:20260417T092446Z
LAST-MODIFIED:20260417T092446Z
UID:4366-1782846000-1782856800@tango-in-leipzig.de
SUMMARY:After-Work-Milonga — Balance-Zentrum Magdeburg
DESCRIPTION:Wöchentliche After-Work-Milonga. Bei warmem Wetter auf dem Glasbalkon an der Elbe.
URL:https://tango-in-leipzig.de/event/after-work-milonga-balance-zentrum-magdeburg-11/
LOCATION:Balance-Zentrum\, Nicolaistr. 5\, Magdeburg\, 39104\, Germany
CATEGORIES:milonga
END:VEVENT
BEGIN:VEVENT
DTSTART;TZID=Europe/Berlin:20260630T190000
DTEND;TZID=Europe/Berlin:20260630T230000
DTSTAMP:20260424T075203
CREATED:20260417T092446Z
LAST-MODIFIED:20260417T092446Z
UID:4367-1782846000-1782860400@tango-in-leipzig.de
SUMMARY:La Noche del Tango — Café Mosaik Magdeburg
DESCRIPTION:Offener Kurs mit Olenka & Patrick ab 19:00\, dann Milonga Tradicional 20:00–23:00 mit DJ Patrick.
URL:https://tango-in-leipzig.de/event/la-noche-del-tango-cafe-mosaik-magdeburg-11/
LOCATION:Café Mosaik\, Sternstr. 33\, Magdeburg\, 39104\, Germany
CATEGORIES:milonga
END:VEVENT
BEGIN:VEVENT
DTSTART;TZID=Europe/Berlin:20260630T190000
DTEND;TZID=Europe/Berlin:20260630T230000
DTSTAMP:20260424T075203
CREATED:20260417T092446Z
LAST-MODIFIED:20260417T092446Z
UID:4368-1782846000-1782860400@tango-in-leipzig.de
SUMMARY:TorEins Neolonga
DESCRIPTION:Dienstags-Neolonga in Kreuzberg. Eintritt frei.
URL:https://tango-in-leipzig.de/event/toreins-neolonga-11/
LOCATION:TorEins\, Möckernstr. 26\, Berlin\, 10963\, Germany
CATEGORIES:milonga
END:VEVENT
BEGIN:VEVENT
DTSTART;TZID=Europe/Berlin:20260630T200000
DTEND;TZID=Europe/Berlin:20260630T213000
DTSTAMP:20260424T075203
CREATED:20260408T153436Z
LAST-MODIFIED:20260408T153436Z
UID:3446-1782849600-1782855000@tango-in-leipzig.de
SUMMARY:Fortgeschrittene – Esquina
DESCRIPTION:
URL:https://tango-in-leipzig.de/event/fortgeschrittene-esquina-12/
LOCATION:Esquina del Tango Erfurt\, Schlösserstr. 5\, Erfurt\, 99084\, Germany
CATEGORIES:Kurs
END:VEVENT
BEGIN:VEVENT
DTSTART;TZID=Europe/Berlin:20260630T200000
DTEND;TZID=Europe/Berlin:20260701T010000
DTSTAMP:20260424T075203
CREATED:20260417T092446Z
LAST-MODIFIED:20260417T092446Z
UID:4370-1782849600-1782867600@tango-in-leipzig.de
SUMMARY:Tangonacht — Roter Salon / Volksbühne
DESCRIPTION:Dienstags-Tangonacht im Roten Salon an der Volksbühne\, Mitte.
URL:https://tango-in-leipzig.de/event/tangonacht-roter-salon-volksbuehne-11/
LOCATION:Roter Salon / Volksbühne\, Rosa-Luxemburg-Platz\, Berlin\, 10178\, Germany
CATEGORIES:milonga
END:VEVENT
BEGIN:VEVENT
DTSTART;TZID=Europe/Berlin:20260630T210000
DTEND;TZID=Europe/Berlin:20260630T233000
DTSTAMP:20260424T075203
CREATED:20260408T153436Z
LAST-MODIFIED:20260408T153436Z
UID:3444-1782853200-1782862200@tango-in-leipzig.de
SUMMARY:Practica Wasserhäuschen
DESCRIPTION:Dienstags-Practica von L-Tango e.V.
URL:https://tango-in-leipzig.de/event/practica-wasserhaeuschen-12/
LOCATION:Wasserhäuschen\, Industriestr. 72\, Leipzig\, 04229\, Germany
CATEGORIES:practica
END:VEVENT
BEGIN:VEVENT
DTSTART;TZID=Europe/Berlin:20260701T173000
DTEND;TZID=Europe/Berlin:20260701T183000
DTSTAMP:20260424T075203
CREATED:20260408T153436Z
LAST-MODIFIED:20260408T153436Z
UID:3447-1782927000-1782930600@tango-in-leipzig.de
SUMMARY:Anfängerkurs HTWK
DESCRIPTION:Lehrer: Nicole Terentjewa & Thomas Grau.
URL:https://tango-in-leipzig.de/event/anfaengerkurs-htwk-13/
LOCATION:HTWK Leipzig\, Gustav-Freytag-Str. 43-45\, Leipzig\, 04277\, Germany
CATEGORIES:Kurs
END:VEVENT
BEGIN:VEVENT
DTSTART;TZID=Europe/Berlin:20260701T183000
DTEND;TZID=Europe/Berlin:20260701T193000
DTSTAMP:20260424T075203
CREATED:20260408T153436Z
LAST-MODIFIED:20260408T153436Z
UID:3448-1782930600-1782934200@tango-in-leipzig.de
SUMMARY:Aufbaukurs HTWK
DESCRIPTION:Lehrer: Nicole Terentjewa & Thomas Grau.
URL:https://tango-in-leipzig.de/event/aufbaukurs-htwk-13/
LOCATION:HTWK Leipzig\, Gustav-Freytag-Str. 43-45\, Leipzig\, 04277\, Germany
CATEGORIES:Kurs
END:VEVENT
BEGIN:VEVENT
DTSTART;TZID=Europe/Berlin:20260701T184500
DTEND;TZID=Europe/Berlin:20260701T201500
DTSTAMP:20260424T075203
CREATED:20260417T092446Z
LAST-MODIFIED:20260417T092446Z
UID:4373-1782931500-1782936900@tango-in-leipzig.de
SUMMARY:TanGera — Tango Club Gera
DESCRIPTION:Tango-Unterricht / Tangoclub mit Marion & Detlef.
URL:https://tango-in-leipzig.de/event/tangera-tango-club-gera-11/
LOCATION:Tanz- und Ballhaus Walhalla\, Friedrich-Naumann-Platz 3\, Gera\, 07545\, Germany
CATEGORIES:Kurs
END:VEVENT
BEGIN:VEVENT
DTSTART;TZID=Europe/Berlin:20260701T200000
DTEND;TZID=Europe/Berlin:20260701T210000
DTSTAMP:20260424T075203
CREATED:20260417T092446Z
LAST-MODIFIED:20260417T092446Z
UID:4375-1782936000-1782939600@tango-in-leipzig.de
SUMMARY:Grundkurs Tango Argentino — Tanzhaus Jena
DESCRIPTION:Grundkurs (7–8 Termine\, Start Mai 2026). Practica im Anschluss 21:00–22:00.
URL:https://tango-in-leipzig.de/event/grundkurs-tango-argentino-tanzhaus-jena-9/
LOCATION:Tanzhaus Jena e.V.\, Camsdorfer Ufer 17\, Jena\, 07749\, Germany
CATEGORIES:Kurs
END:VEVENT
BEGIN:VEVENT
DTSTART;TZID=Europe/Berlin:20260701T200000
DTEND;TZID=Europe/Berlin:20260702T010000
DTSTAMP:20260424T075203
CREATED:20260417T092446Z
LAST-MODIFIED:20260417T092446Z
UID:4374-1782936000-1782954000@tango-in-leipzig.de
SUMMARY:Ballhaus Milonga — Wedding
DESCRIPTION:Mittwochs-Milonga im Ballhaus Wedding.
URL:https://tango-in-leipzig.de/event/ballhaus-milonga-wedding-11/
LOCATION:Ballhaus Wedding\, Wriezener Str. 6\, Berlin\, 13359\, Germany
CATEGORIES:milonga
END:VEVENT
BEGIN:VEVENT
DTSTART;TZID=Europe/Berlin:20260701T203000
DTEND;TZID=Europe/Berlin:20260702T000000
DTSTAMP:20260424T075203
CREATED:20260417T092446Z
LAST-MODIFIED:20260417T092446Z
UID:4376-1782937800-1782950400@tango-in-leipzig.de
SUMMARY:Milonga im Spiegelsaal — Clärchens Ballhaus
DESCRIPTION:Mittwochs-Milonga im Spiegelsaal. DJs: Gaia & Leandro.
URL:https://tango-in-leipzig.de/event/milonga-im-spiegelsaal-claerchens-ballhaus-11/
LOCATION:Clärchens Ballhaus\, Auguststr. 24\, Berlin\, 10117\, Germany
CATEGORIES:milonga
END:VEVENT
BEGIN:VEVENT
DTSTART;TZID=Europe/Berlin:20260701T210000
DTEND;TZID=Europe/Berlin:20260701T220000
DTSTAMP:20260424T075203
CREATED:20260417T092447Z
LAST-MODIFIED:20260417T092447Z
UID:4378-1782939600-1782943200@tango-in-leipzig.de
SUMMARY:Practica — Tanzhaus Jena
DESCRIPTION:Wöchentliche Mittwochs-Practica nach dem Grundkurs.
URL:https://tango-in-leipzig.de/event/practica-tanzhaus-jena-21/
LOCATION:Tanzhaus Jena e.V.\, Camsdorfer Ufer 17\, Jena\, 07749\, Germany
CATEGORIES:practica
END:VEVENT
BEGIN:VEVENT
DTSTART;TZID=Europe/Berlin:20260701T210000
DTEND;TZID=Europe/Berlin:20260701T230000
DTSTAMP:20260424T075203
CREATED:20260417T092447Z
LAST-MODIFIED:20260417T092447Z
UID:4379-1782939600-1782946800@tango-in-leipzig.de
SUMMARY:TTMS Mittwochspraktika
DESCRIPTION:Mittwochspraktika bei TTMS in Kreuzberg.
URL:https://tango-in-leipzig.de/event/ttms-mittwochspraktika-11/
LOCATION:Tangotanzen macht schön (TTMS)\, Oranienstr. 185\, Berlin\, 10999\, Germany
CATEGORIES:practica
END:VEVENT
BEGIN:VEVENT
DTSTART;TZID=Europe/Berlin:20260701T210000
DTEND;TZID=Europe/Berlin:20260702T003000
DTSTAMP:20260424T075203
CREATED:20260417T092447Z
LAST-MODIFIED:20260417T092447Z
UID:4380-1782939600-1782952200@tango-in-leipzig.de
SUMMARY:Tangonacht — Mala Junta
DESCRIPTION:Mittwochs-Tangonacht. Open Class ab 19:45. Schöneberg.
URL:https://tango-in-leipzig.de/event/tangonacht-mala-junta-11/
LOCATION:Mala Junta\, Kolonnenstr. 29\, Berlin\, 10829\, Germany
CATEGORIES:milonga
END:VEVENT
BEGIN:VEVENT
DTSTART;TZID=Europe/Berlin:20260702T170000
DTEND;TZID=Europe/Berlin:20260702T194500
DTSTAMP:20260424T075203
CREATED:20260417T092447Z
LAST-MODIFIED:20260417T092447Z
UID:4381-1783011600-1783021500@tango-in-leipzig.de
SUMMARY:Tangowerkstatt — Esquina del Tango Erfurt
DESCRIPTION:Donnerstags-Tangowerkstatt.
URL:https://tango-in-leipzig.de/event/tangowerkstatt-esquina-del-tango-erfurt-12/
LOCATION:Esquina del Tango\, Schlösserstr. 5\, Erfurt\, 99084\, Germany
CATEGORIES:practica
END:VEVENT
BEGIN:VEVENT
DTSTART;TZID=Europe/Berlin:20260702T183000
DTEND;TZID=Europe/Berlin:20260702T194500
DTSTAMP:20260424T075203
CREATED:20260416T110551Z
LAST-MODIFIED:20260416T110551Z
UID:3655-1783017000-1783021500@tango-in-leipzig.de
SUMMARY:Tango Level 1/2
DESCRIPTION:Wöchentlicher Kurs für Anfänger und Mittelstufe. Lehrer: Juliane & Franz (Vertretung für Almut & Stefan). Anmeldung über Eversports.
URL:https://tango-in-leipzig.de/event/tango-level-1-2-12/
LOCATION:Tanzschule Tango Mio Halle\, Geiststraße 22\, Halle\, 06108\, Germany
CATEGORIES:Kurs
END:VEVENT
BEGIN:VEVENT
DTSTART;TZID=Europe/Berlin:20260702T190000
DTEND;TZID=Europe/Berlin:20260702T200000
DTSTAMP:20260424T075203
CREATED:20260417T092447Z
LAST-MODIFIED:20260417T092447Z
UID:4384-1783018800-1783022400@tango-in-leipzig.de
SUMMARY:Tango-Kurs-Stunde Naumburg
DESCRIPTION:Wöchentliche Donnerstags-Kurs-Stunde. Lehrer: Hermhild & Jochen Hilgenberg.
URL:https://tango-in-leipzig.de/event/tango-kurs-stunde-naumburg-13/
LOCATION:JZ OTTO Naumburg\, Poststr. 31\, Naumburg\, 06618\, Germany
CATEGORIES:Kurs
END:VEVENT
END:VCALENDAR