BEGIN:VCALENDAR
VERSION:2.0
PRODID:-//Tango in Leipzig - ECPv6.15.20//NONSGML v1.0//EN
CALSCALE:GREGORIAN
METHOD:PUBLISH
X-ORIGINAL-URL:https://tango-in-leipzig.de
X-WR-CALDESC:Veranstaltungen für Tango in Leipzig
REFRESH-INTERVAL;VALUE=DURATION:PT1H
X-Robots-Tag:noindex
X-PUBLISHED-TTL:PT1H
BEGIN:VTIMEZONE
TZID:Europe/Berlin
BEGIN:DAYLIGHT
TZOFFSETFROM:+0100
TZOFFSETTO:+0200
TZNAME:CEST
DTSTART:20250330T010000
END:DAYLIGHT
BEGIN:STANDARD
TZOFFSETFROM:+0200
TZOFFSETTO:+0100
TZNAME:CET
DTSTART:20251026T010000
END:STANDARD
BEGIN:DAYLIGHT
TZOFFSETFROM:+0100
TZOFFSETTO:+0200
TZNAME:CEST
DTSTART:20260329T010000
END:DAYLIGHT
BEGIN:STANDARD
TZOFFSETFROM:+0200
TZOFFSETTO:+0100
TZNAME:CET
DTSTART:20261025T010000
END:STANDARD
BEGIN:DAYLIGHT
TZOFFSETFROM:+0100
TZOFFSETTO:+0200
TZNAME:CEST
DTSTART:20270328T010000
END:DAYLIGHT
BEGIN:STANDARD
TZOFFSETFROM:+0200
TZOFFSETTO:+0100
TZNAME:CET
DTSTART:20271031T010000
END:STANDARD
END:VTIMEZONE
BEGIN:VEVENT
DTSTART;TZID=Europe/Berlin:20260624T184500
DTEND;TZID=Europe/Berlin:20260624T201500
DTSTAMP:20260423T234835
CREATED:20260408T153435Z
LAST-MODIFIED:20260408T153435Z
UID:3413-1782326700-1782332100@tango-in-leipzig.de
SUMMARY:Tango Club (Fortgeschrittene) Gera
DESCRIPTION:
URL:https://tango-in-leipzig.de/event/tango-club-fortgeschrittene-gera-12/
LOCATION:Tanzschule Schulze Gera\, Friedrich-Naumann-Platz 3\, Gera\, 07545\, Germany
CATEGORIES:Kurs
END:VEVENT
BEGIN:VEVENT
DTSTART;TZID=Europe/Berlin:20260624T190000
DTEND;TZID=Europe/Berlin:20260624T201500
DTSTAMP:20260423T234835
CREATED:20260408T153435Z
LAST-MODIFIED:20260408T153435Z
UID:3398-1782327600-1782332100@tango-in-leipzig.de
SUMMARY:Level 3 Mittelstufe – Tangosalon
DESCRIPTION:
URL:https://tango-in-leipzig.de/event/level-3-mittelstufe-tangosalon-12/
LOCATION:Tangosalon Leipzig\, Holbeinstr. 29\, Leipzig\, 04229\, Germany
CATEGORIES:Kurs
END:VEVENT
BEGIN:VEVENT
DTSTART;TZID=Europe/Berlin:20260624T190000
DTEND;TZID=Europe/Berlin:20260624T203000
DTSTAMP:20260423T234835
CREATED:20260408T153435Z
LAST-MODIFIED:20260408T153435Z
UID:3411-1782327600-1782333000@tango-in-leipzig.de
SUMMARY:Basics – Seele des Tangos (La academia)
DESCRIPTION:Lehrerin: Carsta Mock.
URL:https://tango-in-leipzig.de/event/basics-seele-des-tangos-la-academia-12/
LOCATION:La academia\, Altleubnitz 11\, Dresden\, 01219\, Germany
CATEGORIES:Kurs
END:VEVENT
BEGIN:VEVENT
DTSTART;TZID=Europe/Berlin:20260624T191500
DTEND;TZID=Europe/Berlin:20260624T201500
DTSTAMP:20260423T234835
CREATED:20260408T153435Z
LAST-MODIFIED:20260408T153435Z
UID:3406-1782328500-1782332100@tango-in-leipzig.de
SUMMARY:Tango Grund-/Aufbaukurs Jena
DESCRIPTION:Lehrer: Rena & Olaf.
URL:https://tango-in-leipzig.de/event/tango-grund-aufbaukurs-jena-12/
LOCATION:Tanzhaus Jena\, Camsdorfer Ufer 17\, Jena\, 07749\, Germany
CATEGORIES:Kurs
END:VEVENT
BEGIN:VEVENT
DTSTART;TZID=Europe/Berlin:20260624T191500
DTEND;TZID=Europe/Berlin:20260624T203000
DTSTAMP:20260423T234835
CREATED:20260408T153435Z
LAST-MODIFIED:20260408T153435Z
UID:3409-1782328500-1782333000@tango-in-leipzig.de
SUMMARY:Mittelstufe II C-Tango
DESCRIPTION:
URL:https://tango-in-leipzig.de/event/mittelstufe-ii-c-tango-8/
LOCATION:Kraftwerk e.V. Chemnitz\, Kassbergstr. 36\, Chemnitz\, 09112\, Germany
CATEGORIES:Kurs
END:VEVENT
BEGIN:VEVENT
DTSTART;TZID=Europe/Berlin:20260624T193000
DTEND;TZID=Europe/Berlin:20260624T203000
DTSTAMP:20260423T234835
CREATED:20260408T153435Z
LAST-MODIFIED:20260408T153435Z
UID:3410-1782329400-1782333000@tango-in-leipzig.de
SUMMARY:TanzFabrik Mittelstufe
DESCRIPTION:
URL:https://tango-in-leipzig.de/event/tanzfabrik-mittelstufe-12/
LOCATION:TanzFabrik Chemnitz\, Neefestr. 58\, Chemnitz\, 09119\, Germany
CATEGORIES:Kurs
END:VEVENT
BEGIN:VEVENT
DTSTART;TZID=Europe/Berlin:20260624T193000
DTEND;TZID=Europe/Berlin:20260624T204500
DTSTAMP:20260423T234835
CREATED:20260408T153435Z
LAST-MODIFIED:20260408T153435Z
UID:3401-1782329400-1782333900@tango-in-leipzig.de
SUMMARY:Fortgeschrittene – Sarah Mirren
DESCRIPTION:
URL:https://tango-in-leipzig.de/event/fortgeschrittene-sarah-mirren-12/
LOCATION:Sarah Mirren Tango\, Am Kanal 30\, Leipzig\, 04179\, Germany
CATEGORIES:Kurs
END:VEVENT
BEGIN:VEVENT
DTSTART;TZID=Europe/Berlin:20260624T200000
DTEND;TZID=Europe/Berlin:20260624T213000
DTSTAMP:20260423T234835
CREATED:20260408T153435Z
LAST-MODIFIED:20260408T153435Z
UID:3405-1782331200-1782336600@tango-in-leipzig.de
SUMMARY:Mittelstufe-Fortgeschrittene – Esquina
DESCRIPTION:
URL:https://tango-in-leipzig.de/event/mittelstufe-fortgeschrittene-esquina-12/
LOCATION:Esquina del Tango Erfurt\, Schlösserstr. 5\, Erfurt\, 99084\, Germany
CATEGORIES:Kurs
END:VEVENT
BEGIN:VEVENT
DTSTART;TZID=Europe/Berlin:20260624T200000
DTEND;TZID=Europe/Berlin:20260625T010000
DTSTAMP:20260423T234835
CREATED:20260417T092444Z
LAST-MODIFIED:20260417T092444Z
UID:4318-1782331200-1782349200@tango-in-leipzig.de
SUMMARY:Ballhaus Milonga — Wedding
DESCRIPTION:Mittwochs-Milonga im Ballhaus Wedding.
URL:https://tango-in-leipzig.de/event/ballhaus-milonga-wedding-10/
LOCATION:Ballhaus Wedding\, Wriezener Str. 6\, Berlin\, 13359\, Germany
CATEGORIES:milonga
END:VEVENT
BEGIN:VEVENT
DTSTART;TZID=Europe/Berlin:20260624T202000
DTEND;TZID=Europe/Berlin:20260624T213000
DTSTAMP:20260423T234835
CREATED:20260408T153435Z
LAST-MODIFIED:20260408T153435Z
UID:3407-1782332400-1782336600@tango-in-leipzig.de
SUMMARY:Tango Mittelstufe Jena
DESCRIPTION:
URL:https://tango-in-leipzig.de/event/tango-mittelstufe-jena-12/
LOCATION:Tanzhaus Jena\, Camsdorfer Ufer 17\, Jena\, 07749\, Germany
CATEGORIES:Kurs
END:VEVENT
BEGIN:VEVENT
DTSTART;TZID=Europe/Berlin:20260624T203000
DTEND;TZID=Europe/Berlin:20260624T214500
DTSTAMP:20260423T234835
CREATED:20260408T153435Z
LAST-MODIFIED:20260408T153435Z
UID:3399-1782333000-1782337500@tango-in-leipzig.de
SUMMARY:Level 4 Fortgeschritten – Tangosalon
DESCRIPTION:
URL:https://tango-in-leipzig.de/event/level-4-fortgeschritten-tangosalon-12/
LOCATION:Tangosalon Leipzig\, Holbeinstr. 29\, Leipzig\, 04229\, Germany
CATEGORIES:Kurs
END:VEVENT
BEGIN:VEVENT
DTSTART;TZID=Europe/Berlin:20260624T203000
DTEND;TZID=Europe/Berlin:20260625T000000
DTSTAMP:20260423T234835
CREATED:20260417T092444Z
LAST-MODIFIED:20260417T092444Z
UID:4320-1782333000-1782345600@tango-in-leipzig.de
SUMMARY:Milonga im Spiegelsaal — Clärchens Ballhaus
DESCRIPTION:Mittwochs-Milonga im Spiegelsaal. DJs: Gaia & Leandro.
URL:https://tango-in-leipzig.de/event/milonga-im-spiegelsaal-claerchens-ballhaus-10/
LOCATION:Clärchens Ballhaus\, Auguststr. 24\, Berlin\, 10117\, Germany
CATEGORIES:milonga
END:VEVENT
BEGIN:VEVENT
DTSTART;TZID=Europe/Berlin:20260624T210000
DTEND;TZID=Europe/Berlin:20260624T220000
DTSTAMP:20260423T234835
CREATED:20260408T153434Z
LAST-MODIFIED:20260408T153434Z
UID:3397-1782334800-1782338400@tango-in-leipzig.de
SUMMARY:Practica Tanzhaus Jena
DESCRIPTION:
URL:https://tango-in-leipzig.de/event/practica-tanzhaus-jena-12/
LOCATION:Tanzhaus Jena\, Camsdorfer Ufer 17\, Jena\, 07749\, Germany
CATEGORIES:practica
END:VEVENT
BEGIN:VEVENT
DTSTART;TZID=Europe/Berlin:20260624T210000
DTEND;TZID=Europe/Berlin:20260624T230000
DTSTAMP:20260423T234835
CREATED:20260417T092444Z
LAST-MODIFIED:20260417T092444Z
UID:4323-1782334800-1782342000@tango-in-leipzig.de
SUMMARY:TTMS Mittwochspraktika
DESCRIPTION:Mittwochspraktika bei TTMS in Kreuzberg.
URL:https://tango-in-leipzig.de/event/ttms-mittwochspraktika-10/
LOCATION:Tangotanzen macht schön (TTMS)\, Oranienstr. 185\, Berlin\, 10999\, Germany
CATEGORIES:practica
END:VEVENT
BEGIN:VEVENT
DTSTART;TZID=Europe/Berlin:20260624T210000
DTEND;TZID=Europe/Berlin:20260625T003000
DTSTAMP:20260423T234835
CREATED:20260417T092444Z
LAST-MODIFIED:20260417T092444Z
UID:4324-1782334800-1782347400@tango-in-leipzig.de
SUMMARY:Tangonacht — Mala Junta
DESCRIPTION:Mittwochs-Tangonacht. Open Class ab 19:45. Schöneberg.
URL:https://tango-in-leipzig.de/event/tangonacht-mala-junta-10/
LOCATION:Mala Junta\, Kolonnenstr. 29\, Berlin\, 10829\, Germany
CATEGORIES:milonga
END:VEVENT
BEGIN:VEVENT
DTSTART;TZID=Europe/Berlin:20260625T170000
DTEND;TZID=Europe/Berlin:20260625T194500
DTSTAMP:20260423T234835
CREATED:20260417T092445Z
LAST-MODIFIED:20260417T092445Z
UID:4326-1782406800-1782416700@tango-in-leipzig.de
SUMMARY:Tangowerkstatt — Esquina del Tango Erfurt
DESCRIPTION:Donnerstags-Tangowerkstatt.
URL:https://tango-in-leipzig.de/event/tangowerkstatt-esquina-del-tango-erfurt-11/
LOCATION:Esquina del Tango\, Schlösserstr. 5\, Erfurt\, 99084\, Germany
CATEGORIES:practica
END:VEVENT
BEGIN:VEVENT
DTSTART;TZID=Europe/Berlin:20260625T180000
DTEND;TZID=Europe/Berlin:20260625T191500
DTSTAMP:20260423T234835
CREATED:20260408T153435Z
LAST-MODIFIED:20260408T153435Z
UID:3420-1782410400-1782414900@tango-in-leipzig.de
SUMMARY:Level 1 Basis – Tangosalon
DESCRIPTION:Anfaengerkurs. Einstieg jederzeit.
URL:https://tango-in-leipzig.de/event/level-1-basis-tangosalon-12/
LOCATION:Tangosalon Leipzig\, Holbeinstr. 29\, Leipzig\, 04229\, Germany
CATEGORIES:Kurs
END:VEVENT
BEGIN:VEVENT
DTSTART;TZID=Europe/Berlin:20260625T183000
DTEND;TZID=Europe/Berlin:20260625T194500
DTSTAMP:20260423T234835
CREATED:20260416T110551Z
LAST-MODIFIED:20260416T110551Z
UID:3653-1782412200-1782416700@tango-in-leipzig.de
SUMMARY:Tango Level 1/2
DESCRIPTION:Wöchentlicher Kurs für Anfänger und Mittelstufe. Lehrer: Juliane & Franz (Vertretung für Almut & Stefan). Anmeldung über Eversports.
URL:https://tango-in-leipzig.de/event/tango-level-1-2-11/
LOCATION:Tanzschule Tango Mio Halle\, Geiststraße 22\, Halle\, 06108\, Germany
CATEGORIES:Kurs
END:VEVENT
BEGIN:VEVENT
DTSTART;TZID=Europe/Berlin:20260625T183000
DTEND;TZID=Europe/Berlin:20260625T200000
DTSTAMP:20260423T234835
CREATED:20260408T153435Z
LAST-MODIFIED:20260408T153435Z
UID:3425-1782412200-1782417600@tango-in-leipzig.de
SUMMARY:Frauentechnik – Esquina
DESCRIPTION:Lehrerin: Silvina Machado.
URL:https://tango-in-leipzig.de/event/frauentechnik-esquina-6/
LOCATION:Esquina del Tango Erfurt\, Schlösserstr. 5\, Erfurt\, 99084\, Germany
CATEGORIES:Kurs
END:VEVENT
BEGIN:VEVENT
DTSTART;TZID=Europe/Berlin:20260625T184500
DTEND;TZID=Europe/Berlin:20260625T200000
DTSTAMP:20260423T234835
CREATED:20260408T153435Z
LAST-MODIFIED:20260408T153435Z
UID:3422-1782413100-1782417600@tango-in-leipzig.de
SUMMARY:BASIS-Kurs – Sarah Mirren
DESCRIPTION:Anfaengerkurs.
URL:https://tango-in-leipzig.de/event/basis-kurs-sarah-mirren-12/
LOCATION:Sarah Mirren Tango\, Am Kanal 30\, Leipzig\, 04179\, Germany
CATEGORIES:Kurs
END:VEVENT
BEGIN:VEVENT
DTSTART;TZID=Europe/Berlin:20260625T190000
DTEND;TZID=Europe/Berlin:20260625T200000
DTSTAMP:20260423T234835
CREATED:20260408T153435Z
LAST-MODIFIED:20260408T153435Z
UID:3426-1782414000-1782417600@tango-in-leipzig.de
SUMMARY:Donnerstagskurs Typisch Tango
DESCRIPTION:
URL:https://tango-in-leipzig.de/event/donnerstagskurs-typisch-tango-12/
LOCATION:Yogastudio Ekatra\, Seengässlein 3\, Erfurt\, 99084\, Germany
CATEGORIES:Kurs
END:VEVENT
BEGIN:VEVENT
DTSTART;TZID=Europe/Berlin:20260625T190000
DTEND;TZID=Europe/Berlin:20260625T200000
DTSTAMP:20260423T234835
CREATED:20260408T153436Z
LAST-MODIFIED:20260408T153436Z
UID:3428-1782414000-1782417600@tango-in-leipzig.de
SUMMARY:Tango-Kurs-Stunde Naumburg
DESCRIPTION:Lehrer: Hermhild & Jochen Hilgenberg.
URL:https://tango-in-leipzig.de/event/tango-kurs-stunde-naumburg-12/
LOCATION:JZ OTTO Naumburg\, Poststr. 31\, Naumburg\, 06618\, Germany
CATEGORIES:Kurs
END:VEVENT
BEGIN:VEVENT
DTSTART;TZID=Europe/Berlin:20260625T190000
DTEND;TZID=Europe/Berlin:20260625T210000
DTSTAMP:20260423T234835
CREATED:20260408T153435Z
LAST-MODIFIED:20260408T153435Z
UID:3418-1782414000-1782421200@tango-in-leipzig.de
SUMMARY:Angeleiteter Übungsabend Studio 24
DESCRIPTION:
URL:https://tango-in-leipzig.de/event/angeleiteter-uebungsabend-studio-24-12/
LOCATION:Studio 24 Dresden\, Grossenhainer Str. 29\, Dresden\, 01097\, Germany
CATEGORIES:practica
END:VEVENT
BEGIN:VEVENT
DTSTART;TZID=Europe/Berlin:20260625T190000
DTEND;TZID=Europe/Berlin:20260625T220000
DTSTAMP:20260423T234835
CREATED:20260417T092445Z
LAST-MODIFIED:20260417T092445Z
UID:4328-1782414000-1782424800@tango-in-leipzig.de
SUMMARY:Stravaganza Praktilonga — Tangoloft
DESCRIPTION:Monatliche Praktilonga. Einstündiges Seminar ab 19:00\, Practilonga ab 20:00.
URL:https://tango-in-leipzig.de/event/stravaganza-praktilonga-tangoloft-3/
LOCATION:Tangoloft\, Pfuelstr. 5\, Berlin\, 10997\, Germany
CATEGORIES:practica
END:VEVENT
BEGIN:VEVENT
DTSTART;TZID=Europe/Berlin:20260625T193000
DTEND;TZID=Europe/Berlin:20260625T204500
DTSTAMP:20260423T234835
CREATED:20260408T153435Z
LAST-MODIFIED:20260408T153435Z
UID:3421-1782415800-1782420300@tango-in-leipzig.de
SUMMARY:Level 2 Aufbau – Tangosalon
DESCRIPTION:
URL:https://tango-in-leipzig.de/event/level-2-aufbau-tangosalon-12/
LOCATION:Tangosalon Leipzig\, Holbeinstr. 29\, Leipzig\, 04229\, Germany
CATEGORIES:Kurs
END:VEVENT
BEGIN:VEVENT
DTSTART;TZID=Europe/Berlin:20260625T193000
DTEND;TZID=Europe/Berlin:20260625T210000
DTSTAMP:20260423T234835
CREATED:20260408T153435Z
LAST-MODIFIED:20260408T153435Z
UID:3417-1782415800-1782421200@tango-in-leipzig.de
SUMMARY:Tango Praktika Weimar
DESCRIPTION:
URL:https://tango-in-leipzig.de/event/tango-praktika-weimar-12/
LOCATION:mon ami Weimar\, Goetheplatz 11\, Weimar\, 99423\, Germany
CATEGORIES:practica
END:VEVENT
BEGIN:VEVENT
DTSTART;TZID=Europe/Berlin:20260625T193000
DTEND;TZID=Europe/Berlin:20260625T210000
DTSTAMP:20260423T234835
CREATED:20260408T153436Z
LAST-MODIFIED:20260408T153436Z
UID:3427-1782415800-1782421200@tango-in-leipzig.de
SUMMARY:Offener Tango-Kurs el Tango puro
DESCRIPTION:Lehrer: Marie & Norman.
URL:https://tango-in-leipzig.de/event/offener-tango-kurs-el-tango-puro-12/
LOCATION:el Tango puro Magdeburg\, Lüneburger Str. 26\, Magdeburg\, 39106\, Germany
CATEGORIES:Kurs
END:VEVENT
BEGIN:VEVENT
DTSTART;TZID=Europe/Berlin:20260625T193000
DTEND;TZID=Europe/Berlin:20260625T221500
DTSTAMP:20260423T234835
CREATED:20260417T092445Z
LAST-MODIFIED:20260417T092445Z
UID:4331-1782415800-1782425700@tango-in-leipzig.de
SUMMARY:Praktika — Nou Tango
DESCRIPTION:Donnerstags-Praktika (nur Paare). Mitte.
URL:https://tango-in-leipzig.de/event/praktika-nou-tango-11/
LOCATION:Nou Tango\, Chausseestr. 102\, Berlin\, 10115\, Germany
CATEGORIES:practica
END:VEVENT
BEGIN:VEVENT
DTSTART;TZID=Europe/Berlin:20260625T193000
DTEND;TZID=Europe/Berlin:20260625T230000
DTSTAMP:20260423T234835
CREATED:20260417T092445Z
LAST-MODIFIED:20260417T092445Z
UID:4329-1782415800-1782428400@tango-in-leipzig.de
SUMMARY:Neolonga — Basecamp
DESCRIPTION:Donnerstags-Neolonga in Wilmersdorf.
URL:https://tango-in-leipzig.de/event/neolonga-basecamp-11/
LOCATION:Basecamp\, Düsseldorfer Str. 32\, Berlin\, 10707\, Germany
CATEGORIES:milonga
END:VEVENT
BEGIN:VEVENT
DTSTART;TZID=Europe/Berlin:20260625T200000
DTEND;TZID=Europe/Berlin:20260625T211500
DTSTAMP:20260423T234835
CREATED:20260408T153435Z
LAST-MODIFIED:20260408T153435Z
UID:3423-1782417600-1782422100@tango-in-leipzig.de
SUMMARY:Mittelstufe/Fortgeschrittene – Sarah Mirren
DESCRIPTION:
URL:https://tango-in-leipzig.de/event/mittelstufe-fortgeschrittene-sarah-mirren-12/
LOCATION:Sarah Mirren Tango\, Am Kanal 30\, Leipzig\, 04179\, Germany
CATEGORIES:Kurs
END:VEVENT
END:VCALENDAR