BEGIN:VCALENDAR
VERSION:2.0
PRODID:-//Tango in Leipzig - ECPv6.15.20//NONSGML v1.0//EN
CALSCALE:GREGORIAN
METHOD:PUBLISH
X-ORIGINAL-URL:https://tango-in-leipzig.de
X-WR-CALDESC:Veranstaltungen für Tango in Leipzig
REFRESH-INTERVAL;VALUE=DURATION:PT1H
X-Robots-Tag:noindex
X-PUBLISHED-TTL:PT1H
BEGIN:VTIMEZONE
TZID:Europe/Berlin
BEGIN:DAYLIGHT
TZOFFSETFROM:+0100
TZOFFSETTO:+0200
TZNAME:CEST
DTSTART:20250330T010000
END:DAYLIGHT
BEGIN:STANDARD
TZOFFSETFROM:+0200
TZOFFSETTO:+0100
TZNAME:CET
DTSTART:20251026T010000
END:STANDARD
BEGIN:DAYLIGHT
TZOFFSETFROM:+0100
TZOFFSETTO:+0200
TZNAME:CEST
DTSTART:20260329T010000
END:DAYLIGHT
BEGIN:STANDARD
TZOFFSETFROM:+0200
TZOFFSETTO:+0100
TZNAME:CET
DTSTART:20261025T010000
END:STANDARD
BEGIN:DAYLIGHT
TZOFFSETFROM:+0100
TZOFFSETTO:+0200
TZNAME:CEST
DTSTART:20270328T010000
END:DAYLIGHT
BEGIN:STANDARD
TZOFFSETFROM:+0200
TZOFFSETTO:+0100
TZNAME:CET
DTSTART:20271031T010000
END:STANDARD
END:VTIMEZONE
BEGIN:VEVENT
DTSTART;TZID=Europe/Berlin:20260620T170000
DTEND;TZID=Europe/Berlin:20260620T220000
DTSTAMP:20260423T205312
CREATED:20260417T092443Z
LAST-MODIFIED:20260417T092443Z
UID:4295-1781974800-1781992800@tango-in-leipzig.de
SUMMARY:Milonga La Remise
DESCRIPTION:Samstags-Milonga in Moabit auf Spendenbasis.
URL:https://tango-in-leipzig.de/event/milonga-la-remise-10/
LOCATION:La Remise\, Bremer Str. 68\, Berlin\, 10551\, Germany
CATEGORIES:milonga
END:VEVENT
BEGIN:VEVENT
DTSTART;TZID=Europe/Berlin:20260620T203000
DTEND;TZID=Europe/Berlin:20260621T003000
DTSTAMP:20260423T205312
CREATED:20260408T153434Z
LAST-MODIFIED:20260408T153434Z
UID:3382-1781987400-1782001800@tango-in-leipzig.de
SUMMARY:Samstagsmilonga Tres Tangos
DESCRIPTION:Kostenlose Tangostunde 19:45-20:30 vor jeder Milonga.
URL:https://tango-in-leipzig.de/event/samstagsmilonga-tres-tangos-11/
LOCATION:Tres Tangos Dresden\, Dornblüthstr. 16\, Dresden\, 01277\, Germany
CATEGORIES:milonga
END:VEVENT
BEGIN:VEVENT
DTSTART;TZID=Europe/Berlin:20260620T210000
DTEND;TZID=Europe/Berlin:20260621T030000
DTSTAMP:20260423T205312
CREATED:20260417T092443Z
LAST-MODIFIED:20260417T092443Z
UID:4299-1781989200-1782010800@tango-in-leipzig.de
SUMMARY:Tango Rouge — KitKatClub
DESCRIPTION:Samstags-Milonga im KitKatClub Basement\, Mitte. Strikter Dresscode.
URL:https://tango-in-leipzig.de/event/tango-rouge-kitkatclub-10/
LOCATION:KitKatClub\, Brückenstr. 1\, Berlin\, 10179\, Germany
CATEGORIES:milonga
END:VEVENT
BEGIN:VEVENT
DTSTART;TZID=Europe/Berlin:20260620T213000
DTEND;TZID=Europe/Berlin:20260621T020000
DTSTAMP:20260423T205312
CREATED:20260408T153434Z
LAST-MODIFIED:20260408T153434Z
UID:3381-1781991000-1782007200@tango-in-leipzig.de
SUMMARY:Milonga CENTRAL im Baileo
DESCRIPTION:Groesste regulaere Milonga Leipzigs. Gastgeber: Thoma & Sarah Mirren. DJ: Thoma.
URL:https://tango-in-leipzig.de/event/milonga-central-im-baileo-3/
LOCATION:Baileo – Tanzpassion Leipzig\, Dittrichring 17\, Leipzig\, 04109\, Germany
CATEGORIES:milonga
END:VEVENT
BEGIN:VEVENT
DTSTART;TZID=Europe/Berlin:20260621T110000
DTEND;TZID=Europe/Berlin:20260621T130000
DTSTAMP:20260423T205312
CREATED:20260417T092443Z
LAST-MODIFIED:20260417T092443Z
UID:4300-1782039600-1782046800@tango-in-leipzig.de
SUMMARY:Sonntags Tango Praktika — Mala Junta
DESCRIPTION:Sonntags-Practica in Schöneberg.
URL:https://tango-in-leipzig.de/event/sonntags-tango-praktika-mala-junta-10/
LOCATION:Mala Junta\, Kolonnenstr. 29\, Berlin\, 10829\, Germany
CATEGORIES:practica
END:VEVENT
BEGIN:VEVENT
DTSTART;TZID=Europe/Berlin:20260621T130000
DTEND;TZID=Europe/Berlin:20260621T160000
DTSTAMP:20260423T205312
CREATED:20260408T153434Z
LAST-MODIFIED:20260408T153434Z
UID:3384-1782046800-1782057600@tango-in-leipzig.de
SUMMARY:Ladies Only – Giros – mit Leichtigkeit gedreht
DESCRIPTION:Seminar nur fuer Frauen. Offen fuer alle Level. Lehrerin: Angela.
URL:https://tango-in-leipzig.de/event/ladies-only-giros-mit-leichtigkeit-gedreht/
LOCATION:Tangosalon Leipzig\, Holbeinstr. 29\, Leipzig\, 04229\, Germany
CATEGORIES:workshop
END:VEVENT
BEGIN:VEVENT
DTSTART;TZID=Europe/Berlin:20260621T150000
DTEND;TZID=Europe/Berlin:20260621T210000
DTSTAMP:20260423T205312
CREATED:20260417T092443Z
LAST-MODIFIED:20260417T092443Z
UID:4301-1782054000-1782075600@tango-in-leipzig.de
SUMMARY:Café Domínguez — Nou Tango
DESCRIPTION:Sonntags-Milonga im Nou Tango\, Mitte.
URL:https://tango-in-leipzig.de/event/cafe-dominguez-nou-tango-10/
LOCATION:Nou Tango\, Chausseestr. 102\, Berlin\, 10115\, Germany
CATEGORIES:milonga
END:VEVENT
BEGIN:VEVENT
DTSTART;TZID=Europe/Berlin:20260621T160000
DTEND;TZID=Europe/Berlin:20260621T180000
DTSTAMP:20260423T205312
CREATED:20260408T153434Z
LAST-MODIFIED:20260408T153434Z
UID:3387-1782057600-1782064800@tango-in-leipzig.de
SUMMARY:Sonntagskurs Typisch Tango
DESCRIPTION:Offenes Level.
URL:https://tango-in-leipzig.de/event/sonntagskurs-typisch-tango-11/
LOCATION:Yogastudio Ekatra\, Seengässlein 3\, Erfurt\, 99084\, Germany
CATEGORIES:Kurs
END:VEVENT
BEGIN:VEVENT
DTSTART;TZID=Europe/Berlin:20260621T160000
DTEND;TZID=Europe/Berlin:20260621T200000
DTSTAMP:20260423T205312
CREATED:20260417T092444Z
LAST-MODIFIED:20260417T092444Z
UID:4302-1782057600-1782072000@tango-in-leipzig.de
SUMMARY:Sonntags-Milonga — Mala Junta
DESCRIPTION:Sonntags-Milonga (Atipica/Bien Pulenta/Mimosa rotierend) in Schöneberg.
URL:https://tango-in-leipzig.de/event/sonntags-milonga-mala-junta-10/
LOCATION:Mala Junta\, Kolonnenstr. 29\, Berlin\, 10829\, Germany
CATEGORIES:milonga
END:VEVENT
BEGIN:VEVENT
DTSTART;TZID=Europe/Berlin:20260621T160000
DTEND;TZID=Europe/Berlin:20260621T200000
DTSTAMP:20260423T205312
CREATED:20260417T092444Z
LAST-MODIFIED:20260417T092444Z
UID:4303-1782057600-1782072000@tango-in-leipzig.de
SUMMARY:Tango zum Glück (Queer/Open Role) — TTMS
DESCRIPTION:Queer/Open-Role-Milonga in Kreuzberg.
URL:https://tango-in-leipzig.de/event/tango-zum-glueck-queer-open-role-ttms-10/
LOCATION:Tangotanzen macht schön (TTMS)\, Oranienstr. 185\, Berlin\, 10999\, Germany
CATEGORIES:milonga
END:VEVENT
BEGIN:VEVENT
DTSTART;TZID=Europe/Berlin:20260621T180000
DTEND;TZID=Europe/Berlin:20260622T020000
DTSTAMP:20260423T205312
CREATED:20260417T092444Z
LAST-MODIFIED:20260417T092444Z
UID:4304-1782064800-1782093600@tango-in-leipzig.de
SUMMARY:Tangoloft Sunday Milonga
DESCRIPTION:Sonntags-Milonga im Tangoloft\, Kreuzberg.
URL:https://tango-in-leipzig.de/event/tangoloft-sunday-milonga-10/
LOCATION:Tangoloft\, Pfuelstr. 5\, Berlin\, 10997\, Germany
CATEGORIES:milonga
END:VEVENT
BEGIN:VEVENT
DTSTART;TZID=Europe/Berlin:20260621T183000
DTEND;TZID=Europe/Berlin:20260621T220000
DTSTAMP:20260423T205312
CREATED:20260408T153434Z
LAST-MODIFIED:20260408T153434Z
UID:3385-1782066600-1782079200@tango-in-leipzig.de
SUMMARY:Sonntags-Milonga Weimar
DESCRIPTION:
URL:https://tango-in-leipzig.de/event/sonntags-milonga-weimar-11/
LOCATION:Villa Anneliese\, Riessnerstr. 46\, Weimar\, 99423\, Germany
CATEGORIES:milonga
END:VEVENT
BEGIN:VEVENT
DTSTART;TZID=Europe/Berlin:20260621T190000
DTEND;TZID=Europe/Berlin:20260621T200000
DTSTAMP:20260423T205312
CREATED:20260408T153434Z
LAST-MODIFIED:20260408T153434Z
UID:3388-1782068400-1782072000@tango-in-leipzig.de
SUMMARY:TanzFabrik BASIC
DESCRIPTION:
URL:https://tango-in-leipzig.de/event/tanzfabrik-basic-11/
LOCATION:TanzFabrik Chemnitz\, Neefestr. 58\, Chemnitz\, 09119\, Germany
CATEGORIES:Kurs
END:VEVENT
BEGIN:VEVENT
DTSTART;TZID=Europe/Berlin:20260621T203000
DTEND;TZID=Europe/Berlin:20260621T220000
DTSTAMP:20260423T205312
CREATED:20260408T153434Z
LAST-MODIFIED:20260408T153434Z
UID:3386-1782073800-1782079200@tango-in-leipzig.de
SUMMARY:Übungskurs TanzFabrik Chemnitz
DESCRIPTION:
URL:https://tango-in-leipzig.de/event/uebungskurs-tanzfabrik-chemnitz-11/
LOCATION:TanzFabrik Chemnitz\, Neefestr. 58\, Chemnitz\, 09119\, Germany
CATEGORIES:practica
END:VEVENT
BEGIN:VEVENT
DTSTART;TZID=Europe/Berlin:20260622T183000
DTEND;TZID=Europe/Berlin:20260622T193000
DTSTAMP:20260423T205312
CREATED:20260408T153434Z
LAST-MODIFIED:20260408T153434Z
UID:3392-1782153000-1782156600@tango-in-leipzig.de
SUMMARY:Tango Club Hartwig
DESCRIPTION:
URL:https://tango-in-leipzig.de/event/tango-club-hartwig-11/
LOCATION:Tanzschule Hartwig Jena\, Lassallestr. 8\, Jena\, 07743\, Germany
CATEGORIES:Kurs
END:VEVENT
BEGIN:VEVENT
DTSTART;TZID=Europe/Berlin:20260622T183000
DTEND;TZID=Europe/Berlin:20260622T200000
DTSTAMP:20260423T205312
CREATED:20260408T153434Z
LAST-MODIFIED:20260408T153434Z
UID:3393-1782153000-1782158400@tango-in-leipzig.de
SUMMARY:Tango Argentino Uni Halle
DESCRIPTION:
URL:https://tango-in-leipzig.de/event/tango-argentino-uni-halle-11/
LOCATION:Sporthalle Kröllwitz\, Halle\, 06120\, Germany
CATEGORIES:Kurs
END:VEVENT
BEGIN:VEVENT
DTSTART;TZID=Europe/Berlin:20260622T190000
DTEND;TZID=Europe/Berlin:20260622T203000
DTSTAMP:20260423T205312
CREATED:20260408T153434Z
LAST-MODIFIED:20260408T153434Z
UID:3390-1782154800-1782160200@tango-in-leipzig.de
SUMMARY:Mittelstufe I – Esquina
DESCRIPTION:Lehrer: Hector Corona & Silvina Machado.
URL:https://tango-in-leipzig.de/event/mittelstufe-i-esquina-11/
LOCATION:Esquina del Tango Erfurt\, Schlösserstr. 5\, Erfurt\, 99084\, Germany
CATEGORIES:Kurs
END:VEVENT
BEGIN:VEVENT
DTSTART;TZID=Europe/Berlin:20260622T190000
DTEND;TZID=Europe/Berlin:20260622T203000
DTSTAMP:20260423T205312
CREATED:20260408T153434Z
LAST-MODIFIED:20260408T153434Z
UID:3391-1782154800-1782160200@tango-in-leipzig.de
SUMMARY:Anfängerkurs Weimar
DESCRIPTION:Lehrer: Brigitte Backhaus & Carlos Tapia.
URL:https://tango-in-leipzig.de/event/anfaengerkurs-weimar-11/
LOCATION:mon ami Weimar\, Goetheplatz 11\, Weimar\, 99423\, Germany
CATEGORIES:Kurs
END:VEVENT
BEGIN:VEVENT
DTSTART;TZID=Europe/Berlin:20260622T193000
DTEND;TZID=Europe/Berlin:20260623T000000
DTSTAMP:20260423T205312
CREATED:20260417T092444Z
LAST-MODIFIED:20260417T092444Z
UID:4307-1782156600-1782172800@tango-in-leipzig.de
SUMMARY:Sentidos — Haus der Sinne
DESCRIPTION:Montagsmilonga im Haus der Sinne\, Prenzlauer Berg.
URL:https://tango-in-leipzig.de/event/sentidos-haus-der-sinne-10/
LOCATION:Haus der Sinne\, Ystader Str. 10\, Berlin\, 10437\, Germany
CATEGORIES:milonga
END:VEVENT
BEGIN:VEVENT
DTSTART;TZID=Europe/Berlin:20260622T200000
DTEND;TZID=Europe/Berlin:20260622T230000
DTSTAMP:20260423T205312
CREATED:20260408T192232Z
LAST-MODIFIED:20260408T192232Z
UID:3522-1782158400-1782169200@tango-in-leipzig.de
SUMMARY:Tango Club – Tango Studio Leipzig
DESCRIPTION:
URL:https://tango-in-leipzig.de/event/tango-club-tango-studio-leipzig-10/
LOCATION:Tango Studio Leipzig\, Brandvorwerkstraße 52-54\, Leipzig\, 04275\, Germany
CATEGORIES:milonga
ORGANIZER;CN="Tango Studio Leipzig":MAILTO:thoma@tangostudioleipzig.de
END:VEVENT
BEGIN:VEVENT
DTSTART;TZID=Europe/Berlin:20260622T203000
DTEND;TZID=Europe/Berlin:20260622T223000
DTSTAMP:20260423T205312
CREATED:20260408T153434Z
LAST-MODIFIED:20260408T153434Z
UID:3389-1782160200-1782167400@tango-in-leipzig.de
SUMMARY:Practilonga Esquina
DESCRIPTION:
URL:https://tango-in-leipzig.de/event/practilonga-esquina-11/
LOCATION:Esquina del Tango Erfurt\, Schlösserstr. 5\, Erfurt\, 99084\, Germany
CATEGORIES:practica
END:VEVENT
BEGIN:VEVENT
DTSTART;TZID=Europe/Berlin:20260622T210000
DTEND;TZID=Europe/Berlin:20260623T010000
DTSTAMP:20260423T205312
CREATED:20260417T092444Z
LAST-MODIFIED:20260417T092444Z
UID:4309-1782162000-1782176400@tango-in-leipzig.de
SUMMARY:Milonga Popular — Tangoloft
DESCRIPTION:Montagsmilonga im Tangoloft\, Kreuzberg.
URL:https://tango-in-leipzig.de/event/milonga-popular-tangoloft-10/
LOCATION:Tangoloft\, Pfuelstr. 5\, Berlin\, 10997\, Germany
CATEGORIES:milonga
END:VEVENT
BEGIN:VEVENT
DTSTART;TZID=Europe/Berlin:20260623T181500
DTEND;TZID=Europe/Berlin:20260623T194500
DTSTAMP:20260423T205312
CREATED:20260408T153434Z
LAST-MODIFIED:20260408T153434Z
UID:3395-1782238500-1782243900@tango-in-leipzig.de
SUMMARY:Mittelstufe II – Esquina
DESCRIPTION:
URL:https://tango-in-leipzig.de/event/mittelstufe-ii-esquina-11/
LOCATION:Esquina del Tango Erfurt\, Schlösserstr. 5\, Erfurt\, 99084\, Germany
CATEGORIES:Kurs
END:VEVENT
BEGIN:VEVENT
DTSTART;TZID=Europe/Berlin:20260623T190000
DTEND;TZID=Europe/Berlin:20260623T220000
DTSTAMP:20260423T205312
CREATED:20260417T092444Z
LAST-MODIFIED:20260417T092444Z
UID:4310-1782241200-1782252000@tango-in-leipzig.de
SUMMARY:After-Work-Milonga — Balance-Zentrum Magdeburg
DESCRIPTION:Wöchentliche After-Work-Milonga. Bei warmem Wetter auf dem Glasbalkon an der Elbe.
URL:https://tango-in-leipzig.de/event/after-work-milonga-balance-zentrum-magdeburg-10/
LOCATION:Balance-Zentrum\, Nicolaistr. 5\, Magdeburg\, 39104\, Germany
CATEGORIES:milonga
END:VEVENT
BEGIN:VEVENT
DTSTART;TZID=Europe/Berlin:20260623T190000
DTEND;TZID=Europe/Berlin:20260623T230000
DTSTAMP:20260423T205312
CREATED:20260417T092444Z
LAST-MODIFIED:20260417T092444Z
UID:4312-1782241200-1782255600@tango-in-leipzig.de
SUMMARY:TorEins Neolonga
DESCRIPTION:Dienstags-Neolonga in Kreuzberg. Eintritt frei.
URL:https://tango-in-leipzig.de/event/toreins-neolonga-10/
LOCATION:TorEins\, Möckernstr. 26\, Berlin\, 10963\, Germany
CATEGORIES:milonga
END:VEVENT
BEGIN:VEVENT
DTSTART;TZID=Europe/Berlin:20260623T190000
DTEND;TZID=Europe/Berlin:20260623T230000
DTSTAMP:20260423T205312
CREATED:20260417T092444Z
LAST-MODIFIED:20260417T092444Z
UID:4311-1782241200-1782255600@tango-in-leipzig.de
SUMMARY:La Noche del Tango — Café Mosaik Magdeburg
DESCRIPTION:Offener Kurs mit Olenka & Patrick ab 19:00\, dann Milonga Tradicional 20:00–23:00 mit DJ Patrick.
URL:https://tango-in-leipzig.de/event/la-noche-del-tango-cafe-mosaik-magdeburg-10/
LOCATION:Café Mosaik\, Sternstr. 33\, Magdeburg\, 39104\, Germany
CATEGORIES:milonga
END:VEVENT
BEGIN:VEVENT
DTSTART;TZID=Europe/Berlin:20260623T200000
DTEND;TZID=Europe/Berlin:20260623T213000
DTSTAMP:20260423T205312
CREATED:20260408T153434Z
LAST-MODIFIED:20260408T153434Z
UID:3396-1782244800-1782250200@tango-in-leipzig.de
SUMMARY:Fortgeschrittene – Esquina
DESCRIPTION:
URL:https://tango-in-leipzig.de/event/fortgeschrittene-esquina-11/
LOCATION:Esquina del Tango Erfurt\, Schlösserstr. 5\, Erfurt\, 99084\, Germany
CATEGORIES:Kurs
END:VEVENT
BEGIN:VEVENT
DTSTART;TZID=Europe/Berlin:20260623T200000
DTEND;TZID=Europe/Berlin:20260624T010000
DTSTAMP:20260423T205312
CREATED:20260417T092444Z
LAST-MODIFIED:20260417T092444Z
UID:4314-1782244800-1782262800@tango-in-leipzig.de
SUMMARY:Tangonacht — Roter Salon / Volksbühne
DESCRIPTION:Dienstags-Tangonacht im Roten Salon an der Volksbühne\, Mitte.
URL:https://tango-in-leipzig.de/event/tangonacht-roter-salon-volksbuehne-10/
LOCATION:Roter Salon / Volksbühne\, Rosa-Luxemburg-Platz\, Berlin\, 10178\, Germany
CATEGORIES:milonga
END:VEVENT
BEGIN:VEVENT
DTSTART;TZID=Europe/Berlin:20260623T210000
DTEND;TZID=Europe/Berlin:20260623T233000
DTSTAMP:20260423T205312
CREATED:20260408T153434Z
LAST-MODIFIED:20260408T153434Z
UID:3394-1782248400-1782257400@tango-in-leipzig.de
SUMMARY:Practica Wasserhäuschen
DESCRIPTION:Dienstags-Practica von L-Tango e.V.
URL:https://tango-in-leipzig.de/event/practica-wasserhaeuschen-11/
LOCATION:Wasserhäuschen\, Industriestr. 72\, Leipzig\, 04229\, Germany
CATEGORIES:practica
END:VEVENT
BEGIN:VEVENT
DTSTART;TZID=Europe/Berlin:20260624T173000
DTEND;TZID=Europe/Berlin:20260624T183000
DTSTAMP:20260423T205312
CREATED:20260408T153435Z
LAST-MODIFIED:20260408T153435Z
UID:3402-1782322200-1782325800@tango-in-leipzig.de
SUMMARY:Anfängerkurs HTWK
DESCRIPTION:Lehrer: Nicole Terentjewa & Thomas Grau.
URL:https://tango-in-leipzig.de/event/anfaengerkurs-htwk-12/
LOCATION:HTWK Leipzig\, Gustav-Freytag-Str. 43-45\, Leipzig\, 04277\, Germany
CATEGORIES:Kurs
END:VEVENT
END:VCALENDAR