BEGIN:VCALENDAR
VERSION:2.0
PRODID:-//Tango in Leipzig - ECPv6.15.20//NONSGML v1.0//EN
CALSCALE:GREGORIAN
METHOD:PUBLISH
X-ORIGINAL-URL:https://tango-in-leipzig.de
X-WR-CALDESC:Veranstaltungen für Tango in Leipzig
REFRESH-INTERVAL;VALUE=DURATION:PT1H
X-Robots-Tag:noindex
X-PUBLISHED-TTL:PT1H
BEGIN:VTIMEZONE
TZID:Europe/Berlin
BEGIN:DAYLIGHT
TZOFFSETFROM:+0100
TZOFFSETTO:+0200
TZNAME:CEST
DTSTART:20250330T010000
END:DAYLIGHT
BEGIN:STANDARD
TZOFFSETFROM:+0200
TZOFFSETTO:+0100
TZNAME:CET
DTSTART:20251026T010000
END:STANDARD
BEGIN:DAYLIGHT
TZOFFSETFROM:+0100
TZOFFSETTO:+0200
TZNAME:CEST
DTSTART:20260329T010000
END:DAYLIGHT
BEGIN:STANDARD
TZOFFSETFROM:+0200
TZOFFSETTO:+0100
TZNAME:CET
DTSTART:20261025T010000
END:STANDARD
BEGIN:DAYLIGHT
TZOFFSETFROM:+0100
TZOFFSETTO:+0200
TZNAME:CEST
DTSTART:20270328T010000
END:DAYLIGHT
BEGIN:STANDARD
TZOFFSETFROM:+0200
TZOFFSETTO:+0100
TZNAME:CET
DTSTART:20271031T010000
END:STANDARD
END:VTIMEZONE
BEGIN:VEVENT
DTSTART;TZID=Europe/Berlin:20260617T203000
DTEND;TZID=Europe/Berlin:20260618T000000
DTSTAMP:20260423T164202
CREATED:20260417T092442Z
LAST-MODIFIED:20260417T092442Z
UID:4267-1781728200-1781740800@tango-in-leipzig.de
SUMMARY:Milonga im Spiegelsaal — Clärchens Ballhaus
DESCRIPTION:Mittwochs-Milonga im Spiegelsaal. DJs: Gaia & Leandro.
URL:https://tango-in-leipzig.de/event/milonga-im-spiegelsaal-claerchens-ballhaus-9/
LOCATION:Clärchens Ballhaus\, Auguststr. 24\, Berlin\, 10117\, Germany
CATEGORIES:milonga
END:VEVENT
BEGIN:VEVENT
DTSTART;TZID=Europe/Berlin:20260617T210000
DTEND;TZID=Europe/Berlin:20260617T220000
DTSTAMP:20260423T164202
CREATED:20260408T153433Z
LAST-MODIFIED:20260408T153433Z
UID:3342-1781730000-1781733600@tango-in-leipzig.de
SUMMARY:Practica Tanzhaus Jena
DESCRIPTION:
URL:https://tango-in-leipzig.de/event/practica-tanzhaus-jena-11/
LOCATION:Tanzhaus Jena\, Camsdorfer Ufer 17\, Jena\, 07749\, Germany
CATEGORIES:practica
END:VEVENT
BEGIN:VEVENT
DTSTART;TZID=Europe/Berlin:20260617T210000
DTEND;TZID=Europe/Berlin:20260617T230000
DTSTAMP:20260423T164202
CREATED:20260417T092442Z
LAST-MODIFIED:20260417T092442Z
UID:4270-1781730000-1781737200@tango-in-leipzig.de
SUMMARY:TTMS Mittwochspraktika
DESCRIPTION:Mittwochspraktika bei TTMS in Kreuzberg.
URL:https://tango-in-leipzig.de/event/ttms-mittwochspraktika-9/
LOCATION:Tangotanzen macht schön (TTMS)\, Oranienstr. 185\, Berlin\, 10999\, Germany
CATEGORIES:practica
END:VEVENT
BEGIN:VEVENT
DTSTART;TZID=Europe/Berlin:20260617T210000
DTEND;TZID=Europe/Berlin:20260618T003000
DTSTAMP:20260423T164202
CREATED:20260417T092442Z
LAST-MODIFIED:20260417T092442Z
UID:4271-1781730000-1781742600@tango-in-leipzig.de
SUMMARY:Tangonacht — Mala Junta
DESCRIPTION:Mittwochs-Tangonacht. Open Class ab 19:45. Schöneberg.
URL:https://tango-in-leipzig.de/event/tangonacht-mala-junta-9/
LOCATION:Mala Junta\, Kolonnenstr. 29\, Berlin\, 10829\, Germany
CATEGORIES:milonga
END:VEVENT
BEGIN:VEVENT
DTSTART;TZID=Europe/Berlin:20260618T170000
DTEND;TZID=Europe/Berlin:20260618T194500
DTSTAMP:20260423T164202
CREATED:20260417T092442Z
LAST-MODIFIED:20260417T092442Z
UID:4273-1781802000-1781811900@tango-in-leipzig.de
SUMMARY:Tangowerkstatt — Esquina del Tango Erfurt
DESCRIPTION:Donnerstags-Tangowerkstatt.
URL:https://tango-in-leipzig.de/event/tangowerkstatt-esquina-del-tango-erfurt-10/
LOCATION:Esquina del Tango\, Schlösserstr. 5\, Erfurt\, 99084\, Germany
CATEGORIES:practica
END:VEVENT
BEGIN:VEVENT
DTSTART;TZID=Europe/Berlin:20260618T180000
DTEND;TZID=Europe/Berlin:20260618T191500
DTSTAMP:20260423T164202
CREATED:20260408T153433Z
LAST-MODIFIED:20260408T153433Z
UID:3364-1781805600-1781810100@tango-in-leipzig.de
SUMMARY:Level 1 Basis – Tangosalon
DESCRIPTION:Anfaengerkurs. Einstieg jederzeit.
URL:https://tango-in-leipzig.de/event/level-1-basis-tangosalon-11/
LOCATION:Tangosalon Leipzig\, Holbeinstr. 29\, Leipzig\, 04229\, Germany
CATEGORIES:Kurs
END:VEVENT
BEGIN:VEVENT
DTSTART;TZID=Europe/Berlin:20260618T183000
DTEND;TZID=Europe/Berlin:20260618T194500
DTSTAMP:20260423T164202
CREATED:20260416T110551Z
LAST-MODIFIED:20260416T110551Z
UID:3651-1781807400-1781811900@tango-in-leipzig.de
SUMMARY:Tango Level 1/2
DESCRIPTION:Wöchentlicher Kurs für Anfänger und Mittelstufe. Lehrer: Juliane & Franz (Vertretung für Almut & Stefan). Anmeldung über Eversports.
URL:https://tango-in-leipzig.de/event/tango-level-1-2-10/
LOCATION:Tanzschule Tango Mio Halle\, Geiststraße 22\, Halle\, 06108\, Germany
CATEGORIES:Kurs
END:VEVENT
BEGIN:VEVENT
DTSTART;TZID=Europe/Berlin:20260618T183000
DTEND;TZID=Europe/Berlin:20260618T200000
DTSTAMP:20260423T164202
CREATED:20260408T153434Z
LAST-MODIFIED:20260408T153434Z
UID:3369-1781807400-1781812800@tango-in-leipzig.de
SUMMARY:Frauentechnik – Esquina
DESCRIPTION:Lehrerin: Silvina Machado.
URL:https://tango-in-leipzig.de/event/frauentechnik-esquina-5/
LOCATION:Esquina del Tango Erfurt\, Schlösserstr. 5\, Erfurt\, 99084\, Germany
CATEGORIES:Kurs
END:VEVENT
BEGIN:VEVENT
DTSTART;TZID=Europe/Berlin:20260618T184500
DTEND;TZID=Europe/Berlin:20260618T200000
DTSTAMP:20260423T164202
CREATED:20260408T153433Z
LAST-MODIFIED:20260408T153433Z
UID:3366-1781808300-1781812800@tango-in-leipzig.de
SUMMARY:BASIS-Kurs – Sarah Mirren
DESCRIPTION:Anfaengerkurs.
URL:https://tango-in-leipzig.de/event/basis-kurs-sarah-mirren-11/
LOCATION:Sarah Mirren Tango\, Am Kanal 30\, Leipzig\, 04179\, Germany
CATEGORIES:Kurs
END:VEVENT
BEGIN:VEVENT
DTSTART;TZID=Europe/Berlin:20260618T190000
DTEND;TZID=Europe/Berlin:20260618T200000
DTSTAMP:20260423T164202
CREATED:20260408T153434Z
LAST-MODIFIED:20260408T153434Z
UID:3370-1781809200-1781812800@tango-in-leipzig.de
SUMMARY:Donnerstagskurs Typisch Tango
DESCRIPTION:
URL:https://tango-in-leipzig.de/event/donnerstagskurs-typisch-tango-11/
LOCATION:Yogastudio Ekatra\, Seengässlein 3\, Erfurt\, 99084\, Germany
CATEGORIES:Kurs
END:VEVENT
BEGIN:VEVENT
DTSTART;TZID=Europe/Berlin:20260618T190000
DTEND;TZID=Europe/Berlin:20260618T200000
DTSTAMP:20260423T164202
CREATED:20260408T153434Z
LAST-MODIFIED:20260408T153434Z
UID:3372-1781809200-1781812800@tango-in-leipzig.de
SUMMARY:Tango-Kurs-Stunde Naumburg
DESCRIPTION:Lehrer: Hermhild & Jochen Hilgenberg.
URL:https://tango-in-leipzig.de/event/tango-kurs-stunde-naumburg-11/
LOCATION:JZ OTTO Naumburg\, Poststr. 31\, Naumburg\, 06618\, Germany
CATEGORIES:Kurs
END:VEVENT
BEGIN:VEVENT
DTSTART;TZID=Europe/Berlin:20260618T190000
DTEND;TZID=Europe/Berlin:20260618T210000
DTSTAMP:20260423T164202
CREATED:20260408T153433Z
LAST-MODIFIED:20260408T153433Z
UID:3362-1781809200-1781816400@tango-in-leipzig.de
SUMMARY:Angeleiteter Übungsabend Studio 24
DESCRIPTION:
URL:https://tango-in-leipzig.de/event/angeleiteter-uebungsabend-studio-24-11/
LOCATION:Studio 24 Dresden\, Grossenhainer Str. 29\, Dresden\, 01097\, Germany
CATEGORIES:practica
END:VEVENT
BEGIN:VEVENT
DTSTART;TZID=Europe/Berlin:20260618T193000
DTEND;TZID=Europe/Berlin:20260618T204500
DTSTAMP:20260423T164202
CREATED:20260408T153433Z
LAST-MODIFIED:20260408T153433Z
UID:3365-1781811000-1781815500@tango-in-leipzig.de
SUMMARY:Level 2 Aufbau – Tangosalon
DESCRIPTION:
URL:https://tango-in-leipzig.de/event/level-2-aufbau-tangosalon-11/
LOCATION:Tangosalon Leipzig\, Holbeinstr. 29\, Leipzig\, 04229\, Germany
CATEGORIES:Kurs
END:VEVENT
BEGIN:VEVENT
DTSTART;TZID=Europe/Berlin:20260618T193000
DTEND;TZID=Europe/Berlin:20260618T210000
DTSTAMP:20260423T164202
CREATED:20260408T153433Z
LAST-MODIFIED:20260408T153433Z
UID:3361-1781811000-1781816400@tango-in-leipzig.de
SUMMARY:Tango Praktika Weimar
DESCRIPTION:
URL:https://tango-in-leipzig.de/event/tango-praktika-weimar-11/
LOCATION:mon ami Weimar\, Goetheplatz 11\, Weimar\, 99423\, Germany
CATEGORIES:practica
END:VEVENT
BEGIN:VEVENT
DTSTART;TZID=Europe/Berlin:20260618T193000
DTEND;TZID=Europe/Berlin:20260618T210000
DTSTAMP:20260423T164202
CREATED:20260408T153434Z
LAST-MODIFIED:20260408T153434Z
UID:3371-1781811000-1781816400@tango-in-leipzig.de
SUMMARY:Offener Tango-Kurs el Tango puro
DESCRIPTION:Lehrer: Marie & Norman.
URL:https://tango-in-leipzig.de/event/offener-tango-kurs-el-tango-puro-11/
LOCATION:el Tango puro Magdeburg\, Lüneburger Str. 26\, Magdeburg\, 39106\, Germany
CATEGORIES:Kurs
END:VEVENT
BEGIN:VEVENT
DTSTART;TZID=Europe/Berlin:20260618T193000
DTEND;TZID=Europe/Berlin:20260618T221500
DTSTAMP:20260423T164202
CREATED:20260417T092443Z
LAST-MODIFIED:20260417T092443Z
UID:4277-1781811000-1781820900@tango-in-leipzig.de
SUMMARY:Praktika — Nou Tango
DESCRIPTION:Donnerstags-Praktika (nur Paare). Mitte.
URL:https://tango-in-leipzig.de/event/praktika-nou-tango-10/
LOCATION:Nou Tango\, Chausseestr. 102\, Berlin\, 10115\, Germany
CATEGORIES:practica
END:VEVENT
BEGIN:VEVENT
DTSTART;TZID=Europe/Berlin:20260618T193000
DTEND;TZID=Europe/Berlin:20260618T230000
DTSTAMP:20260423T164202
CREATED:20260417T092443Z
LAST-MODIFIED:20260417T092443Z
UID:4275-1781811000-1781823600@tango-in-leipzig.de
SUMMARY:Neolonga — Basecamp
DESCRIPTION:Donnerstags-Neolonga in Wilmersdorf.
URL:https://tango-in-leipzig.de/event/neolonga-basecamp-10/
LOCATION:Basecamp\, Düsseldorfer Str. 32\, Berlin\, 10707\, Germany
CATEGORIES:milonga
END:VEVENT
BEGIN:VEVENT
DTSTART;TZID=Europe/Berlin:20260618T200000
DTEND;TZID=Europe/Berlin:20260618T211500
DTSTAMP:20260423T164202
CREATED:20260408T153433Z
LAST-MODIFIED:20260408T153433Z
UID:3367-1781812800-1781817300@tango-in-leipzig.de
SUMMARY:Mittelstufe/Fortgeschrittene – Sarah Mirren
DESCRIPTION:
URL:https://tango-in-leipzig.de/event/mittelstufe-fortgeschrittene-sarah-mirren-11/
LOCATION:Sarah Mirren Tango\, Am Kanal 30\, Leipzig\, 04179\, Germany
CATEGORIES:Kurs
END:VEVENT
BEGIN:VEVENT
DTSTART;TZID=Europe/Berlin:20260618T200000
DTEND;TZID=Europe/Berlin:20260618T211500
DTSTAMP:20260423T164202
CREATED:20260416T110551Z
LAST-MODIFIED:20260416T110551Z
UID:3652-1781812800-1781817300@tango-in-leipzig.de
SUMMARY:Tango Level 3
DESCRIPTION:Wöchentlicher Kurs für Fortgeschrittene. Lehrer: Juliane & Franz (Vertretung für Almut & Stefan). Anmeldung über Eversports.
URL:https://tango-in-leipzig.de/event/tango-level-3-10/
LOCATION:Tanzschule Tango Mio Halle\, Geiststraße 22\, Halle\, 06108\, Germany
CATEGORIES:Kurs
END:VEVENT
BEGIN:VEVENT
DTSTART;TZID=Europe/Berlin:20260618T200000
DTEND;TZID=Europe/Berlin:20260618T213000
DTSTAMP:20260423T164202
CREATED:20260408T153433Z
LAST-MODIFIED:20260408T153433Z
UID:3363-1781812800-1781818200@tango-in-leipzig.de
SUMMARY:Tanzen-und-Üben Naumburg
DESCRIPTION:
URL:https://tango-in-leipzig.de/event/tanzen-und-ueben-naumburg-11/
LOCATION:JZ OTTO Naumburg\, Poststr. 31\, Naumburg\, 06618\, Germany
CATEGORIES:practica
END:VEVENT
BEGIN:VEVENT
DTSTART;TZID=Europe/Berlin:20260618T200000
DTEND;TZID=Europe/Berlin:20260618T213000
DTSTAMP:20260423T164202
CREATED:20260408T153434Z
LAST-MODIFIED:20260408T153434Z
UID:3368-1781812800-1781818200@tango-in-leipzig.de
SUMMARY:Anfänger-Mittelstufe Do – Esquina
DESCRIPTION:
URL:https://tango-in-leipzig.de/event/anfaenger-mittelstufe-do-esquina-11/
LOCATION:Esquina del Tango Erfurt\, Schlösserstr. 5\, Erfurt\, 99084\, Germany
CATEGORIES:Kurs
END:VEVENT
BEGIN:VEVENT
DTSTART;TZID=Europe/Berlin:20260618T201500
DTEND;TZID=Europe/Berlin:20260618T230000
DTSTAMP:20260423T164202
CREATED:20260408T153433Z
LAST-MODIFIED:20260408T153433Z
UID:3360-1781813700-1781823600@tango-in-leipzig.de
SUMMARY:Übungsabend Typisch Tango
DESCRIPTION:
URL:https://tango-in-leipzig.de/event/uebungsabend-typisch-tango-11/
LOCATION:Yogastudio Ekatra\, Seengässlein 3\, Erfurt\, 99084\, Germany
CATEGORIES:practica
END:VEVENT
BEGIN:VEVENT
DTSTART;TZID=Europe/Berlin:20260618T201500
DTEND;TZID=Europe/Berlin:20260618T230000
DTSTAMP:20260423T164202
CREATED:20260417T092443Z
LAST-MODIFIED:20260417T092443Z
UID:4278-1781813700-1781823600@tango-in-leipzig.de
SUMMARY:Übungsabend — Estación del Tango Erfurt
DESCRIPTION:Donnerstags-Übungsabend.
URL:https://tango-in-leipzig.de/event/uebungsabend-estacion-del-tango-erfurt-10/
LOCATION:Estación del Tango\, Schmidtstedter Str. 34\, Erfurt\, 99084\, Germany
CATEGORIES:practica
END:VEVENT
BEGIN:VEVENT
DTSTART;TZID=Europe/Berlin:20260618T210000
DTEND;TZID=Europe/Berlin:20260618T233000
DTSTAMP:20260423T164202
CREATED:20260408T153433Z
LAST-MODIFIED:20260408T153433Z
UID:3359-1781816400-1781825400@tango-in-leipzig.de
SUMMARY:Sarahs Milonga
DESCRIPTION:
URL:https://tango-in-leipzig.de/event/sarahs-milonga-6/
LOCATION:Sarah Mirren Tango\, Am Kanal 30\, Leipzig\, 04179\, Germany
CATEGORIES:milonga
END:VEVENT
BEGIN:VEVENT
DTSTART;TZID=Europe/Berlin:20260618T210500
DTEND;TZID=Europe/Berlin:20260618T224500
DTSTAMP:20260423T164202
CREATED:20260417T092443Z
LAST-MODIFIED:20260417T092443Z
UID:4282-1781816700-1781822700@tango-in-leipzig.de
SUMMARY:Get the Step Practica — Mala Junta
DESCRIPTION:Donnerstags-Practica in Schöneberg.
URL:https://tango-in-leipzig.de/event/get-the-step-practica-mala-junta-10/
LOCATION:Mala Junta\, Kolonnenstr. 29\, Berlin\, 10829\, Germany
CATEGORIES:practica
END:VEVENT
BEGIN:VEVENT
DTSTART;TZID=Europe/Berlin:20260618T211500
DTEND;TZID=Europe/Berlin:20260618T231500
DTSTAMP:20260423T164202
CREATED:20260417T092443Z
LAST-MODIFIED:20260417T092443Z
UID:4283-1781817300-1781824500@tango-in-leipzig.de
SUMMARY:Praktika — Alte Bahnhofshalle Friedenau
DESCRIPTION:Donnerstags-Praktika in Friedenau/Steglitz.
URL:https://tango-in-leipzig.de/event/praktika-alte-bahnhofshalle-friedenau-10/
LOCATION:Alte Bahnhofshalle Friedenau\, Bahnhofstr. 4D\, Berlin\, 12159\, Germany
CATEGORIES:practica
END:VEVENT
BEGIN:VEVENT
DTSTART;TZID=Europe/Berlin:20260619T100000
DTEND;TZID=Europe/Berlin:20260619T235900
DTSTAMP:20260423T164202
CREATED:20260408T153434Z
LAST-MODIFIED:20260408T153434Z
UID:3375-1781863200-1781913540@tango-in-leipzig.de
SUMMARY:Leipzig Dance Festival 2026
DESCRIPTION:Multi-Tanz-Festival mit Tango-Track. 3 Tage\, 7 Saele\, 100 Workshops\, Gala\, Partys. Tango-Coaches: Zuzana Kleinova & Joerg Palm.
URL:https://tango-in-leipzig.de/event/leipzig-dance-festival-2026/
LOCATION:Kongresshalle am Zoo Leipzig\, Paffendorfer Str. 33\, Leipzig\, 04105\, Germany
CATEGORIES:Festival
END:VEVENT
BEGIN:VEVENT
DTSTART;TZID=Europe/Berlin:20260619T200000
DTEND;TZID=Europe/Berlin:20260619T210000
DTSTAMP:20260423T164202
CREATED:20260408T153434Z
LAST-MODIFIED:20260408T153434Z
UID:3379-1781899200-1781902800@tango-in-leipzig.de
SUMMARY:Freitags-Practica (angeleitet)
DESCRIPTION:
URL:https://tango-in-leipzig.de/event/freitags-practica-angeleitet-11/
LOCATION:Tangosalon Leipzig\, Holbeinstr. 29\, Leipzig\, 04229\, Germany
CATEGORIES:practica
END:VEVENT
BEGIN:VEVENT
DTSTART;TZID=Europe/Berlin:20260619T200000
DTEND;TZID=Europe/Berlin:20260619T210000
DTSTAMP:20260423T164202
CREATED:20260408T153434Z
LAST-MODIFIED:20260408T153434Z
UID:3380-1781899200-1781902800@tango-in-leipzig.de
SUMMARY:Offener Tangokurs Studio 24
DESCRIPTION:Vor der Freitags-Milonga.
URL:https://tango-in-leipzig.de/event/offener-tangokurs-studio-24-11/
LOCATION:Studio 24 Dresden\, Grossenhainer Str. 29\, Dresden\, 01097\, Germany
CATEGORIES:Kurs
END:VEVENT
BEGIN:VEVENT
DTSTART;TZID=Europe/Berlin:20260619T200000
DTEND;TZID=Europe/Berlin:20260619T235900
DTSTAMP:20260423T164202
CREATED:20260408T153434Z
LAST-MODIFIED:20260408T153434Z
UID:3377-1781899200-1781913540@tango-in-leipzig.de
SUMMARY:Live-Milonga: Duo Asato-Pais
DESCRIPTION:Milonga mit Live-Musik: Duo Asato-Pais Tango.
URL:https://tango-in-leipzig.de/event/live-milonga-duo-asato-pais/
LOCATION:Weltecho Chemnitz\, Annaberger Str. 24\, Chemnitz\, 09111\, Germany
CATEGORIES:milonga
END:VEVENT
END:VCALENDAR