BEGIN:VCALENDAR
VERSION:2.0
PRODID:-//Tango in Leipzig - ECPv6.15.20//NONSGML v1.0//EN
CALSCALE:GREGORIAN
METHOD:PUBLISH
X-WR-CALNAME:Tango in Leipzig
X-ORIGINAL-URL:https://tango-in-leipzig.de
X-WR-CALDESC:Veranstaltungen für Tango in Leipzig
REFRESH-INTERVAL;VALUE=DURATION:PT1H
X-Robots-Tag:noindex
X-PUBLISHED-TTL:PT1H
BEGIN:VTIMEZONE
TZID:Europe/Berlin
BEGIN:DAYLIGHT
TZOFFSETFROM:+0100
TZOFFSETTO:+0200
TZNAME:CEST
DTSTART:20250330T010000
END:DAYLIGHT
BEGIN:STANDARD
TZOFFSETFROM:+0200
TZOFFSETTO:+0100
TZNAME:CET
DTSTART:20251026T010000
END:STANDARD
BEGIN:DAYLIGHT
TZOFFSETFROM:+0100
TZOFFSETTO:+0200
TZNAME:CEST
DTSTART:20260329T010000
END:DAYLIGHT
BEGIN:STANDARD
TZOFFSETFROM:+0200
TZOFFSETTO:+0100
TZNAME:CET
DTSTART:20261025T010000
END:STANDARD
BEGIN:DAYLIGHT
TZOFFSETFROM:+0100
TZOFFSETTO:+0200
TZNAME:CEST
DTSTART:20270328T010000
END:DAYLIGHT
BEGIN:STANDARD
TZOFFSETFROM:+0200
TZOFFSETTO:+0100
TZNAME:CET
DTSTART:20271031T010000
END:STANDARD
END:VTIMEZONE
BEGIN:VEVENT
DTSTART;TZID=Europe/Berlin:20260616T200000
DTEND;TZID=Europe/Berlin:20260617T010000
DTSTAMP:20260423T132848
CREATED:20260417T092442Z
LAST-MODIFIED:20260417T092442Z
UID:4261-1781640000-1781658000@tango-in-leipzig.de
SUMMARY:Tangonacht — Roter Salon / Volksbühne
DESCRIPTION:Dienstags-Tangonacht im Roten Salon an der Volksbühne\, Mitte.
URL:https://tango-in-leipzig.de/event/tangonacht-roter-salon-volksbuehne-9/
LOCATION:Roter Salon / Volksbühne\, Rosa-Luxemburg-Platz\, Berlin\, 10178\, Germany
CATEGORIES:milonga
END:VEVENT
BEGIN:VEVENT
DTSTART;TZID=Europe/Berlin:20260616T203000
DTEND;TZID=Europe/Berlin:20260616T230000
DTSTAMP:20260423T132848
CREATED:20260408T153432Z
LAST-MODIFIED:20260408T153432Z
UID:3338-1781641800-1781650800@tango-in-leipzig.de
SUMMARY:Milonga im Krötenhof
DESCRIPTION:
URL:https://tango-in-leipzig.de/event/milonga-im-kroetenhof-5/
LOCATION:Villa Krötenhof\, Wasserstadt 50\, Dessau-Rosslau\, 06846\, Germany
CATEGORIES:milonga
END:VEVENT
BEGIN:VEVENT
DTSTART;TZID=Europe/Berlin:20260616T210000
DTEND;TZID=Europe/Berlin:20260616T233000
DTSTAMP:20260423T132848
CREATED:20260408T153433Z
LAST-MODIFIED:20260408T153433Z
UID:3339-1781643600-1781652600@tango-in-leipzig.de
SUMMARY:Practica Wasserhäuschen
DESCRIPTION:Dienstags-Practica von L-Tango e.V.
URL:https://tango-in-leipzig.de/event/practica-wasserhaeuschen-10/
LOCATION:Wasserhäuschen\, Industriestr. 72\, Leipzig\, 04229\, Germany
CATEGORIES:practica
END:VEVENT
BEGIN:VEVENT
DTSTART;TZID=Europe/Berlin:20260617T173000
DTEND;TZID=Europe/Berlin:20260617T183000
DTSTAMP:20260423T132848
CREATED:20260408T153433Z
LAST-MODIFIED:20260408T153433Z
UID:3347-1781717400-1781721000@tango-in-leipzig.de
SUMMARY:Anfängerkurs HTWK
DESCRIPTION:Lehrer: Nicole Terentjewa & Thomas Grau.
URL:https://tango-in-leipzig.de/event/anfaengerkurs-htwk-11/
LOCATION:HTWK Leipzig\, Gustav-Freytag-Str. 43-45\, Leipzig\, 04277\, Germany
CATEGORIES:Kurs
END:VEVENT
BEGIN:VEVENT
DTSTART;TZID=Europe/Berlin:20260617T174500
DTEND;TZID=Europe/Berlin:20260617T184500
DTSTAMP:20260423T132848
CREATED:20260408T153433Z
LAST-MODIFIED:20260408T153433Z
UID:3357-1781718300-1781721900@tango-in-leipzig.de
SUMMARY:Tango Grundstufe Gera
DESCRIPTION:Lehrer: Marion & Detlef. Kostenlose Probestunde.
URL:https://tango-in-leipzig.de/event/tango-grundstufe-gera-11/
LOCATION:Tanzschule Schulze Gera\, Friedrich-Naumann-Platz 3\, Gera\, 07545\, Germany
CATEGORIES:Kurs
END:VEVENT
BEGIN:VEVENT
DTSTART;TZID=Europe/Berlin:20260617T180000
DTEND;TZID=Europe/Berlin:20260617T191500
DTSTAMP:20260423T132848
CREATED:20260408T153433Z
LAST-MODIFIED:20260408T153433Z
UID:3353-1781719200-1781723700@tango-in-leipzig.de
SUMMARY:Anfänger II C-Tango
DESCRIPTION:
URL:https://tango-in-leipzig.de/event/anfaenger-ii-c-tango-7/
LOCATION:Kraftwerk e.V. Chemnitz\, Kassbergstr. 36\, Chemnitz\, 09112\, Germany
CATEGORIES:Kurs
END:VEVENT
BEGIN:VEVENT
DTSTART;TZID=Europe/Berlin:20260617T181500
DTEND;TZID=Europe/Berlin:20260617T193000
DTSTAMP:20260423T132848
CREATED:20260408T153433Z
LAST-MODIFIED:20260408T153433Z
UID:3345-1781720100-1781724600@tango-in-leipzig.de
SUMMARY:Mittelstufe – Sarah Mirren
DESCRIPTION:
URL:https://tango-in-leipzig.de/event/mittelstufe-sarah-mirren-11/
LOCATION:Sarah Mirren Tango\, Am Kanal 30\, Leipzig\, 04179\, Germany
CATEGORIES:Kurs
END:VEVENT
BEGIN:VEVENT
DTSTART;TZID=Europe/Berlin:20260617T183000
DTEND;TZID=Europe/Berlin:20260617T193000
DTSTAMP:20260423T132848
CREATED:20260408T153433Z
LAST-MODIFIED:20260408T153433Z
UID:3348-1781721000-1781724600@tango-in-leipzig.de
SUMMARY:Aufbaukurs HTWK
DESCRIPTION:Lehrer: Nicole Terentjewa & Thomas Grau.
URL:https://tango-in-leipzig.de/event/aufbaukurs-htwk-11/
LOCATION:HTWK Leipzig\, Gustav-Freytag-Str. 43-45\, Leipzig\, 04277\, Germany
CATEGORIES:Kurs
END:VEVENT
BEGIN:VEVENT
DTSTART;TZID=Europe/Berlin:20260617T183000
DTEND;TZID=Europe/Berlin:20260617T200000
DTSTAMP:20260423T132848
CREATED:20260408T153433Z
LAST-MODIFIED:20260408T153433Z
UID:3349-1781721000-1781726400@tango-in-leipzig.de
SUMMARY:Anfänger-Mittelstufe – Esquina
DESCRIPTION:
URL:https://tango-in-leipzig.de/event/anfaenger-mittelstufe-esquina-11/
LOCATION:Esquina del Tango Erfurt\, Schlösserstr. 5\, Erfurt\, 99084\, Germany
CATEGORIES:Kurs
END:VEVENT
BEGIN:VEVENT
DTSTART;TZID=Europe/Berlin:20260617T184500
DTEND;TZID=Europe/Berlin:20260617T201500
DTSTAMP:20260423T132848
CREATED:20260408T153433Z
LAST-MODIFIED:20260408T153433Z
UID:3358-1781721900-1781727300@tango-in-leipzig.de
SUMMARY:Tango Club (Fortgeschrittene) Gera
DESCRIPTION:
URL:https://tango-in-leipzig.de/event/tango-club-fortgeschrittene-gera-11/
LOCATION:Tanzschule Schulze Gera\, Friedrich-Naumann-Platz 3\, Gera\, 07545\, Germany
CATEGORIES:Kurs
END:VEVENT
BEGIN:VEVENT
DTSTART;TZID=Europe/Berlin:20260617T190000
DTEND;TZID=Europe/Berlin:20260617T201500
DTSTAMP:20260423T132848
CREATED:20260408T153433Z
LAST-MODIFIED:20260408T153433Z
UID:3343-1781722800-1781727300@tango-in-leipzig.de
SUMMARY:Level 3 Mittelstufe – Tangosalon
DESCRIPTION:
URL:https://tango-in-leipzig.de/event/level-3-mittelstufe-tangosalon-11/
LOCATION:Tangosalon Leipzig\, Holbeinstr. 29\, Leipzig\, 04229\, Germany
CATEGORIES:Kurs
END:VEVENT
BEGIN:VEVENT
DTSTART;TZID=Europe/Berlin:20260617T190000
DTEND;TZID=Europe/Berlin:20260617T203000
DTSTAMP:20260423T132848
CREATED:20260408T153433Z
LAST-MODIFIED:20260408T153433Z
UID:3356-1781722800-1781728200@tango-in-leipzig.de
SUMMARY:Basics – Seele des Tangos (La academia)
DESCRIPTION:Lehrerin: Carsta Mock.
URL:https://tango-in-leipzig.de/event/basics-seele-des-tangos-la-academia-11/
LOCATION:La academia\, Altleubnitz 11\, Dresden\, 01219\, Germany
CATEGORIES:Kurs
END:VEVENT
BEGIN:VEVENT
DTSTART;TZID=Europe/Berlin:20260617T191500
DTEND;TZID=Europe/Berlin:20260617T201500
DTSTAMP:20260423T132848
CREATED:20260408T153433Z
LAST-MODIFIED:20260408T153433Z
UID:3351-1781723700-1781727300@tango-in-leipzig.de
SUMMARY:Tango Grund-/Aufbaukurs Jena
DESCRIPTION:Lehrer: Rena & Olaf.
URL:https://tango-in-leipzig.de/event/tango-grund-aufbaukurs-jena-11/
LOCATION:Tanzhaus Jena\, Camsdorfer Ufer 17\, Jena\, 07749\, Germany
CATEGORIES:Kurs
END:VEVENT
BEGIN:VEVENT
DTSTART;TZID=Europe/Berlin:20260617T191500
DTEND;TZID=Europe/Berlin:20260617T203000
DTSTAMP:20260423T132848
CREATED:20260408T153433Z
LAST-MODIFIED:20260408T153433Z
UID:3354-1781723700-1781728200@tango-in-leipzig.de
SUMMARY:Mittelstufe II C-Tango
DESCRIPTION:
URL:https://tango-in-leipzig.de/event/mittelstufe-ii-c-tango-7/
LOCATION:Kraftwerk e.V. Chemnitz\, Kassbergstr. 36\, Chemnitz\, 09112\, Germany
CATEGORIES:Kurs
END:VEVENT
BEGIN:VEVENT
DTSTART;TZID=Europe/Berlin:20260617T193000
DTEND;TZID=Europe/Berlin:20260617T203000
DTSTAMP:20260423T132848
CREATED:20260408T153433Z
LAST-MODIFIED:20260408T153433Z
UID:3355-1781724600-1781728200@tango-in-leipzig.de
SUMMARY:TanzFabrik Mittelstufe
DESCRIPTION:
URL:https://tango-in-leipzig.de/event/tanzfabrik-mittelstufe-11/
LOCATION:TanzFabrik Chemnitz\, Neefestr. 58\, Chemnitz\, 09119\, Germany
CATEGORIES:Kurs
END:VEVENT
BEGIN:VEVENT
DTSTART;TZID=Europe/Berlin:20260617T193000
DTEND;TZID=Europe/Berlin:20260617T204500
DTSTAMP:20260423T132848
CREATED:20260408T153433Z
LAST-MODIFIED:20260408T153433Z
UID:3346-1781724600-1781729100@tango-in-leipzig.de
SUMMARY:Fortgeschrittene – Sarah Mirren
DESCRIPTION:
URL:https://tango-in-leipzig.de/event/fortgeschrittene-sarah-mirren-11/
LOCATION:Sarah Mirren Tango\, Am Kanal 30\, Leipzig\, 04179\, Germany
CATEGORIES:Kurs
END:VEVENT
BEGIN:VEVENT
DTSTART;TZID=Europe/Berlin:20260617T200000
DTEND;TZID=Europe/Berlin:20260617T213000
DTSTAMP:20260423T132848
CREATED:20260408T153433Z
LAST-MODIFIED:20260408T153433Z
UID:3350-1781726400-1781731800@tango-in-leipzig.de
SUMMARY:Mittelstufe-Fortgeschrittene – Esquina
DESCRIPTION:
URL:https://tango-in-leipzig.de/event/mittelstufe-fortgeschrittene-esquina-11/
LOCATION:Esquina del Tango Erfurt\, Schlösserstr. 5\, Erfurt\, 99084\, Germany
CATEGORIES:Kurs
END:VEVENT
BEGIN:VEVENT
DTSTART;TZID=Europe/Berlin:20260617T200000
DTEND;TZID=Europe/Berlin:20260618T010000
DTSTAMP:20260423T132848
CREATED:20260417T092442Z
LAST-MODIFIED:20260417T092442Z
UID:4265-1781726400-1781744400@tango-in-leipzig.de
SUMMARY:Ballhaus Milonga — Wedding
DESCRIPTION:Mittwochs-Milonga im Ballhaus Wedding.
URL:https://tango-in-leipzig.de/event/ballhaus-milonga-wedding-9/
LOCATION:Ballhaus Wedding\, Wriezener Str. 6\, Berlin\, 13359\, Germany
CATEGORIES:milonga
END:VEVENT
BEGIN:VEVENT
DTSTART;TZID=Europe/Berlin:20260617T202000
DTEND;TZID=Europe/Berlin:20260617T213000
DTSTAMP:20260423T132848
CREATED:20260408T153433Z
LAST-MODIFIED:20260408T153433Z
UID:3352-1781727600-1781731800@tango-in-leipzig.de
SUMMARY:Tango Mittelstufe Jena
DESCRIPTION:
URL:https://tango-in-leipzig.de/event/tango-mittelstufe-jena-11/
LOCATION:Tanzhaus Jena\, Camsdorfer Ufer 17\, Jena\, 07749\, Germany
CATEGORIES:Kurs
END:VEVENT
BEGIN:VEVENT
DTSTART;TZID=Europe/Berlin:20260617T203000
DTEND;TZID=Europe/Berlin:20260617T214500
DTSTAMP:20260423T132848
CREATED:20260408T153433Z
LAST-MODIFIED:20260408T153433Z
UID:3344-1781728200-1781732700@tango-in-leipzig.de
SUMMARY:Level 4 Fortgeschritten – Tangosalon
DESCRIPTION:
URL:https://tango-in-leipzig.de/event/level-4-fortgeschritten-tangosalon-11/
LOCATION:Tangosalon Leipzig\, Holbeinstr. 29\, Leipzig\, 04229\, Germany
CATEGORIES:Kurs
END:VEVENT
BEGIN:VEVENT
DTSTART;TZID=Europe/Berlin:20260617T203000
DTEND;TZID=Europe/Berlin:20260618T000000
DTSTAMP:20260423T132848
CREATED:20260417T092442Z
LAST-MODIFIED:20260417T092442Z
UID:4267-1781728200-1781740800@tango-in-leipzig.de
SUMMARY:Milonga im Spiegelsaal — Clärchens Ballhaus
DESCRIPTION:Mittwochs-Milonga im Spiegelsaal. DJs: Gaia & Leandro.
URL:https://tango-in-leipzig.de/event/milonga-im-spiegelsaal-claerchens-ballhaus-9/
LOCATION:Clärchens Ballhaus\, Auguststr. 24\, Berlin\, 10117\, Germany
CATEGORIES:milonga
END:VEVENT
BEGIN:VEVENT
DTSTART;TZID=Europe/Berlin:20260617T210000
DTEND;TZID=Europe/Berlin:20260617T220000
DTSTAMP:20260423T132848
CREATED:20260408T153433Z
LAST-MODIFIED:20260408T153433Z
UID:3342-1781730000-1781733600@tango-in-leipzig.de
SUMMARY:Practica Tanzhaus Jena
DESCRIPTION:
URL:https://tango-in-leipzig.de/event/practica-tanzhaus-jena-11/
LOCATION:Tanzhaus Jena\, Camsdorfer Ufer 17\, Jena\, 07749\, Germany
CATEGORIES:practica
END:VEVENT
BEGIN:VEVENT
DTSTART;TZID=Europe/Berlin:20260617T210000
DTEND;TZID=Europe/Berlin:20260617T230000
DTSTAMP:20260423T132848
CREATED:20260417T092442Z
LAST-MODIFIED:20260417T092442Z
UID:4270-1781730000-1781737200@tango-in-leipzig.de
SUMMARY:TTMS Mittwochspraktika
DESCRIPTION:Mittwochspraktika bei TTMS in Kreuzberg.
URL:https://tango-in-leipzig.de/event/ttms-mittwochspraktika-9/
LOCATION:Tangotanzen macht schön (TTMS)\, Oranienstr. 185\, Berlin\, 10999\, Germany
CATEGORIES:practica
END:VEVENT
BEGIN:VEVENT
DTSTART;TZID=Europe/Berlin:20260617T210000
DTEND;TZID=Europe/Berlin:20260618T003000
DTSTAMP:20260423T132848
CREATED:20260417T092442Z
LAST-MODIFIED:20260417T092442Z
UID:4271-1781730000-1781742600@tango-in-leipzig.de
SUMMARY:Tangonacht — Mala Junta
DESCRIPTION:Mittwochs-Tangonacht. Open Class ab 19:45. Schöneberg.
URL:https://tango-in-leipzig.de/event/tangonacht-mala-junta-9/
LOCATION:Mala Junta\, Kolonnenstr. 29\, Berlin\, 10829\, Germany
CATEGORIES:milonga
END:VEVENT
BEGIN:VEVENT
DTSTART;TZID=Europe/Berlin:20260618T170000
DTEND;TZID=Europe/Berlin:20260618T194500
DTSTAMP:20260423T132848
CREATED:20260417T092442Z
LAST-MODIFIED:20260417T092442Z
UID:4273-1781802000-1781811900@tango-in-leipzig.de
SUMMARY:Tangowerkstatt — Esquina del Tango Erfurt
DESCRIPTION:Donnerstags-Tangowerkstatt.
URL:https://tango-in-leipzig.de/event/tangowerkstatt-esquina-del-tango-erfurt-10/
LOCATION:Esquina del Tango\, Schlösserstr. 5\, Erfurt\, 99084\, Germany
CATEGORIES:practica
END:VEVENT
BEGIN:VEVENT
DTSTART;TZID=Europe/Berlin:20260618T180000
DTEND;TZID=Europe/Berlin:20260618T191500
DTSTAMP:20260423T132848
CREATED:20260408T153433Z
LAST-MODIFIED:20260408T153433Z
UID:3364-1781805600-1781810100@tango-in-leipzig.de
SUMMARY:Level 1 Basis – Tangosalon
DESCRIPTION:Anfaengerkurs. Einstieg jederzeit.
URL:https://tango-in-leipzig.de/event/level-1-basis-tangosalon-11/
LOCATION:Tangosalon Leipzig\, Holbeinstr. 29\, Leipzig\, 04229\, Germany
CATEGORIES:Kurs
END:VEVENT
BEGIN:VEVENT
DTSTART;TZID=Europe/Berlin:20260618T183000
DTEND;TZID=Europe/Berlin:20260618T194500
DTSTAMP:20260423T132848
CREATED:20260416T110551Z
LAST-MODIFIED:20260416T110551Z
UID:3651-1781807400-1781811900@tango-in-leipzig.de
SUMMARY:Tango Level 1/2
DESCRIPTION:Wöchentlicher Kurs für Anfänger und Mittelstufe. Lehrer: Juliane & Franz (Vertretung für Almut & Stefan). Anmeldung über Eversports.
URL:https://tango-in-leipzig.de/event/tango-level-1-2-10/
LOCATION:Tanzschule Tango Mio Halle\, Geiststraße 22\, Halle\, 06108\, Germany
CATEGORIES:Kurs
END:VEVENT
BEGIN:VEVENT
DTSTART;TZID=Europe/Berlin:20260618T183000
DTEND;TZID=Europe/Berlin:20260618T200000
DTSTAMP:20260423T132848
CREATED:20260408T153434Z
LAST-MODIFIED:20260408T153434Z
UID:3369-1781807400-1781812800@tango-in-leipzig.de
SUMMARY:Frauentechnik – Esquina
DESCRIPTION:Lehrerin: Silvina Machado.
URL:https://tango-in-leipzig.de/event/frauentechnik-esquina-5/
LOCATION:Esquina del Tango Erfurt\, Schlösserstr. 5\, Erfurt\, 99084\, Germany
CATEGORIES:Kurs
END:VEVENT
BEGIN:VEVENT
DTSTART;TZID=Europe/Berlin:20260618T184500
DTEND;TZID=Europe/Berlin:20260618T200000
DTSTAMP:20260423T132848
CREATED:20260408T153433Z
LAST-MODIFIED:20260408T153433Z
UID:3366-1781808300-1781812800@tango-in-leipzig.de
SUMMARY:BASIS-Kurs – Sarah Mirren
DESCRIPTION:Anfaengerkurs.
URL:https://tango-in-leipzig.de/event/basis-kurs-sarah-mirren-11/
LOCATION:Sarah Mirren Tango\, Am Kanal 30\, Leipzig\, 04179\, Germany
CATEGORIES:Kurs
END:VEVENT
BEGIN:VEVENT
DTSTART;TZID=Europe/Berlin:20260618T190000
DTEND;TZID=Europe/Berlin:20260618T200000
DTSTAMP:20260423T132848
CREATED:20260408T153434Z
LAST-MODIFIED:20260408T153434Z
UID:3372-1781809200-1781812800@tango-in-leipzig.de
SUMMARY:Tango-Kurs-Stunde Naumburg
DESCRIPTION:Lehrer: Hermhild & Jochen Hilgenberg.
URL:https://tango-in-leipzig.de/event/tango-kurs-stunde-naumburg-11/
LOCATION:JZ OTTO Naumburg\, Poststr. 31\, Naumburg\, 06618\, Germany
CATEGORIES:Kurs
END:VEVENT
END:VCALENDAR