BEGIN:VCALENDAR
VERSION:2.0
PRODID:-//Tango in Leipzig - ECPv6.15.20//NONSGML v1.0//EN
CALSCALE:GREGORIAN
METHOD:PUBLISH
X-ORIGINAL-URL:https://tango-in-leipzig.de
X-WR-CALDESC:Veranstaltungen für Tango in Leipzig
REFRESH-INTERVAL;VALUE=DURATION:PT1H
X-Robots-Tag:noindex
X-PUBLISHED-TTL:PT1H
BEGIN:VTIMEZONE
TZID:Europe/Berlin
BEGIN:DAYLIGHT
TZOFFSETFROM:+0100
TZOFFSETTO:+0200
TZNAME:CEST
DTSTART:20250330T010000
END:DAYLIGHT
BEGIN:STANDARD
TZOFFSETFROM:+0200
TZOFFSETTO:+0100
TZNAME:CET
DTSTART:20251026T010000
END:STANDARD
BEGIN:DAYLIGHT
TZOFFSETFROM:+0100
TZOFFSETTO:+0200
TZNAME:CEST
DTSTART:20260329T010000
END:DAYLIGHT
BEGIN:STANDARD
TZOFFSETFROM:+0200
TZOFFSETTO:+0100
TZNAME:CET
DTSTART:20261025T010000
END:STANDARD
BEGIN:DAYLIGHT
TZOFFSETFROM:+0100
TZOFFSETTO:+0200
TZNAME:CEST
DTSTART:20270328T010000
END:DAYLIGHT
BEGIN:STANDARD
TZOFFSETFROM:+0200
TZOFFSETTO:+0100
TZNAME:CET
DTSTART:20271031T010000
END:STANDARD
END:VTIMEZONE
BEGIN:VEVENT
DTSTART;TZID=Europe/Berlin:20260613T150000
DTEND;TZID=Europe/Berlin:20260613T190000
DTSTAMP:20260423T091648
CREATED:20260417T092441Z
LAST-MODIFIED:20260417T092441Z
UID:4239-1781362800-1781377200@tango-in-leipzig.de
SUMMARY:Tango Café — Maxixe
DESCRIPTION:Samstag-Nachmittags-Milonga in Kreuzberg.
URL:https://tango-in-leipzig.de/event/tango-cafe-maxixe-9/
LOCATION:Maxixe\, Fidicinstr. 3\, Berlin\, 10965\, Germany
CATEGORIES:milonga
END:VEVENT
BEGIN:VEVENT
DTSTART;TZID=Europe/Berlin:20260613T153000
DTEND;TZID=Europe/Berlin:20260613T163000
DTSTAMP:20260423T091648
CREATED:20260408T153432Z
LAST-MODIFIED:20260408T153432Z
UID:3328-1781364600-1781368200@tango-in-leipzig.de
SUMMARY:Tango Club Näder
DESCRIPTION:
URL:https://tango-in-leipzig.de/event/tango-club-naeder-10/
LOCATION:Tanzschule Näder Jena\, Engelplatz 8\, Jena\, 07743\, Germany
CATEGORIES:Kurs
END:VEVENT
BEGIN:VEVENT
DTSTART;TZID=Europe/Berlin:20260613T153000
DTEND;TZID=Europe/Berlin:20260614T173000
DTSTAMP:20260423T091648
CREATED:20260417T092441Z
LAST-MODIFIED:20260417T092441Z
UID:4240-1781364600-1781458200@tango-in-leipzig.de
SUMMARY:Weekend-Workshop Gaia & Gustavo — Walzerlinksgestrickt
DESCRIPTION:Sa 15:30–17:30 + So 12:30–14:30 (2 × 120 min). Lehrer: Gaia Pisauro & Gustavo Bronzino. Berlin-Kreuzberg.
URL:https://tango-in-leipzig.de/event/weekend-workshop-gaia-gustavo-walzerlinksgestrickt/
LOCATION:Ballhaus Walzerlinksgestrickt\, Berlin\, Germany
CATEGORIES:workshop
END:VEVENT
BEGIN:VEVENT
DTSTART;TZID=Europe/Berlin:20260613T160000
DTEND;TZID=Europe/Berlin:20260613T200000
DTSTAMP:20260423T091648
CREATED:20260417T092441Z
LAST-MODIFIED:20260417T092441Z
UID:4241-1781366400-1781380800@tango-in-leipzig.de
SUMMARY:Tango Café La Bruja / El Gato — weRK36
DESCRIPTION:Samstag-Nachmittags-Milonga in Schöneberg.
URL:https://tango-in-leipzig.de/event/tango-cafe-la-bruja-el-gato-werk36-9/
LOCATION:weRK36\, Ella-Barowsky-Str. 70\, Berlin\, 10829\, Germany
CATEGORIES:milonga
END:VEVENT
BEGIN:VEVENT
DTSTART;TZID=Europe/Berlin:20260613T170000
DTEND;TZID=Europe/Berlin:20260613T220000
DTSTAMP:20260423T091648
CREATED:20260417T092441Z
LAST-MODIFIED:20260417T092441Z
UID:4242-1781370000-1781388000@tango-in-leipzig.de
SUMMARY:Milonga La Remise
DESCRIPTION:Samstags-Milonga in Moabit auf Spendenbasis.
URL:https://tango-in-leipzig.de/event/milonga-la-remise-9/
LOCATION:La Remise\, Bremer Str. 68\, Berlin\, 10551\, Germany
CATEGORIES:milonga
END:VEVENT
BEGIN:VEVENT
DTSTART;TZID=Europe/Berlin:20260613T200000
DTEND;TZID=Europe/Berlin:20260614T010000
DTSTAMP:20260423T091648
CREATED:20260408T153432Z
LAST-MODIFIED:20260408T153432Z
UID:3326-1781380800-1781398800@tango-in-leipzig.de
SUMMARY:Neolonga Erfurt
DESCRIPTION:Milonga mit moderner\, gut tanzbarer Musik.
URL:https://tango-in-leipzig.de/event/neolonga-erfurt/
LOCATION:Yogastudio Ekatra\, Seengässlein 3\, Erfurt\, 99084\, Germany
CATEGORIES:milonga
END:VEVENT
BEGIN:VEVENT
DTSTART;TZID=Europe/Berlin:20260613T203000
DTEND;TZID=Europe/Berlin:20260614T003000
DTSTAMP:20260423T091648
CREATED:20260408T153432Z
LAST-MODIFIED:20260408T153432Z
UID:3327-1781382600-1781397000@tango-in-leipzig.de
SUMMARY:Samstagsmilonga Tres Tangos
DESCRIPTION:Kostenlose Tangostunde 19:45-20:30 vor jeder Milonga.
URL:https://tango-in-leipzig.de/event/samstagsmilonga-tres-tangos-10/
LOCATION:Tres Tangos Dresden\, Dornblüthstr. 16\, Dresden\, 01277\, Germany
CATEGORIES:milonga
END:VEVENT
BEGIN:VEVENT
DTSTART;TZID=Europe/Berlin:20260613T210000
DTEND;TZID=Europe/Berlin:20260614T030000
DTSTAMP:20260423T091648
CREATED:20260417T092441Z
LAST-MODIFIED:20260417T092441Z
UID:4246-1781384400-1781406000@tango-in-leipzig.de
SUMMARY:Tango Rouge — KitKatClub
DESCRIPTION:Samstags-Milonga im KitKatClub Basement\, Mitte. Strikter Dresscode.
URL:https://tango-in-leipzig.de/event/tango-rouge-kitkatclub-9/
LOCATION:KitKatClub\, Brückenstr. 1\, Berlin\, 10179\, Germany
CATEGORIES:milonga
END:VEVENT
BEGIN:VEVENT
DTSTART;TZID=Europe/Berlin:20260614T110000
DTEND;TZID=Europe/Berlin:20260614T130000
DTSTAMP:20260423T091648
CREATED:20260417T092441Z
LAST-MODIFIED:20260417T092441Z
UID:4247-1781434800-1781442000@tango-in-leipzig.de
SUMMARY:Sonntags Tango Praktika — Mala Junta
DESCRIPTION:Sonntags-Practica in Schöneberg.
URL:https://tango-in-leipzig.de/event/sonntags-tango-praktika-mala-junta-9/
LOCATION:Mala Junta\, Kolonnenstr. 29\, Berlin\, 10829\, Germany
CATEGORIES:practica
END:VEVENT
BEGIN:VEVENT
DTSTART;TZID=Europe/Berlin:20260614T150000
DTEND;TZID=Europe/Berlin:20260614T210000
DTSTAMP:20260423T091648
CREATED:20260417T092442Z
LAST-MODIFIED:20260417T092442Z
UID:4248-1781449200-1781470800@tango-in-leipzig.de
SUMMARY:Café Domínguez — Nou Tango
DESCRIPTION:Sonntags-Milonga im Nou Tango\, Mitte.
URL:https://tango-in-leipzig.de/event/cafe-dominguez-nou-tango-9/
LOCATION:Nou Tango\, Chausseestr. 102\, Berlin\, 10115\, Germany
CATEGORIES:milonga
END:VEVENT
BEGIN:VEVENT
DTSTART;TZID=Europe/Berlin:20260614T160000
DTEND;TZID=Europe/Berlin:20260614T180000
DTSTAMP:20260423T091648
CREATED:20260408T153432Z
LAST-MODIFIED:20260408T153432Z
UID:3331-1781452800-1781460000@tango-in-leipzig.de
SUMMARY:Sonntagskurs Typisch Tango
DESCRIPTION:Offenes Level.
URL:https://tango-in-leipzig.de/event/sonntagskurs-typisch-tango-10/
LOCATION:Yogastudio Ekatra\, Seengässlein 3\, Erfurt\, 99084\, Germany
CATEGORIES:Kurs
END:VEVENT
BEGIN:VEVENT
DTSTART;TZID=Europe/Berlin:20260614T160000
DTEND;TZID=Europe/Berlin:20260614T200000
DTSTAMP:20260423T091648
CREATED:20260417T092442Z
LAST-MODIFIED:20260417T092442Z
UID:4249-1781452800-1781467200@tango-in-leipzig.de
SUMMARY:Sonntags-Milonga — Mala Junta
DESCRIPTION:Sonntags-Milonga (Atipica/Bien Pulenta/Mimosa rotierend) in Schöneberg.
URL:https://tango-in-leipzig.de/event/sonntags-milonga-mala-junta-9/
LOCATION:Mala Junta\, Kolonnenstr. 29\, Berlin\, 10829\, Germany
CATEGORIES:milonga
END:VEVENT
BEGIN:VEVENT
DTSTART;TZID=Europe/Berlin:20260614T160000
DTEND;TZID=Europe/Berlin:20260614T200000
DTSTAMP:20260423T091648
CREATED:20260417T092442Z
LAST-MODIFIED:20260417T092442Z
UID:4250-1781452800-1781467200@tango-in-leipzig.de
SUMMARY:Tango zum Glück (Queer/Open Role) — TTMS
DESCRIPTION:Queer/Open-Role-Milonga in Kreuzberg.
URL:https://tango-in-leipzig.de/event/tango-zum-glueck-queer-open-role-ttms-9/
LOCATION:Tangotanzen macht schön (TTMS)\, Oranienstr. 185\, Berlin\, 10999\, Germany
CATEGORIES:milonga
END:VEVENT
BEGIN:VEVENT
DTSTART;TZID=Europe/Berlin:20260614T180000
DTEND;TZID=Europe/Berlin:20260615T020000
DTSTAMP:20260423T091648
CREATED:20260417T092442Z
LAST-MODIFIED:20260417T092442Z
UID:4251-1781460000-1781488800@tango-in-leipzig.de
SUMMARY:Tangoloft Sunday Milonga
DESCRIPTION:Sonntags-Milonga im Tangoloft\, Kreuzberg.
URL:https://tango-in-leipzig.de/event/tangoloft-sunday-milonga-9/
LOCATION:Tangoloft\, Pfuelstr. 5\, Berlin\, 10997\, Germany
CATEGORIES:milonga
END:VEVENT
BEGIN:VEVENT
DTSTART;TZID=Europe/Berlin:20260614T183000
DTEND;TZID=Europe/Berlin:20260614T220000
DTSTAMP:20260423T091648
CREATED:20260408T153432Z
LAST-MODIFIED:20260408T153432Z
UID:3329-1781461800-1781474400@tango-in-leipzig.de
SUMMARY:Sonntags-Milonga Weimar
DESCRIPTION:
URL:https://tango-in-leipzig.de/event/sonntags-milonga-weimar-10/
LOCATION:Villa Anneliese\, Riessnerstr. 46\, Weimar\, 99423\, Germany
CATEGORIES:milonga
END:VEVENT
BEGIN:VEVENT
DTSTART;TZID=Europe/Berlin:20260614T190000
DTEND;TZID=Europe/Berlin:20260614T200000
DTSTAMP:20260423T091648
CREATED:20260408T153432Z
LAST-MODIFIED:20260408T153432Z
UID:3332-1781463600-1781467200@tango-in-leipzig.de
SUMMARY:TanzFabrik BASIC
DESCRIPTION:
URL:https://tango-in-leipzig.de/event/tanzfabrik-basic-10/
LOCATION:TanzFabrik Chemnitz\, Neefestr. 58\, Chemnitz\, 09119\, Germany
CATEGORIES:Kurs
END:VEVENT
BEGIN:VEVENT
DTSTART;TZID=Europe/Berlin:20260614T203000
DTEND;TZID=Europe/Berlin:20260614T220000
DTSTAMP:20260423T091648
CREATED:20260408T153432Z
LAST-MODIFIED:20260408T153432Z
UID:3330-1781469000-1781474400@tango-in-leipzig.de
SUMMARY:Übungskurs TanzFabrik Chemnitz
DESCRIPTION:
URL:https://tango-in-leipzig.de/event/uebungskurs-tanzfabrik-chemnitz-10/
LOCATION:TanzFabrik Chemnitz\, Neefestr. 58\, Chemnitz\, 09119\, Germany
CATEGORIES:practica
END:VEVENT
BEGIN:VEVENT
DTSTART;TZID=Europe/Berlin:20260615T183000
DTEND;TZID=Europe/Berlin:20260615T193000
DTSTAMP:20260423T091648
CREATED:20260408T153432Z
LAST-MODIFIED:20260408T153432Z
UID:3336-1781548200-1781551800@tango-in-leipzig.de
SUMMARY:Tango Club Hartwig
DESCRIPTION:
URL:https://tango-in-leipzig.de/event/tango-club-hartwig-10/
LOCATION:Tanzschule Hartwig Jena\, Lassallestr. 8\, Jena\, 07743\, Germany
CATEGORIES:Kurs
END:VEVENT
BEGIN:VEVENT
DTSTART;TZID=Europe/Berlin:20260615T183000
DTEND;TZID=Europe/Berlin:20260615T200000
DTSTAMP:20260423T091648
CREATED:20260408T153432Z
LAST-MODIFIED:20260408T153432Z
UID:3337-1781548200-1781553600@tango-in-leipzig.de
SUMMARY:Tango Argentino Uni Halle
DESCRIPTION:
URL:https://tango-in-leipzig.de/event/tango-argentino-uni-halle-10/
LOCATION:Sporthalle Kröllwitz\, Halle\, 06120\, Germany
CATEGORIES:Kurs
END:VEVENT
BEGIN:VEVENT
DTSTART;TZID=Europe/Berlin:20260615T190000
DTEND;TZID=Europe/Berlin:20260615T203000
DTSTAMP:20260423T091648
CREATED:20260408T153432Z
LAST-MODIFIED:20260408T153432Z
UID:3334-1781550000-1781555400@tango-in-leipzig.de
SUMMARY:Mittelstufe I – Esquina
DESCRIPTION:Lehrer: Hector Corona & Silvina Machado.
URL:https://tango-in-leipzig.de/event/mittelstufe-i-esquina-10/
LOCATION:Esquina del Tango Erfurt\, Schlösserstr. 5\, Erfurt\, 99084\, Germany
CATEGORIES:Kurs
END:VEVENT
BEGIN:VEVENT
DTSTART;TZID=Europe/Berlin:20260615T190000
DTEND;TZID=Europe/Berlin:20260615T203000
DTSTAMP:20260423T091648
CREATED:20260408T153432Z
LAST-MODIFIED:20260408T153432Z
UID:3335-1781550000-1781555400@tango-in-leipzig.de
SUMMARY:Anfängerkurs Weimar
DESCRIPTION:Lehrer: Brigitte Backhaus & Carlos Tapia.
URL:https://tango-in-leipzig.de/event/anfaengerkurs-weimar-10/
LOCATION:mon ami Weimar\, Goetheplatz 11\, Weimar\, 99423\, Germany
CATEGORIES:Kurs
END:VEVENT
BEGIN:VEVENT
DTSTART;TZID=Europe/Berlin:20260615T193000
DTEND;TZID=Europe/Berlin:20260616T000000
DTSTAMP:20260423T091648
CREATED:20260417T092442Z
LAST-MODIFIED:20260417T092442Z
UID:4254-1781551800-1781568000@tango-in-leipzig.de
SUMMARY:Sentidos — Haus der Sinne
DESCRIPTION:Montagsmilonga im Haus der Sinne\, Prenzlauer Berg.
URL:https://tango-in-leipzig.de/event/sentidos-haus-der-sinne-9/
LOCATION:Haus der Sinne\, Ystader Str. 10\, Berlin\, 10437\, Germany
CATEGORIES:milonga
END:VEVENT
BEGIN:VEVENT
DTSTART;TZID=Europe/Berlin:20260615T200000
DTEND;TZID=Europe/Berlin:20260615T230000
DTSTAMP:20260423T091648
CREATED:20260408T192225Z
LAST-MODIFIED:20260408T192225Z
UID:3521-1781553600-1781564400@tango-in-leipzig.de
SUMMARY:Tango Club – Tango Studio Leipzig
DESCRIPTION:
URL:https://tango-in-leipzig.de/event/tango-club-tango-studio-leipzig-9/
LOCATION:Tango Studio Leipzig\, Brandvorwerkstraße 52-54\, Leipzig\, 04275\, Germany
CATEGORIES:milonga
ORGANIZER;CN="Tango Studio Leipzig":MAILTO:thoma@tangostudioleipzig.de
END:VEVENT
BEGIN:VEVENT
DTSTART;TZID=Europe/Berlin:20260615T203000
DTEND;TZID=Europe/Berlin:20260615T223000
DTSTAMP:20260423T091648
CREATED:20260408T153432Z
LAST-MODIFIED:20260408T153432Z
UID:3333-1781555400-1781562600@tango-in-leipzig.de
SUMMARY:Practilonga Esquina
DESCRIPTION:
URL:https://tango-in-leipzig.de/event/practilonga-esquina-10/
LOCATION:Esquina del Tango Erfurt\, Schlösserstr. 5\, Erfurt\, 99084\, Germany
CATEGORIES:practica
END:VEVENT
BEGIN:VEVENT
DTSTART;TZID=Europe/Berlin:20260615T210000
DTEND;TZID=Europe/Berlin:20260616T010000
DTSTAMP:20260423T091648
CREATED:20260417T092442Z
LAST-MODIFIED:20260417T092442Z
UID:4256-1781557200-1781571600@tango-in-leipzig.de
SUMMARY:Milonga Popular — Tangoloft
DESCRIPTION:Montagsmilonga im Tangoloft\, Kreuzberg.
URL:https://tango-in-leipzig.de/event/milonga-popular-tangoloft-9/
LOCATION:Tangoloft\, Pfuelstr. 5\, Berlin\, 10997\, Germany
CATEGORIES:milonga
END:VEVENT
BEGIN:VEVENT
DTSTART;TZID=Europe/Berlin:20260616T181500
DTEND;TZID=Europe/Berlin:20260616T194500
DTSTAMP:20260423T091648
CREATED:20260408T153433Z
LAST-MODIFIED:20260408T153433Z
UID:3340-1781633700-1781639100@tango-in-leipzig.de
SUMMARY:Mittelstufe II – Esquina
DESCRIPTION:
URL:https://tango-in-leipzig.de/event/mittelstufe-ii-esquina-10/
LOCATION:Esquina del Tango Erfurt\, Schlösserstr. 5\, Erfurt\, 99084\, Germany
CATEGORIES:Kurs
END:VEVENT
BEGIN:VEVENT
DTSTART;TZID=Europe/Berlin:20260616T190000
DTEND;TZID=Europe/Berlin:20260616T220000
DTSTAMP:20260423T091648
CREATED:20260417T092442Z
LAST-MODIFIED:20260417T092442Z
UID:4257-1781636400-1781647200@tango-in-leipzig.de
SUMMARY:After-Work-Milonga — Balance-Zentrum Magdeburg
DESCRIPTION:Wöchentliche After-Work-Milonga. Bei warmem Wetter auf dem Glasbalkon an der Elbe.
URL:https://tango-in-leipzig.de/event/after-work-milonga-balance-zentrum-magdeburg-9/
LOCATION:Balance-Zentrum\, Nicolaistr. 5\, Magdeburg\, 39104\, Germany
CATEGORIES:milonga
END:VEVENT
BEGIN:VEVENT
DTSTART;TZID=Europe/Berlin:20260616T190000
DTEND;TZID=Europe/Berlin:20260616T230000
DTSTAMP:20260423T091648
CREATED:20260417T092442Z
LAST-MODIFIED:20260417T092442Z
UID:4258-1781636400-1781650800@tango-in-leipzig.de
SUMMARY:La Noche del Tango — Café Mosaik Magdeburg
DESCRIPTION:Offener Kurs mit Olenka & Patrick ab 19:00\, dann Milonga Tradicional 20:00–23:00 mit DJ Patrick.
URL:https://tango-in-leipzig.de/event/la-noche-del-tango-cafe-mosaik-magdeburg-9/
LOCATION:Café Mosaik\, Sternstr. 33\, Magdeburg\, 39104\, Germany
CATEGORIES:milonga
END:VEVENT
BEGIN:VEVENT
DTSTART;TZID=Europe/Berlin:20260616T190000
DTEND;TZID=Europe/Berlin:20260616T230000
DTSTAMP:20260423T091648
CREATED:20260417T092442Z
LAST-MODIFIED:20260417T092442Z
UID:4259-1781636400-1781650800@tango-in-leipzig.de
SUMMARY:TorEins Neolonga
DESCRIPTION:Dienstags-Neolonga in Kreuzberg. Eintritt frei.
URL:https://tango-in-leipzig.de/event/toreins-neolonga-9/
LOCATION:TorEins\, Möckernstr. 26\, Berlin\, 10963\, Germany
CATEGORIES:milonga
END:VEVENT
BEGIN:VEVENT
DTSTART;TZID=Europe/Berlin:20260616T200000
DTEND;TZID=Europe/Berlin:20260616T213000
DTSTAMP:20260423T091648
CREATED:20260408T153433Z
LAST-MODIFIED:20260408T153433Z
UID:3341-1781640000-1781645400@tango-in-leipzig.de
SUMMARY:Fortgeschrittene – Esquina
DESCRIPTION:
URL:https://tango-in-leipzig.de/event/fortgeschrittene-esquina-10/
LOCATION:Esquina del Tango Erfurt\, Schlösserstr. 5\, Erfurt\, 99084\, Germany
CATEGORIES:Kurs
END:VEVENT
END:VCALENDAR