BEGIN:VCALENDAR
VERSION:2.0
PRODID:-//Tango in Leipzig - ECPv6.15.20//NONSGML v1.0//EN
CALSCALE:GREGORIAN
METHOD:PUBLISH
X-ORIGINAL-URL:https://tango-in-leipzig.de
X-WR-CALDESC:Veranstaltungen für Tango in Leipzig
REFRESH-INTERVAL;VALUE=DURATION:PT1H
X-Robots-Tag:noindex
X-PUBLISHED-TTL:PT1H
BEGIN:VTIMEZONE
TZID:Europe/Berlin
BEGIN:DAYLIGHT
TZOFFSETFROM:+0100
TZOFFSETTO:+0200
TZNAME:CEST
DTSTART:20250330T010000
END:DAYLIGHT
BEGIN:STANDARD
TZOFFSETFROM:+0200
TZOFFSETTO:+0100
TZNAME:CET
DTSTART:20251026T010000
END:STANDARD
BEGIN:DAYLIGHT
TZOFFSETFROM:+0100
TZOFFSETTO:+0200
TZNAME:CEST
DTSTART:20260329T010000
END:DAYLIGHT
BEGIN:STANDARD
TZOFFSETFROM:+0200
TZOFFSETTO:+0100
TZNAME:CET
DTSTART:20261025T010000
END:STANDARD
BEGIN:DAYLIGHT
TZOFFSETFROM:+0100
TZOFFSETTO:+0200
TZNAME:CEST
DTSTART:20270328T010000
END:DAYLIGHT
BEGIN:STANDARD
TZOFFSETFROM:+0200
TZOFFSETTO:+0100
TZNAME:CET
DTSTART:20271031T010000
END:STANDARD
END:VTIMEZONE
BEGIN:VEVENT
DTSTART;TZID=Europe/Berlin:20260608T200000
DTEND;TZID=Europe/Berlin:20260608T230000
DTSTAMP:20260423T005838
CREATED:20260408T192218Z
LAST-MODIFIED:20260408T192218Z
UID:3520-1780948800-1780959600@tango-in-leipzig.de
SUMMARY:Tango Club – Tango Studio Leipzig
DESCRIPTION:
URL:https://tango-in-leipzig.de/event/tango-club-tango-studio-leipzig-8/
LOCATION:Tango Studio Leipzig\, Brandvorwerkstraße 52-54\, Leipzig\, 04275\, Germany
CATEGORIES:milonga
ORGANIZER;CN="Tango Studio Leipzig":MAILTO:thoma@tangostudioleipzig.de
END:VEVENT
BEGIN:VEVENT
DTSTART;TZID=Europe/Berlin:20260608T203000
DTEND;TZID=Europe/Berlin:20260608T223000
DTSTAMP:20260423T005838
CREATED:20260408T153430Z
LAST-MODIFIED:20260408T153430Z
UID:3281-1780950600-1780957800@tango-in-leipzig.de
SUMMARY:Practilonga Esquina
DESCRIPTION:
URL:https://tango-in-leipzig.de/event/practilonga-esquina-9/
LOCATION:Esquina del Tango Erfurt\, Schlösserstr. 5\, Erfurt\, 99084\, Germany
CATEGORIES:practica
END:VEVENT
BEGIN:VEVENT
DTSTART;TZID=Europe/Berlin:20260608T210000
DTEND;TZID=Europe/Berlin:20260609T010000
DTSTAMP:20260423T005838
CREATED:20260417T092440Z
LAST-MODIFIED:20260417T092440Z
UID:4202-1780952400-1780966800@tango-in-leipzig.de
SUMMARY:Milonga Popular — Tangoloft
DESCRIPTION:Montagsmilonga im Tangoloft\, Kreuzberg.
URL:https://tango-in-leipzig.de/event/milonga-popular-tangoloft-8/
LOCATION:Tangoloft\, Pfuelstr. 5\, Berlin\, 10997\, Germany
CATEGORIES:milonga
END:VEVENT
BEGIN:VEVENT
DTSTART;TZID=Europe/Berlin:20260609T181500
DTEND;TZID=Europe/Berlin:20260609T194500
DTSTAMP:20260423T005838
CREATED:20260408T153431Z
LAST-MODIFIED:20260408T153431Z
UID:3287-1781028900-1781034300@tango-in-leipzig.de
SUMMARY:Mittelstufe II – Esquina
DESCRIPTION:
URL:https://tango-in-leipzig.de/event/mittelstufe-ii-esquina-9/
LOCATION:Esquina del Tango Erfurt\, Schlösserstr. 5\, Erfurt\, 99084\, Germany
CATEGORIES:Kurs
END:VEVENT
BEGIN:VEVENT
DTSTART;TZID=Europe/Berlin:20260609T190000
DTEND;TZID=Europe/Berlin:20260609T220000
DTSTAMP:20260423T005838
CREATED:20260417T092440Z
LAST-MODIFIED:20260417T092440Z
UID:4203-1781031600-1781042400@tango-in-leipzig.de
SUMMARY:After-Work-Milonga — Balance-Zentrum Magdeburg
DESCRIPTION:Wöchentliche After-Work-Milonga. Bei warmem Wetter auf dem Glasbalkon an der Elbe.
URL:https://tango-in-leipzig.de/event/after-work-milonga-balance-zentrum-magdeburg-8/
LOCATION:Balance-Zentrum\, Nicolaistr. 5\, Magdeburg\, 39104\, Germany
CATEGORIES:milonga
END:VEVENT
BEGIN:VEVENT
DTSTART;TZID=Europe/Berlin:20260609T190000
DTEND;TZID=Europe/Berlin:20260609T230000
DTSTAMP:20260423T005838
CREATED:20260417T092440Z
LAST-MODIFIED:20260417T092440Z
UID:4204-1781031600-1781046000@tango-in-leipzig.de
SUMMARY:La Noche del Tango — Café Mosaik Magdeburg
DESCRIPTION:Offener Kurs mit Olenka & Patrick ab 19:00\, dann Milonga Tradicional 20:00–23:00 mit DJ Patrick.
URL:https://tango-in-leipzig.de/event/la-noche-del-tango-cafe-mosaik-magdeburg-8/
LOCATION:Café Mosaik\, Sternstr. 33\, Magdeburg\, 39104\, Germany
CATEGORIES:milonga
END:VEVENT
BEGIN:VEVENT
DTSTART;TZID=Europe/Berlin:20260609T190000
DTEND;TZID=Europe/Berlin:20260609T230000
DTSTAMP:20260423T005838
CREATED:20260417T092440Z
LAST-MODIFIED:20260417T092440Z
UID:4205-1781031600-1781046000@tango-in-leipzig.de
SUMMARY:TorEins Neolonga
DESCRIPTION:Dienstags-Neolonga in Kreuzberg. Eintritt frei.
URL:https://tango-in-leipzig.de/event/toreins-neolonga-8/
LOCATION:TorEins\, Möckernstr. 26\, Berlin\, 10963\, Germany
CATEGORIES:milonga
END:VEVENT
BEGIN:VEVENT
DTSTART;TZID=Europe/Berlin:20260609T200000
DTEND;TZID=Europe/Berlin:20260609T213000
DTSTAMP:20260423T005838
CREATED:20260408T153431Z
LAST-MODIFIED:20260408T153431Z
UID:3288-1781035200-1781040600@tango-in-leipzig.de
SUMMARY:Fortgeschrittene – Esquina
DESCRIPTION:
URL:https://tango-in-leipzig.de/event/fortgeschrittene-esquina-9/
LOCATION:Esquina del Tango Erfurt\, Schlösserstr. 5\, Erfurt\, 99084\, Germany
CATEGORIES:Kurs
END:VEVENT
BEGIN:VEVENT
DTSTART;TZID=Europe/Berlin:20260609T200000
DTEND;TZID=Europe/Berlin:20260610T010000
DTSTAMP:20260423T005838
CREATED:20260417T092440Z
LAST-MODIFIED:20260417T092440Z
UID:4207-1781035200-1781053200@tango-in-leipzig.de
SUMMARY:Tangonacht — Roter Salon / Volksbühne
DESCRIPTION:Dienstags-Tangonacht im Roten Salon an der Volksbühne\, Mitte.
URL:https://tango-in-leipzig.de/event/tangonacht-roter-salon-volksbuehne-8/
LOCATION:Roter Salon / Volksbühne\, Rosa-Luxemburg-Platz\, Berlin\, 10178\, Germany
CATEGORIES:milonga
END:VEVENT
BEGIN:VEVENT
DTSTART;TZID=Europe/Berlin:20260609T210000
DTEND;TZID=Europe/Berlin:20260609T233000
DTSTAMP:20260423T005838
CREATED:20260408T153431Z
LAST-MODIFIED:20260408T153431Z
UID:3286-1781038800-1781047800@tango-in-leipzig.de
SUMMARY:Practica Wasserhäuschen
DESCRIPTION:Dienstags-Practica von L-Tango e.V.
URL:https://tango-in-leipzig.de/event/practica-wasserhaeuschen-9/
LOCATION:Wasserhäuschen\, Industriestr. 72\, Leipzig\, 04229\, Germany
CATEGORIES:practica
END:VEVENT
BEGIN:VEVENT
DTSTART;TZID=Europe/Berlin:20260610T173000
DTEND;TZID=Europe/Berlin:20260610T183000
DTSTAMP:20260423T005838
CREATED:20260408T153431Z
LAST-MODIFIED:20260408T153431Z
UID:3294-1781112600-1781116200@tango-in-leipzig.de
SUMMARY:Anfängerkurs HTWK
DESCRIPTION:Lehrer: Nicole Terentjewa & Thomas Grau.
URL:https://tango-in-leipzig.de/event/anfaengerkurs-htwk-10/
LOCATION:HTWK Leipzig\, Gustav-Freytag-Str. 43-45\, Leipzig\, 04277\, Germany
CATEGORIES:Kurs
END:VEVENT
BEGIN:VEVENT
DTSTART;TZID=Europe/Berlin:20260610T174500
DTEND;TZID=Europe/Berlin:20260610T184500
DTSTAMP:20260423T005838
CREATED:20260408T153431Z
LAST-MODIFIED:20260408T153431Z
UID:3304-1781113500-1781117100@tango-in-leipzig.de
SUMMARY:Tango Grundstufe Gera
DESCRIPTION:Lehrer: Marion & Detlef. Kostenlose Probestunde.
URL:https://tango-in-leipzig.de/event/tango-grundstufe-gera-10/
LOCATION:Tanzschule Schulze Gera\, Friedrich-Naumann-Platz 3\, Gera\, 07545\, Germany
CATEGORIES:Kurs
END:VEVENT
BEGIN:VEVENT
DTSTART;TZID=Europe/Berlin:20260610T180000
DTEND;TZID=Europe/Berlin:20260610T191500
DTSTAMP:20260423T005838
CREATED:20260408T153431Z
LAST-MODIFIED:20260408T153431Z
UID:3300-1781114400-1781118900@tango-in-leipzig.de
SUMMARY:Anfänger II C-Tango
DESCRIPTION:
URL:https://tango-in-leipzig.de/event/anfaenger-ii-c-tango-6/
LOCATION:Kraftwerk e.V. Chemnitz\, Kassbergstr. 36\, Chemnitz\, 09112\, Germany
CATEGORIES:Kurs
END:VEVENT
BEGIN:VEVENT
DTSTART;TZID=Europe/Berlin:20260610T181500
DTEND;TZID=Europe/Berlin:20260610T193000
DTSTAMP:20260423T005838
CREATED:20260408T153431Z
LAST-MODIFIED:20260408T153431Z
UID:3292-1781115300-1781119800@tango-in-leipzig.de
SUMMARY:Mittelstufe – Sarah Mirren
DESCRIPTION:
URL:https://tango-in-leipzig.de/event/mittelstufe-sarah-mirren-10/
LOCATION:Sarah Mirren Tango\, Am Kanal 30\, Leipzig\, 04179\, Germany
CATEGORIES:Kurs
END:VEVENT
BEGIN:VEVENT
DTSTART;TZID=Europe/Berlin:20260610T183000
DTEND;TZID=Europe/Berlin:20260610T193000
DTSTAMP:20260423T005838
CREATED:20260408T153431Z
LAST-MODIFIED:20260408T153431Z
UID:3295-1781116200-1781119800@tango-in-leipzig.de
SUMMARY:Aufbaukurs HTWK
DESCRIPTION:Lehrer: Nicole Terentjewa & Thomas Grau.
URL:https://tango-in-leipzig.de/event/aufbaukurs-htwk-10/
LOCATION:HTWK Leipzig\, Gustav-Freytag-Str. 43-45\, Leipzig\, 04277\, Germany
CATEGORIES:Kurs
END:VEVENT
BEGIN:VEVENT
DTSTART;TZID=Europe/Berlin:20260610T183000
DTEND;TZID=Europe/Berlin:20260610T200000
DTSTAMP:20260423T005838
CREATED:20260408T153431Z
LAST-MODIFIED:20260408T153431Z
UID:3296-1781116200-1781121600@tango-in-leipzig.de
SUMMARY:Anfänger-Mittelstufe – Esquina
DESCRIPTION:
URL:https://tango-in-leipzig.de/event/anfaenger-mittelstufe-esquina-10/
LOCATION:Esquina del Tango Erfurt\, Schlösserstr. 5\, Erfurt\, 99084\, Germany
CATEGORIES:Kurs
END:VEVENT
BEGIN:VEVENT
DTSTART;TZID=Europe/Berlin:20260610T184500
DTEND;TZID=Europe/Berlin:20260610T201500
DTSTAMP:20260423T005838
CREATED:20260408T153431Z
LAST-MODIFIED:20260408T153431Z
UID:3305-1781117100-1781122500@tango-in-leipzig.de
SUMMARY:Tango Club (Fortgeschrittene) Gera
DESCRIPTION:
URL:https://tango-in-leipzig.de/event/tango-club-fortgeschrittene-gera-10/
LOCATION:Tanzschule Schulze Gera\, Friedrich-Naumann-Platz 3\, Gera\, 07545\, Germany
CATEGORIES:Kurs
END:VEVENT
BEGIN:VEVENT
DTSTART;TZID=Europe/Berlin:20260610T190000
DTEND;TZID=Europe/Berlin:20260610T201500
DTSTAMP:20260423T005838
CREATED:20260408T153431Z
LAST-MODIFIED:20260408T153431Z
UID:3290-1781118000-1781122500@tango-in-leipzig.de
SUMMARY:Level 3 Mittelstufe – Tangosalon
DESCRIPTION:
URL:https://tango-in-leipzig.de/event/level-3-mittelstufe-tangosalon-10/
LOCATION:Tangosalon Leipzig\, Holbeinstr. 29\, Leipzig\, 04229\, Germany
CATEGORIES:Kurs
END:VEVENT
BEGIN:VEVENT
DTSTART;TZID=Europe/Berlin:20260610T190000
DTEND;TZID=Europe/Berlin:20260610T203000
DTSTAMP:20260423T005838
CREATED:20260408T153431Z
LAST-MODIFIED:20260408T153431Z
UID:3303-1781118000-1781123400@tango-in-leipzig.de
SUMMARY:Basics – Seele des Tangos (La academia)
DESCRIPTION:Lehrerin: Carsta Mock.
URL:https://tango-in-leipzig.de/event/basics-seele-des-tangos-la-academia-10/
LOCATION:La academia\, Altleubnitz 11\, Dresden\, 01219\, Germany
CATEGORIES:Kurs
END:VEVENT
BEGIN:VEVENT
DTSTART;TZID=Europe/Berlin:20260610T191500
DTEND;TZID=Europe/Berlin:20260610T201500
DTSTAMP:20260423T005838
CREATED:20260408T153431Z
LAST-MODIFIED:20260408T153431Z
UID:3298-1781118900-1781122500@tango-in-leipzig.de
SUMMARY:Tango Grund-/Aufbaukurs Jena
DESCRIPTION:Lehrer: Rena & Olaf.
URL:https://tango-in-leipzig.de/event/tango-grund-aufbaukurs-jena-10/
LOCATION:Tanzhaus Jena\, Camsdorfer Ufer 17\, Jena\, 07749\, Germany
CATEGORIES:Kurs
END:VEVENT
BEGIN:VEVENT
DTSTART;TZID=Europe/Berlin:20260610T191500
DTEND;TZID=Europe/Berlin:20260610T203000
DTSTAMP:20260423T005838
CREATED:20260408T153431Z
LAST-MODIFIED:20260408T153431Z
UID:3301-1781118900-1781123400@tango-in-leipzig.de
SUMMARY:Mittelstufe II C-Tango
DESCRIPTION:
URL:https://tango-in-leipzig.de/event/mittelstufe-ii-c-tango-6/
LOCATION:Kraftwerk e.V. Chemnitz\, Kassbergstr. 36\, Chemnitz\, 09112\, Germany
CATEGORIES:Kurs
END:VEVENT
BEGIN:VEVENT
DTSTART;TZID=Europe/Berlin:20260610T193000
DTEND;TZID=Europe/Berlin:20260610T203000
DTSTAMP:20260423T005838
CREATED:20260408T153431Z
LAST-MODIFIED:20260408T153431Z
UID:3302-1781119800-1781123400@tango-in-leipzig.de
SUMMARY:TanzFabrik Mittelstufe
DESCRIPTION:
URL:https://tango-in-leipzig.de/event/tanzfabrik-mittelstufe-10/
LOCATION:TanzFabrik Chemnitz\, Neefestr. 58\, Chemnitz\, 09119\, Germany
CATEGORIES:Kurs
END:VEVENT
BEGIN:VEVENT
DTSTART;TZID=Europe/Berlin:20260610T193000
DTEND;TZID=Europe/Berlin:20260610T204500
DTSTAMP:20260423T005838
CREATED:20260408T153431Z
LAST-MODIFIED:20260408T153431Z
UID:3293-1781119800-1781124300@tango-in-leipzig.de
SUMMARY:Fortgeschrittene – Sarah Mirren
DESCRIPTION:
URL:https://tango-in-leipzig.de/event/fortgeschrittene-sarah-mirren-10/
LOCATION:Sarah Mirren Tango\, Am Kanal 30\, Leipzig\, 04179\, Germany
CATEGORIES:Kurs
END:VEVENT
BEGIN:VEVENT
DTSTART;TZID=Europe/Berlin:20260610T200000
DTEND;TZID=Europe/Berlin:20260610T213000
DTSTAMP:20260423T005838
CREATED:20260408T153431Z
LAST-MODIFIED:20260408T153431Z
UID:3297-1781121600-1781127000@tango-in-leipzig.de
SUMMARY:Mittelstufe-Fortgeschrittene – Esquina
DESCRIPTION:
URL:https://tango-in-leipzig.de/event/mittelstufe-fortgeschrittene-esquina-10/
LOCATION:Esquina del Tango Erfurt\, Schlösserstr. 5\, Erfurt\, 99084\, Germany
CATEGORIES:Kurs
END:VEVENT
BEGIN:VEVENT
DTSTART;TZID=Europe/Berlin:20260610T200000
DTEND;TZID=Europe/Berlin:20260611T010000
DTSTAMP:20260423T005838
CREATED:20260417T092440Z
LAST-MODIFIED:20260417T092440Z
UID:4211-1781121600-1781139600@tango-in-leipzig.de
SUMMARY:Ballhaus Milonga — Wedding
DESCRIPTION:Mittwochs-Milonga im Ballhaus Wedding.
URL:https://tango-in-leipzig.de/event/ballhaus-milonga-wedding-8/
LOCATION:Ballhaus Wedding\, Wriezener Str. 6\, Berlin\, 13359\, Germany
CATEGORIES:milonga
END:VEVENT
BEGIN:VEVENT
DTSTART;TZID=Europe/Berlin:20260610T202000
DTEND;TZID=Europe/Berlin:20260610T213000
DTSTAMP:20260423T005838
CREATED:20260408T153431Z
LAST-MODIFIED:20260408T153431Z
UID:3299-1781122800-1781127000@tango-in-leipzig.de
SUMMARY:Tango Mittelstufe Jena
DESCRIPTION:
URL:https://tango-in-leipzig.de/event/tango-mittelstufe-jena-10/
LOCATION:Tanzhaus Jena\, Camsdorfer Ufer 17\, Jena\, 07749\, Germany
CATEGORIES:Kurs
END:VEVENT
BEGIN:VEVENT
DTSTART;TZID=Europe/Berlin:20260610T203000
DTEND;TZID=Europe/Berlin:20260610T214500
DTSTAMP:20260423T005838
CREATED:20260408T153431Z
LAST-MODIFIED:20260408T153431Z
UID:3291-1781123400-1781127900@tango-in-leipzig.de
SUMMARY:Level 4 Fortgeschritten – Tangosalon
DESCRIPTION:
URL:https://tango-in-leipzig.de/event/level-4-fortgeschritten-tangosalon-10/
LOCATION:Tangosalon Leipzig\, Holbeinstr. 29\, Leipzig\, 04229\, Germany
CATEGORIES:Kurs
END:VEVENT
BEGIN:VEVENT
DTSTART;TZID=Europe/Berlin:20260610T203000
DTEND;TZID=Europe/Berlin:20260611T000000
DTSTAMP:20260423T005838
CREATED:20260417T092440Z
LAST-MODIFIED:20260417T092440Z
UID:4213-1781123400-1781136000@tango-in-leipzig.de
SUMMARY:Milonga im Spiegelsaal — Clärchens Ballhaus
DESCRIPTION:Mittwochs-Milonga im Spiegelsaal. DJs: Gaia & Leandro.
URL:https://tango-in-leipzig.de/event/milonga-im-spiegelsaal-claerchens-ballhaus-8/
LOCATION:Clärchens Ballhaus\, Auguststr. 24\, Berlin\, 10117\, Germany
CATEGORIES:milonga
END:VEVENT
BEGIN:VEVENT
DTSTART;TZID=Europe/Berlin:20260610T210000
DTEND;TZID=Europe/Berlin:20260610T220000
DTSTAMP:20260423T005838
CREATED:20260408T153431Z
LAST-MODIFIED:20260408T153431Z
UID:3289-1781125200-1781128800@tango-in-leipzig.de
SUMMARY:Practica Tanzhaus Jena
DESCRIPTION:
URL:https://tango-in-leipzig.de/event/practica-tanzhaus-jena-10/
LOCATION:Tanzhaus Jena\, Camsdorfer Ufer 17\, Jena\, 07749\, Germany
CATEGORIES:practica
END:VEVENT
BEGIN:VEVENT
DTSTART;TZID=Europe/Berlin:20260610T210000
DTEND;TZID=Europe/Berlin:20260610T230000
DTSTAMP:20260423T005838
CREATED:20260417T092440Z
LAST-MODIFIED:20260417T092440Z
UID:4216-1781125200-1781132400@tango-in-leipzig.de
SUMMARY:TTMS Mittwochspraktika
DESCRIPTION:Mittwochspraktika bei TTMS in Kreuzberg.
URL:https://tango-in-leipzig.de/event/ttms-mittwochspraktika-8/
LOCATION:Tangotanzen macht schön (TTMS)\, Oranienstr. 185\, Berlin\, 10999\, Germany
CATEGORIES:practica
END:VEVENT
END:VCALENDAR