BEGIN:VCALENDAR
VERSION:2.0
PRODID:-//Tango in Leipzig - ECPv6.15.20//NONSGML v1.0//EN
CALSCALE:GREGORIAN
METHOD:PUBLISH
X-WR-CALNAME:Tango in Leipzig
X-ORIGINAL-URL:https://tango-in-leipzig.de
X-WR-CALDESC:Veranstaltungen für Tango in Leipzig
REFRESH-INTERVAL;VALUE=DURATION:PT1H
X-Robots-Tag:noindex
X-PUBLISHED-TTL:PT1H
BEGIN:VTIMEZONE
TZID:Europe/Berlin
BEGIN:DAYLIGHT
TZOFFSETFROM:+0100
TZOFFSETTO:+0200
TZNAME:CEST
DTSTART:20250330T010000
END:DAYLIGHT
BEGIN:STANDARD
TZOFFSETFROM:+0200
TZOFFSETTO:+0100
TZNAME:CET
DTSTART:20251026T010000
END:STANDARD
BEGIN:DAYLIGHT
TZOFFSETFROM:+0100
TZOFFSETTO:+0200
TZNAME:CEST
DTSTART:20260329T010000
END:DAYLIGHT
BEGIN:STANDARD
TZOFFSETFROM:+0200
TZOFFSETTO:+0100
TZNAME:CET
DTSTART:20261025T010000
END:STANDARD
BEGIN:DAYLIGHT
TZOFFSETFROM:+0100
TZOFFSETTO:+0200
TZNAME:CEST
DTSTART:20270328T010000
END:DAYLIGHT
BEGIN:STANDARD
TZOFFSETFROM:+0200
TZOFFSETTO:+0100
TZNAME:CET
DTSTART:20271031T010000
END:STANDARD
END:VTIMEZONE
BEGIN:VEVENT
DTSTART;TZID=Europe/Berlin:20260603T210000
DTEND;TZID=Europe/Berlin:20260603T230000
DTSTAMP:20260422T193022
CREATED:20260417T092438Z
LAST-MODIFIED:20260417T092438Z
UID:4165-1780520400-1780527600@tango-in-leipzig.de
SUMMARY:TTMS Mittwochspraktika
DESCRIPTION:Mittwochspraktika bei TTMS in Kreuzberg.
URL:https://tango-in-leipzig.de/event/ttms-mittwochspraktika-7/
LOCATION:Tangotanzen macht schön (TTMS)\, Oranienstr. 185\, Berlin\, 10999\, Germany
CATEGORIES:practica
END:VEVENT
BEGIN:VEVENT
DTSTART;TZID=Europe/Berlin:20260603T210000
DTEND;TZID=Europe/Berlin:20260604T003000
DTSTAMP:20260422T193022
CREATED:20260417T092438Z
LAST-MODIFIED:20260417T092438Z
UID:4166-1780520400-1780533000@tango-in-leipzig.de
SUMMARY:Tangonacht — Mala Junta
DESCRIPTION:Mittwochs-Tangonacht. Open Class ab 19:45. Schöneberg.
URL:https://tango-in-leipzig.de/event/tangonacht-mala-junta-7/
LOCATION:Mala Junta\, Kolonnenstr. 29\, Berlin\, 10829\, Germany
CATEGORIES:milonga
END:VEVENT
BEGIN:VEVENT
DTSTART;TZID=Europe/Berlin:20260604T170000
DTEND;TZID=Europe/Berlin:20260604T194500
DTSTAMP:20260422T193022
CREATED:20260417T092438Z
LAST-MODIFIED:20260417T092438Z
UID:4167-1780592400-1780602300@tango-in-leipzig.de
SUMMARY:Tangowerkstatt — Esquina del Tango Erfurt
DESCRIPTION:Donnerstags-Tangowerkstatt.
URL:https://tango-in-leipzig.de/event/tangowerkstatt-esquina-del-tango-erfurt-8/
LOCATION:Esquina del Tango\, Schlösserstr. 5\, Erfurt\, 99084\, Germany
CATEGORIES:practica
END:VEVENT
BEGIN:VEVENT
DTSTART;TZID=Europe/Berlin:20260604T180000
DTEND;TZID=Europe/Berlin:20260604T191500
DTSTAMP:20260422T193022
CREATED:20260408T153430Z
LAST-MODIFIED:20260408T153430Z
UID:3258-1780596000-1780600500@tango-in-leipzig.de
SUMMARY:Level 1 Basis – Tangosalon
DESCRIPTION:Anfaengerkurs. Einstieg jederzeit.
URL:https://tango-in-leipzig.de/event/level-1-basis-tangosalon-9/
LOCATION:Tangosalon Leipzig\, Holbeinstr. 29\, Leipzig\, 04229\, Germany
CATEGORIES:Kurs
END:VEVENT
BEGIN:VEVENT
DTSTART;TZID=Europe/Berlin:20260604T183000
DTEND;TZID=Europe/Berlin:20260604T194500
DTSTAMP:20260422T193022
CREATED:20260416T110551Z
LAST-MODIFIED:20260416T110551Z
UID:3647-1780597800-1780602300@tango-in-leipzig.de
SUMMARY:Tango Level 1/2
DESCRIPTION:Wöchentlicher Kurs für Anfänger und Mittelstufe. Lehrer: Juliane & Franz (Vertretung für Almut & Stefan). Anmeldung über Eversports.
URL:https://tango-in-leipzig.de/event/tango-level-1-2-8/
LOCATION:Tanzschule Tango Mio Halle\, Geiststraße 22\, Halle\, 06108\, Germany
CATEGORIES:Kurs
END:VEVENT
BEGIN:VEVENT
DTSTART;TZID=Europe/Berlin:20260604T183000
DTEND;TZID=Europe/Berlin:20260604T200000
DTSTAMP:20260422T193022
CREATED:20260408T153430Z
LAST-MODIFIED:20260408T153430Z
UID:3263-1780597800-1780603200@tango-in-leipzig.de
SUMMARY:Frauentechnik – Esquina
DESCRIPTION:Lehrerin: Silvina Machado.
URL:https://tango-in-leipzig.de/event/frauentechnik-esquina-3/
LOCATION:Esquina del Tango Erfurt\, Schlösserstr. 5\, Erfurt\, 99084\, Germany
CATEGORIES:Kurs
END:VEVENT
BEGIN:VEVENT
DTSTART;TZID=Europe/Berlin:20260604T184500
DTEND;TZID=Europe/Berlin:20260604T200000
DTSTAMP:20260422T193022
CREATED:20260408T153430Z
LAST-MODIFIED:20260408T153430Z
UID:3260-1780598700-1780603200@tango-in-leipzig.de
SUMMARY:BASIS-Kurs – Sarah Mirren
DESCRIPTION:Anfaengerkurs.
URL:https://tango-in-leipzig.de/event/basis-kurs-sarah-mirren-9/
LOCATION:Sarah Mirren Tango\, Am Kanal 30\, Leipzig\, 04179\, Germany
CATEGORIES:Kurs
END:VEVENT
BEGIN:VEVENT
DTSTART;TZID=Europe/Berlin:20260604T190000
DTEND;TZID=Europe/Berlin:20260604T200000
DTSTAMP:20260422T193022
CREATED:20260408T153430Z
LAST-MODIFIED:20260408T153430Z
UID:3264-1780599600-1780603200@tango-in-leipzig.de
SUMMARY:Donnerstagskurs Typisch Tango
DESCRIPTION:
URL:https://tango-in-leipzig.de/event/donnerstagskurs-typisch-tango-9/
LOCATION:Yogastudio Ekatra\, Seengässlein 3\, Erfurt\, 99084\, Germany
CATEGORIES:Kurs
END:VEVENT
BEGIN:VEVENT
DTSTART;TZID=Europe/Berlin:20260604T190000
DTEND;TZID=Europe/Berlin:20260604T200000
DTSTAMP:20260422T193022
CREATED:20260408T153430Z
LAST-MODIFIED:20260408T153430Z
UID:3266-1780599600-1780603200@tango-in-leipzig.de
SUMMARY:Tango-Kurs-Stunde Naumburg
DESCRIPTION:Lehrer: Hermhild & Jochen Hilgenberg.
URL:https://tango-in-leipzig.de/event/tango-kurs-stunde-naumburg-9/
LOCATION:JZ OTTO Naumburg\, Poststr. 31\, Naumburg\, 06618\, Germany
CATEGORIES:Kurs
END:VEVENT
BEGIN:VEVENT
DTSTART;TZID=Europe/Berlin:20260604T190000
DTEND;TZID=Europe/Berlin:20260604T210000
DTSTAMP:20260422T193022
CREATED:20260408T153430Z
LAST-MODIFIED:20260408T153430Z
UID:3256-1780599600-1780606800@tango-in-leipzig.de
SUMMARY:Angeleiteter Übungsabend Studio 24
DESCRIPTION:
URL:https://tango-in-leipzig.de/event/angeleiteter-uebungsabend-studio-24-9/
LOCATION:Studio 24 Dresden\, Grossenhainer Str. 29\, Dresden\, 01097\, Germany
CATEGORIES:practica
END:VEVENT
BEGIN:VEVENT
DTSTART;TZID=Europe/Berlin:20260604T193000
DTEND;TZID=Europe/Berlin:20260604T204500
DTSTAMP:20260422T193022
CREATED:20260408T153430Z
LAST-MODIFIED:20260408T153430Z
UID:3259-1780601400-1780605900@tango-in-leipzig.de
SUMMARY:Level 2 Aufbau – Tangosalon
DESCRIPTION:
URL:https://tango-in-leipzig.de/event/level-2-aufbau-tangosalon-9/
LOCATION:Tangosalon Leipzig\, Holbeinstr. 29\, Leipzig\, 04229\, Germany
CATEGORIES:Kurs
END:VEVENT
BEGIN:VEVENT
DTSTART;TZID=Europe/Berlin:20260604T193000
DTEND;TZID=Europe/Berlin:20260604T210000
DTSTAMP:20260422T193022
CREATED:20260408T153430Z
LAST-MODIFIED:20260408T153430Z
UID:3265-1780601400-1780606800@tango-in-leipzig.de
SUMMARY:Offener Tango-Kurs el Tango puro
DESCRIPTION:Lehrer: Marie & Norman.
URL:https://tango-in-leipzig.de/event/offener-tango-kurs-el-tango-puro-9/
LOCATION:el Tango puro Magdeburg\, Lüneburger Str. 26\, Magdeburg\, 39106\, Germany
CATEGORIES:Kurs
END:VEVENT
BEGIN:VEVENT
DTSTART;TZID=Europe/Berlin:20260604T193000
DTEND;TZID=Europe/Berlin:20260604T210000
DTSTAMP:20260422T193022
CREATED:20260408T153430Z
LAST-MODIFIED:20260408T153430Z
UID:3255-1780601400-1780606800@tango-in-leipzig.de
SUMMARY:Tango Praktika Weimar
DESCRIPTION:
URL:https://tango-in-leipzig.de/event/tango-praktika-weimar-9/
LOCATION:mon ami Weimar\, Goetheplatz 11\, Weimar\, 99423\, Germany
CATEGORIES:practica
END:VEVENT
BEGIN:VEVENT
DTSTART;TZID=Europe/Berlin:20260604T193000
DTEND;TZID=Europe/Berlin:20260604T221500
DTSTAMP:20260422T193022
CREATED:20260417T092439Z
LAST-MODIFIED:20260417T092439Z
UID:4171-1780601400-1780611300@tango-in-leipzig.de
SUMMARY:Praktika — Nou Tango
DESCRIPTION:Donnerstags-Praktika (nur Paare). Mitte.
URL:https://tango-in-leipzig.de/event/praktika-nou-tango-8/
LOCATION:Nou Tango\, Chausseestr. 102\, Berlin\, 10115\, Germany
CATEGORIES:practica
END:VEVENT
BEGIN:VEVENT
DTSTART;TZID=Europe/Berlin:20260604T193000
DTEND;TZID=Europe/Berlin:20260604T230000
DTSTAMP:20260422T193022
CREATED:20260417T092438Z
LAST-MODIFIED:20260417T092438Z
UID:4169-1780601400-1780614000@tango-in-leipzig.de
SUMMARY:Neolonga — Basecamp
DESCRIPTION:Donnerstags-Neolonga in Wilmersdorf.
URL:https://tango-in-leipzig.de/event/neolonga-basecamp-8/
LOCATION:Basecamp\, Düsseldorfer Str. 32\, Berlin\, 10707\, Germany
CATEGORIES:milonga
END:VEVENT
BEGIN:VEVENT
DTSTART;TZID=Europe/Berlin:20260604T200000
DTEND;TZID=Europe/Berlin:20260604T211500
DTSTAMP:20260422T193022
CREATED:20260408T153430Z
LAST-MODIFIED:20260408T153430Z
UID:3261-1780603200-1780607700@tango-in-leipzig.de
SUMMARY:Mittelstufe/Fortgeschrittene – Sarah Mirren
DESCRIPTION:
URL:https://tango-in-leipzig.de/event/mittelstufe-fortgeschrittene-sarah-mirren-9/
LOCATION:Sarah Mirren Tango\, Am Kanal 30\, Leipzig\, 04179\, Germany
CATEGORIES:Kurs
END:VEVENT
BEGIN:VEVENT
DTSTART;TZID=Europe/Berlin:20260604T200000
DTEND;TZID=Europe/Berlin:20260604T211500
DTSTAMP:20260422T193022
CREATED:20260416T110551Z
LAST-MODIFIED:20260416T110551Z
UID:3648-1780603200-1780607700@tango-in-leipzig.de
SUMMARY:Tango Level 3
DESCRIPTION:Wöchentlicher Kurs für Fortgeschrittene. Lehrer: Juliane & Franz (Vertretung für Almut & Stefan). Anmeldung über Eversports.
URL:https://tango-in-leipzig.de/event/tango-level-3-8/
LOCATION:Tanzschule Tango Mio Halle\, Geiststraße 22\, Halle\, 06108\, Germany
CATEGORIES:Kurs
END:VEVENT
BEGIN:VEVENT
DTSTART;TZID=Europe/Berlin:20260604T200000
DTEND;TZID=Europe/Berlin:20260604T213000
DTSTAMP:20260422T193022
CREATED:20260408T153430Z
LAST-MODIFIED:20260408T153430Z
UID:3262-1780603200-1780608600@tango-in-leipzig.de
SUMMARY:Anfänger-Mittelstufe Do – Esquina
DESCRIPTION:
URL:https://tango-in-leipzig.de/event/anfaenger-mittelstufe-do-esquina-9/
LOCATION:Esquina del Tango Erfurt\, Schlösserstr. 5\, Erfurt\, 99084\, Germany
CATEGORIES:Kurs
END:VEVENT
BEGIN:VEVENT
DTSTART;TZID=Europe/Berlin:20260604T200000
DTEND;TZID=Europe/Berlin:20260604T213000
DTSTAMP:20260422T193022
CREATED:20260408T153430Z
LAST-MODIFIED:20260408T153430Z
UID:3257-1780603200-1780608600@tango-in-leipzig.de
SUMMARY:Tanzen-und-Üben Naumburg
DESCRIPTION:
URL:https://tango-in-leipzig.de/event/tanzen-und-ueben-naumburg-9/
LOCATION:JZ OTTO Naumburg\, Poststr. 31\, Naumburg\, 06618\, Germany
CATEGORIES:practica
END:VEVENT
BEGIN:VEVENT
DTSTART;TZID=Europe/Berlin:20260604T201500
DTEND;TZID=Europe/Berlin:20260604T230000
DTSTAMP:20260422T193022
CREATED:20260408T153430Z
LAST-MODIFIED:20260408T153430Z
UID:3254-1780604100-1780614000@tango-in-leipzig.de
SUMMARY:Übungsabend Typisch Tango
DESCRIPTION:
URL:https://tango-in-leipzig.de/event/uebungsabend-typisch-tango-9/
LOCATION:Yogastudio Ekatra\, Seengässlein 3\, Erfurt\, 99084\, Germany
CATEGORIES:practica
END:VEVENT
BEGIN:VEVENT
DTSTART;TZID=Europe/Berlin:20260604T201500
DTEND;TZID=Europe/Berlin:20260604T230000
DTSTAMP:20260422T193022
CREATED:20260417T092439Z
LAST-MODIFIED:20260417T092439Z
UID:4172-1780604100-1780614000@tango-in-leipzig.de
SUMMARY:Übungsabend — Estación del Tango Erfurt
DESCRIPTION:Donnerstags-Übungsabend.
URL:https://tango-in-leipzig.de/event/uebungsabend-estacion-del-tango-erfurt-8/
LOCATION:Estación del Tango\, Schmidtstedter Str. 34\, Erfurt\, 99084\, Germany
CATEGORIES:practica
END:VEVENT
BEGIN:VEVENT
DTSTART;TZID=Europe/Berlin:20260604T210500
DTEND;TZID=Europe/Berlin:20260604T224500
DTSTAMP:20260422T193022
CREATED:20260417T092439Z
LAST-MODIFIED:20260417T092439Z
UID:4176-1780607100-1780613100@tango-in-leipzig.de
SUMMARY:Get the Step Practica — Mala Junta
DESCRIPTION:Donnerstags-Practica in Schöneberg.
URL:https://tango-in-leipzig.de/event/get-the-step-practica-mala-junta-8/
LOCATION:Mala Junta\, Kolonnenstr. 29\, Berlin\, 10829\, Germany
CATEGORIES:practica
END:VEVENT
BEGIN:VEVENT
DTSTART;TZID=Europe/Berlin:20260604T211500
DTEND;TZID=Europe/Berlin:20260604T231500
DTSTAMP:20260422T193022
CREATED:20260417T092439Z
LAST-MODIFIED:20260417T092439Z
UID:4177-1780607700-1780614900@tango-in-leipzig.de
SUMMARY:Praktika — Alte Bahnhofshalle Friedenau
DESCRIPTION:Donnerstags-Praktika in Friedenau/Steglitz.
URL:https://tango-in-leipzig.de/event/praktika-alte-bahnhofshalle-friedenau-8/
LOCATION:Alte Bahnhofshalle Friedenau\, Bahnhofstr. 4D\, Berlin\, 12159\, Germany
CATEGORIES:practica
END:VEVENT
BEGIN:VEVENT
DTSTART;TZID=Europe/Berlin:20260605T200000
DTEND;TZID=Europe/Berlin:20260605T210000
DTSTAMP:20260422T193022
CREATED:20260408T153430Z
LAST-MODIFIED:20260408T153430Z
UID:3269-1780689600-1780693200@tango-in-leipzig.de
SUMMARY:Freitags-Practica (angeleitet)
DESCRIPTION:
URL:https://tango-in-leipzig.de/event/freitags-practica-angeleitet-9/
LOCATION:Tangosalon Leipzig\, Holbeinstr. 29\, Leipzig\, 04229\, Germany
CATEGORIES:practica
END:VEVENT
BEGIN:VEVENT
DTSTART;TZID=Europe/Berlin:20260605T200000
DTEND;TZID=Europe/Berlin:20260605T210000
DTSTAMP:20260422T193022
CREATED:20260408T153430Z
LAST-MODIFIED:20260408T153430Z
UID:3270-1780689600-1780693200@tango-in-leipzig.de
SUMMARY:Offener Tangokurs Studio 24
DESCRIPTION:Vor der Freitags-Milonga.
URL:https://tango-in-leipzig.de/event/offener-tangokurs-studio-24-9/
LOCATION:Studio 24 Dresden\, Grossenhainer Str. 29\, Dresden\, 01097\, Germany
CATEGORIES:Kurs
END:VEVENT
BEGIN:VEVENT
DTSTART;TZID=Europe/Berlin:20260605T210000
DTEND;TZID=Europe/Berlin:20260606T000000
DTSTAMP:20260422T193022
CREATED:20260408T153430Z
LAST-MODIFIED:20260408T153430Z
UID:3268-1780693200-1780704000@tango-in-leipzig.de
SUMMARY:Freitags-Milonga Studio 24
DESCRIPTION:Offener Kurs ab 20:00 (10 EUR inkl. Tanzabend).
URL:https://tango-in-leipzig.de/event/freitags-milonga-studio-24-9/
LOCATION:Studio 24 Dresden\, Grossenhainer Str. 29\, Dresden\, 01097\, Germany
CATEGORIES:milonga
END:VEVENT
BEGIN:VEVENT
DTSTART;TZID=Europe/Berlin:20260605T210000
DTEND;TZID=Europe/Berlin:20260606T010000
DTSTAMP:20260422T193022
CREATED:20260408T153430Z
LAST-MODIFIED:20260408T153430Z
UID:3267-1780693200-1780707600@tango-in-leipzig.de
SUMMARY:Freitags-Milonga Tangosalon
DESCRIPTION:
URL:https://tango-in-leipzig.de/event/freitags-milonga-tangosalon-8/
LOCATION:Tangosalon Leipzig\, Holbeinstr. 29\, Leipzig\, 04229\, Germany
CATEGORIES:milonga
END:VEVENT
BEGIN:VEVENT
DTSTART;TZID=Europe/Berlin:20260605T210000
DTEND;TZID=Europe/Berlin:20260606T020000
DTSTAMP:20260422T193022
CREATED:20260417T092439Z
LAST-MODIFIED:20260417T092439Z
UID:4183-1780693200-1780711200@tango-in-leipzig.de
SUMMARY:Live-Milonga / Pista Doble — Haus der Sinne
DESCRIPTION:Freitags-Live-Milonga / Pista Doble im Haus der Sinne\, Prenzlauer Berg.
URL:https://tango-in-leipzig.de/event/live-milonga-pista-doble-haus-der-sinne-8/
LOCATION:Haus der Sinne\, Ystader Str. 10\, Berlin\, 10437\, Germany
CATEGORIES:milonga
END:VEVENT
BEGIN:VEVENT
DTSTART;TZID=Europe/Berlin:20260605T210000
DTEND;TZID=Europe/Berlin:20260606T030000
DTSTAMP:20260422T193022
CREATED:20260417T092439Z
LAST-MODIFIED:20260417T092439Z
UID:4180-1780693200-1780714800@tango-in-leipzig.de
SUMMARY:Die Freitagsmilonga — Nou Tango
DESCRIPTION:Freitags-Milonga im Nou Tango\, Mitte.
URL:https://tango-in-leipzig.de/event/die-freitagsmilonga-nou-tango-8/
LOCATION:Nou Tango\, Chausseestr. 102\, Berlin\, 10115\, Germany
CATEGORIES:milonga
END:VEVENT
BEGIN:VEVENT
DTSTART;TZID=Europe/Berlin:20260606T120000
DTEND;TZID=Europe/Berlin:20260606T150000
DTSTAMP:20260422T193022
CREATED:20260408T153430Z
LAST-MODIFIED:20260408T153430Z
UID:3273-1780747200-1780758000@tango-in-leipzig.de
SUMMARY:Einsteiger-Workshop Tango Salon
DESCRIPTION:3-stuendiger Workshop fuer absolute Anfaenger. Bei Einstieg in Level 1 innerhalb 2 Wochen: 10er-Karte nur 125 EUR.
URL:https://tango-in-leipzig.de/event/einsteiger-workshop-tango-salon-2/
LOCATION:Tangosalon Leipzig\, Holbeinstr. 29\, Leipzig\, 04229\, Germany
CATEGORIES:Schnupperkurs
END:VEVENT
END:VCALENDAR