BEGIN:VCALENDAR
VERSION:2.0
PRODID:-//Tango in Leipzig - ECPv6.15.20//NONSGML v1.0//EN
CALSCALE:GREGORIAN
METHOD:PUBLISH
X-WR-CALNAME:Tango in Leipzig
X-ORIGINAL-URL:https://tango-in-leipzig.de
X-WR-CALDESC:Veranstaltungen für Tango in Leipzig
REFRESH-INTERVAL;VALUE=DURATION:PT1H
X-Robots-Tag:noindex
X-PUBLISHED-TTL:PT1H
BEGIN:VTIMEZONE
TZID:Europe/Berlin
BEGIN:DAYLIGHT
TZOFFSETFROM:+0100
TZOFFSETTO:+0200
TZNAME:CEST
DTSTART:20250330T010000
END:DAYLIGHT
BEGIN:STANDARD
TZOFFSETFROM:+0200
TZOFFSETTO:+0100
TZNAME:CET
DTSTART:20251026T010000
END:STANDARD
BEGIN:DAYLIGHT
TZOFFSETFROM:+0100
TZOFFSETTO:+0200
TZNAME:CEST
DTSTART:20260329T010000
END:DAYLIGHT
BEGIN:STANDARD
TZOFFSETFROM:+0200
TZOFFSETTO:+0100
TZNAME:CET
DTSTART:20261025T010000
END:STANDARD
BEGIN:DAYLIGHT
TZOFFSETFROM:+0100
TZOFFSETTO:+0200
TZNAME:CEST
DTSTART:20270328T010000
END:DAYLIGHT
BEGIN:STANDARD
TZOFFSETFROM:+0200
TZOFFSETTO:+0100
TZNAME:CET
DTSTART:20271031T010000
END:STANDARD
END:VTIMEZONE
BEGIN:VEVENT
DTSTART;TZID=Europe/Berlin:20260514T190000
DTEND;TZID=Europe/Berlin:20260514T200000
DTSTAMP:20260421T084503
CREATED:20260408T153424Z
LAST-MODIFIED:20260408T153424Z
UID:3097-1778785200-1778788800@tango-in-leipzig.de
SUMMARY:Donnerstagskurs Typisch Tango
DESCRIPTION:
URL:https://tango-in-leipzig.de/event/donnerstagskurs-typisch-tango-6/
LOCATION:Yogastudio Ekatra\, Seengässlein 3\, Erfurt\, 99084\, Germany
CATEGORIES:Kurs
END:VEVENT
BEGIN:VEVENT
DTSTART;TZID=Europe/Berlin:20260514T190000
DTEND;TZID=Europe/Berlin:20260514T200000
DTSTAMP:20260421T084503
CREATED:20260408T153424Z
LAST-MODIFIED:20260408T153424Z
UID:3099-1778785200-1778788800@tango-in-leipzig.de
SUMMARY:Tango-Kurs-Stunde Naumburg
DESCRIPTION:Lehrer: Hermhild & Jochen Hilgenberg.
URL:https://tango-in-leipzig.de/event/tango-kurs-stunde-naumburg-6/
LOCATION:JZ OTTO Naumburg\, Poststr. 31\, Naumburg\, 06618\, Germany
CATEGORIES:Kurs
END:VEVENT
BEGIN:VEVENT
DTSTART;TZID=Europe/Berlin:20260514T190000
DTEND;TZID=Europe/Berlin:20260514T210000
DTSTAMP:20260421T084503
CREATED:20260408T153424Z
LAST-MODIFIED:20260408T153424Z
UID:3090-1778785200-1778792400@tango-in-leipzig.de
SUMMARY:Angeleiteter Übungsabend Studio 24
DESCRIPTION:
URL:https://tango-in-leipzig.de/event/angeleiteter-uebungsabend-studio-24-6/
LOCATION:Studio 24 Dresden\, Grossenhainer Str. 29\, Dresden\, 01097\, Germany
CATEGORIES:practica
END:VEVENT
BEGIN:VEVENT
DTSTART;TZID=Europe/Berlin:20260514T193000
DTEND;TZID=Europe/Berlin:20260514T204500
DTSTAMP:20260421T084503
CREATED:20260408T153424Z
LAST-MODIFIED:20260408T153424Z
UID:3093-1778787000-1778791500@tango-in-leipzig.de
SUMMARY:Level 2 Aufbau – Tangosalon
DESCRIPTION:
URL:https://tango-in-leipzig.de/event/level-2-aufbau-tangosalon-6/
LOCATION:Tangosalon Leipzig\, Holbeinstr. 29\, Leipzig\, 04229\, Germany
CATEGORIES:Kurs
END:VEVENT
BEGIN:VEVENT
DTSTART;TZID=Europe/Berlin:20260514T193000
DTEND;TZID=Europe/Berlin:20260514T210000
DTSTAMP:20260421T084503
CREATED:20260408T153424Z
LAST-MODIFIED:20260408T153424Z
UID:3098-1778787000-1778792400@tango-in-leipzig.de
SUMMARY:Offener Tango-Kurs el Tango puro
DESCRIPTION:Lehrer: Marie & Norman.
URL:https://tango-in-leipzig.de/event/offener-tango-kurs-el-tango-puro-6/
LOCATION:el Tango puro Magdeburg\, Lüneburger Str. 26\, Magdeburg\, 39106\, Germany
CATEGORIES:Kurs
END:VEVENT
BEGIN:VEVENT
DTSTART;TZID=Europe/Berlin:20260514T193000
DTEND;TZID=Europe/Berlin:20260514T210000
DTSTAMP:20260421T084503
CREATED:20260408T153424Z
LAST-MODIFIED:20260408T153424Z
UID:3089-1778787000-1778792400@tango-in-leipzig.de
SUMMARY:Tango Praktika Weimar
DESCRIPTION:
URL:https://tango-in-leipzig.de/event/tango-praktika-weimar-6/
LOCATION:mon ami Weimar\, Goetheplatz 11\, Weimar\, 99423\, Germany
CATEGORIES:practica
END:VEVENT
BEGIN:VEVENT
DTSTART;TZID=Europe/Berlin:20260514T193000
DTEND;TZID=Europe/Berlin:20260514T221500
DTSTAMP:20260421T084503
CREATED:20260417T092432Z
LAST-MODIFIED:20260417T092432Z
UID:4008-1778787000-1778796900@tango-in-leipzig.de
SUMMARY:Praktika — Nou Tango
DESCRIPTION:Donnerstags-Praktika (nur Paare). Mitte.
URL:https://tango-in-leipzig.de/event/praktika-nou-tango-5/
LOCATION:Nou Tango\, Chausseestr. 102\, Berlin\, 10115\, Germany
CATEGORIES:practica
END:VEVENT
BEGIN:VEVENT
DTSTART;TZID=Europe/Berlin:20260514T193000
DTEND;TZID=Europe/Berlin:20260514T230000
DTSTAMP:20260421T084503
CREATED:20260417T092432Z
LAST-MODIFIED:20260417T092432Z
UID:4006-1778787000-1778799600@tango-in-leipzig.de
SUMMARY:Neolonga — Basecamp
DESCRIPTION:Donnerstags-Neolonga in Wilmersdorf.
URL:https://tango-in-leipzig.de/event/neolonga-basecamp-5/
LOCATION:Basecamp\, Düsseldorfer Str. 32\, Berlin\, 10707\, Germany
CATEGORIES:milonga
END:VEVENT
BEGIN:VEVENT
DTSTART;TZID=Europe/Berlin:20260514T200000
DTEND;TZID=Europe/Berlin:20260514T211500
DTSTAMP:20260421T084503
CREATED:20260408T153424Z
LAST-MODIFIED:20260408T153424Z
UID:3095-1778788800-1778793300@tango-in-leipzig.de
SUMMARY:Mittelstufe/Fortgeschrittene – Sarah Mirren
DESCRIPTION:
URL:https://tango-in-leipzig.de/event/mittelstufe-fortgeschrittene-sarah-mirren-6/
LOCATION:Sarah Mirren Tango\, Am Kanal 30\, Leipzig\, 04179\, Germany
CATEGORIES:Kurs
END:VEVENT
BEGIN:VEVENT
DTSTART;TZID=Europe/Berlin:20260514T200000
DTEND;TZID=Europe/Berlin:20260514T211500
DTSTAMP:20260421T084503
CREATED:20260416T110551Z
LAST-MODIFIED:20260416T110551Z
UID:3642-1778788800-1778793300@tango-in-leipzig.de
SUMMARY:Tango Level 3
DESCRIPTION:Wöchentlicher Kurs für Fortgeschrittene. Lehrer: Juliane & Franz (Vertretung für Almut & Stefan). Anmeldung über Eversports.
URL:https://tango-in-leipzig.de/event/tango-level-3-5/
LOCATION:Tanzschule Tango Mio Halle\, Geiststraße 22\, Halle\, 06108\, Germany
CATEGORIES:Kurs
END:VEVENT
BEGIN:VEVENT
DTSTART;TZID=Europe/Berlin:20260514T200000
DTEND;TZID=Europe/Berlin:20260514T213000
DTSTAMP:20260421T084503
CREATED:20260408T153424Z
LAST-MODIFIED:20260408T153424Z
UID:3096-1778788800-1778794200@tango-in-leipzig.de
SUMMARY:Anfänger-Mittelstufe Do – Esquina
DESCRIPTION:
URL:https://tango-in-leipzig.de/event/anfaenger-mittelstufe-do-esquina-6/
LOCATION:Esquina del Tango Erfurt\, Schlösserstr. 5\, Erfurt\, 99084\, Germany
CATEGORIES:Kurs
END:VEVENT
BEGIN:VEVENT
DTSTART;TZID=Europe/Berlin:20260514T200000
DTEND;TZID=Europe/Berlin:20260514T213000
DTSTAMP:20260421T084503
CREATED:20260408T153424Z
LAST-MODIFIED:20260408T153424Z
UID:3091-1778788800-1778794200@tango-in-leipzig.de
SUMMARY:Tanzen-und-Üben Naumburg
DESCRIPTION:
URL:https://tango-in-leipzig.de/event/tanzen-und-ueben-naumburg-6/
LOCATION:JZ OTTO Naumburg\, Poststr. 31\, Naumburg\, 06618\, Germany
CATEGORIES:practica
END:VEVENT
BEGIN:VEVENT
DTSTART;TZID=Europe/Berlin:20260514T201500
DTEND;TZID=Europe/Berlin:20260514T230000
DTSTAMP:20260421T084503
CREATED:20260408T153424Z
LAST-MODIFIED:20260408T153424Z
UID:3088-1778789700-1778799600@tango-in-leipzig.de
SUMMARY:Übungsabend Typisch Tango
DESCRIPTION:
URL:https://tango-in-leipzig.de/event/uebungsabend-typisch-tango-6/
LOCATION:Yogastudio Ekatra\, Seengässlein 3\, Erfurt\, 99084\, Germany
CATEGORIES:practica
END:VEVENT
BEGIN:VEVENT
DTSTART;TZID=Europe/Berlin:20260514T201500
DTEND;TZID=Europe/Berlin:20260514T230000
DTSTAMP:20260421T084503
CREATED:20260417T092433Z
LAST-MODIFIED:20260417T092433Z
UID:4009-1778789700-1778799600@tango-in-leipzig.de
SUMMARY:Übungsabend — Estación del Tango Erfurt
DESCRIPTION:Donnerstags-Übungsabend.
URL:https://tango-in-leipzig.de/event/uebungsabend-estacion-del-tango-erfurt-5/
LOCATION:Estación del Tango\, Schmidtstedter Str. 34\, Erfurt\, 99084\, Germany
CATEGORIES:practica
END:VEVENT
BEGIN:VEVENT
DTSTART;TZID=Europe/Berlin:20260514T210000
DTEND;TZID=Europe/Berlin:20260514T233000
DTSTAMP:20260421T084503
CREATED:20260417T092433Z
LAST-MODIFIED:20260417T092433Z
UID:4013-1778792400-1778801400@tango-in-leipzig.de
SUMMARY:Sarahs Milonga
DESCRIPTION:Donnerstags-Milonga bei Sarah Mirren. Juli: Sommerpause.
URL:https://tango-in-leipzig.de/event/sarahs-milonga-9/
LOCATION:Sarah Mirren Tango\, Am Kanal 30\, Leipzig\, 04179\, Germany
CATEGORIES:milonga
END:VEVENT
BEGIN:VEVENT
DTSTART;TZID=Europe/Berlin:20260514T210500
DTEND;TZID=Europe/Berlin:20260514T224500
DTSTAMP:20260421T084503
CREATED:20260417T092433Z
LAST-MODIFIED:20260417T092433Z
UID:4014-1778792700-1778798700@tango-in-leipzig.de
SUMMARY:Get the Step Practica — Mala Junta
DESCRIPTION:Donnerstags-Practica in Schöneberg.
URL:https://tango-in-leipzig.de/event/get-the-step-practica-mala-junta-5/
LOCATION:Mala Junta\, Kolonnenstr. 29\, Berlin\, 10829\, Germany
CATEGORIES:practica
END:VEVENT
BEGIN:VEVENT
DTSTART;TZID=Europe/Berlin:20260514T211500
DTEND;TZID=Europe/Berlin:20260514T231500
DTSTAMP:20260421T084503
CREATED:20260417T092433Z
LAST-MODIFIED:20260417T092433Z
UID:4015-1778793300-1778800500@tango-in-leipzig.de
SUMMARY:Praktika — Alte Bahnhofshalle Friedenau
DESCRIPTION:Donnerstags-Praktika in Friedenau/Steglitz.
URL:https://tango-in-leipzig.de/event/praktika-alte-bahnhofshalle-friedenau-5/
LOCATION:Alte Bahnhofshalle Friedenau\, Bahnhofstr. 4D\, Berlin\, 12159\, Germany
CATEGORIES:practica
END:VEVENT
BEGIN:VEVENT
DTSTART;TZID=Europe/Berlin:20260515T193000
DTEND;TZID=Europe/Berlin:20260515T220000
DTSTAMP:20260421T084503
CREATED:20260408T153424Z
LAST-MODIFIED:20260408T153424Z
UID:3101-1778873400-1778882400@tango-in-leipzig.de
SUMMARY:Resonance Tango Festival – Konzert
DESCRIPTION:Amarcord & Per Arne Glorvigen.
URL:https://tango-in-leipzig.de/event/resonance-tango-festival-konzert/
LOCATION:Schlosskirche Chemnitz\, Chemnitz\, 09112\, Germany
CATEGORIES:Festival
END:VEVENT
BEGIN:VEVENT
DTSTART;TZID=Europe/Berlin:20260515T200000
DTEND;TZID=Europe/Berlin:20260515T210000
DTSTAMP:20260421T084503
CREATED:20260408T153424Z
LAST-MODIFIED:20260408T153424Z
UID:3104-1778875200-1778878800@tango-in-leipzig.de
SUMMARY:Freitags-Practica (angeleitet)
DESCRIPTION:
URL:https://tango-in-leipzig.de/event/freitags-practica-angeleitet-6/
LOCATION:Tangosalon Leipzig\, Holbeinstr. 29\, Leipzig\, 04229\, Germany
CATEGORIES:practica
END:VEVENT
BEGIN:VEVENT
DTSTART;TZID=Europe/Berlin:20260515T200000
DTEND;TZID=Europe/Berlin:20260515T210000
DTSTAMP:20260421T084503
CREATED:20260408T153424Z
LAST-MODIFIED:20260408T153424Z
UID:3105-1778875200-1778878800@tango-in-leipzig.de
SUMMARY:Offener Tangokurs Studio 24
DESCRIPTION:Vor der Freitags-Milonga.
URL:https://tango-in-leipzig.de/event/offener-tangokurs-studio-24-6/
LOCATION:Studio 24 Dresden\, Grossenhainer Str. 29\, Dresden\, 01097\, Germany
CATEGORIES:Kurs
END:VEVENT
BEGIN:VEVENT
DTSTART;TZID=Europe/Berlin:20260515T203000
DTEND;TZID=Europe/Berlin:20260515T233000
DTSTAMP:20260421T084503
CREATED:20260417T092433Z
LAST-MODIFIED:20260417T092433Z
UID:4018-1778877000-1778887800@tango-in-leipzig.de
SUMMARY:Milonga — TangoMio Halle
DESCRIPTION:Milonga bei TangoMio. Jeden 2. Freitag.
URL:https://tango-in-leipzig.de/event/milonga-tangomio-halle-3/
LOCATION:TangoMio Halle\, Geiststr. 22 (3. OG)\, Halle\, 06108\, Germany
CATEGORIES:milonga
END:VEVENT
BEGIN:VEVENT
DTSTART;TZID=Europe/Berlin:20260515T210000
DTEND;TZID=Europe/Berlin:20260516T000000
DTSTAMP:20260421T084503
CREATED:20260408T153424Z
LAST-MODIFIED:20260408T153424Z
UID:3103-1778878800-1778889600@tango-in-leipzig.de
SUMMARY:Freitags-Milonga Studio 24
DESCRIPTION:Offener Kurs ab 20:00 (10 EUR inkl. Tanzabend).
URL:https://tango-in-leipzig.de/event/freitags-milonga-studio-24-6/
LOCATION:Studio 24 Dresden\, Grossenhainer Str. 29\, Dresden\, 01097\, Germany
CATEGORIES:milonga
END:VEVENT
BEGIN:VEVENT
DTSTART;TZID=Europe/Berlin:20260515T210000
DTEND;TZID=Europe/Berlin:20260516T010000
DTSTAMP:20260421T084503
CREATED:20260408T153424Z
LAST-MODIFIED:20260408T153424Z
UID:3102-1778878800-1778893200@tango-in-leipzig.de
SUMMARY:Freitags-Milonga Tangosalon
DESCRIPTION:
URL:https://tango-in-leipzig.de/event/freitags-milonga-tangosalon-5/
LOCATION:Tangosalon Leipzig\, Holbeinstr. 29\, Leipzig\, 04229\, Germany
CATEGORIES:milonga
END:VEVENT
BEGIN:VEVENT
DTSTART;TZID=Europe/Berlin:20260515T210000
DTEND;TZID=Europe/Berlin:20260516T020000
DTSTAMP:20260421T084503
CREATED:20260417T092433Z
LAST-MODIFIED:20260417T092433Z
UID:4022-1778878800-1778896800@tango-in-leipzig.de
SUMMARY:Live-Milonga / Pista Doble — Haus der Sinne
DESCRIPTION:Freitags-Live-Milonga / Pista Doble im Haus der Sinne\, Prenzlauer Berg.
URL:https://tango-in-leipzig.de/event/live-milonga-pista-doble-haus-der-sinne-5/
LOCATION:Haus der Sinne\, Ystader Str. 10\, Berlin\, 10437\, Germany
CATEGORIES:milonga
END:VEVENT
BEGIN:VEVENT
DTSTART;TZID=Europe/Berlin:20260515T210000
DTEND;TZID=Europe/Berlin:20260516T030000
DTSTAMP:20260421T084503
CREATED:20260417T092433Z
LAST-MODIFIED:20260417T092433Z
UID:4019-1778878800-1778900400@tango-in-leipzig.de
SUMMARY:Die Freitagsmilonga — Nou Tango
DESCRIPTION:Freitags-Milonga im Nou Tango\, Mitte.
URL:https://tango-in-leipzig.de/event/die-freitagsmilonga-nou-tango-5/
LOCATION:Nou Tango\, Chausseestr. 102\, Berlin\, 10115\, Germany
CATEGORIES:milonga
END:VEVENT
BEGIN:VEVENT
DTSTART;TZID=Europe/Berlin:20260516T150000
DTEND;TZID=Europe/Berlin:20260516T190000
DTSTAMP:20260421T084503
CREATED:20260417T092433Z
LAST-MODIFIED:20260417T092433Z
UID:4023-1778943600-1778958000@tango-in-leipzig.de
SUMMARY:Tango Café — Maxixe
DESCRIPTION:Samstag-Nachmittags-Milonga in Kreuzberg.
URL:https://tango-in-leipzig.de/event/tango-cafe-maxixe-5/
LOCATION:Maxixe\, Fidicinstr. 3\, Berlin\, 10965\, Germany
CATEGORIES:milonga
END:VEVENT
BEGIN:VEVENT
DTSTART;TZID=Europe/Berlin:20260516T153000
DTEND;TZID=Europe/Berlin:20260516T163000
DTSTAMP:20260421T084503
CREATED:20260408T153425Z
LAST-MODIFIED:20260408T153425Z
UID:3111-1778945400-1778949000@tango-in-leipzig.de
SUMMARY:Tango Club Näder
DESCRIPTION:
URL:https://tango-in-leipzig.de/event/tango-club-naeder-6/
LOCATION:Tanzschule Näder Jena\, Engelplatz 8\, Jena\, 07743\, Germany
CATEGORIES:Kurs
END:VEVENT
BEGIN:VEVENT
DTSTART;TZID=Europe/Berlin:20260516T160000
DTEND;TZID=Europe/Berlin:20260516T200000
DTSTAMP:20260421T084503
CREATED:20260417T092433Z
LAST-MODIFIED:20260417T092433Z
UID:4024-1778947200-1778961600@tango-in-leipzig.de
SUMMARY:Tango Café La Bruja / El Gato — weRK36
DESCRIPTION:Samstag-Nachmittags-Milonga in Schöneberg.
URL:https://tango-in-leipzig.de/event/tango-cafe-la-bruja-el-gato-werk36-5/
LOCATION:weRK36\, Ella-Barowsky-Str. 70\, Berlin\, 10829\, Germany
CATEGORIES:milonga
END:VEVENT
BEGIN:VEVENT
DTSTART;TZID=Europe/Berlin:20260516T170000
DTEND;TZID=Europe/Berlin:20260516T220000
DTSTAMP:20260421T084503
CREATED:20260417T092433Z
LAST-MODIFIED:20260417T092433Z
UID:4025-1778950800-1778968800@tango-in-leipzig.de
SUMMARY:Milonga La Remise
DESCRIPTION:Samstags-Milonga in Moabit auf Spendenbasis.
URL:https://tango-in-leipzig.de/event/milonga-la-remise-5/
LOCATION:La Remise\, Bremer Str. 68\, Berlin\, 10551\, Germany
CATEGORIES:milonga
END:VEVENT
BEGIN:VEVENT
DTSTART;TZID=Europe/Berlin:20260516T173000
DTEND;TZID=Europe/Berlin:20260516T190000
DTSTAMP:20260421T084503
CREATED:20260408T153424Z
LAST-MODIFIED:20260408T153424Z
UID:3110-1778952600-1778958000@tango-in-leipzig.de
SUMMARY:Tango-Schnupperstunde KVHS Apolda
DESCRIPTION:
URL:https://tango-in-leipzig.de/event/tango-schnupperstunde-kvhs-apolda/
LOCATION:KVHS Apolda\, Bernhardstr. 16\, Apolda\, 99510\, Germany
CATEGORIES:Schnupperkurs
END:VEVENT
END:VCALENDAR