BEGIN:VCALENDAR
VERSION:2.0
PRODID:-//Tango in Leipzig - ECPv6.15.20//NONSGML v1.0//EN
CALSCALE:GREGORIAN
METHOD:PUBLISH
X-ORIGINAL-URL:https://tango-in-leipzig.de
X-WR-CALDESC:Veranstaltungen für Tango in Leipzig
REFRESH-INTERVAL;VALUE=DURATION:PT1H
X-Robots-Tag:noindex
X-PUBLISHED-TTL:PT1H
BEGIN:VTIMEZONE
TZID:Europe/Berlin
BEGIN:DAYLIGHT
TZOFFSETFROM:+0100
TZOFFSETTO:+0200
TZNAME:CEST
DTSTART:20250330T010000
END:DAYLIGHT
BEGIN:STANDARD
TZOFFSETFROM:+0200
TZOFFSETTO:+0100
TZNAME:CET
DTSTART:20251026T010000
END:STANDARD
BEGIN:DAYLIGHT
TZOFFSETFROM:+0100
TZOFFSETTO:+0200
TZNAME:CEST
DTSTART:20260329T010000
END:DAYLIGHT
BEGIN:STANDARD
TZOFFSETFROM:+0200
TZOFFSETTO:+0100
TZNAME:CET
DTSTART:20261025T010000
END:STANDARD
BEGIN:DAYLIGHT
TZOFFSETFROM:+0100
TZOFFSETTO:+0200
TZNAME:CEST
DTSTART:20270328T010000
END:DAYLIGHT
BEGIN:STANDARD
TZOFFSETFROM:+0200
TZOFFSETTO:+0100
TZNAME:CET
DTSTART:20271031T010000
END:STANDARD
END:VTIMEZONE
BEGIN:VEVENT
DTSTART;TZID=Europe/Berlin:20260511T190000
DTEND;TZID=Europe/Berlin:20260511T203000
DTSTAMP:20260421T023751
CREATED:20260408T153423Z
LAST-MODIFIED:20260408T153423Z
UID:3061-1778526000-1778531400@tango-in-leipzig.de
SUMMARY:Anfängerkurs Weimar
DESCRIPTION:Lehrer: Brigitte Backhaus & Carlos Tapia.
URL:https://tango-in-leipzig.de/event/anfaengerkurs-weimar-5/
LOCATION:mon ami Weimar\, Goetheplatz 11\, Weimar\, 99423\, Germany
CATEGORIES:Kurs
END:VEVENT
BEGIN:VEVENT
DTSTART;TZID=Europe/Berlin:20260511T191500
DTEND;TZID=Europe/Berlin:20260511T201500
DTSTAMP:20260421T023751
CREATED:20260408T153423Z
LAST-MODIFIED:20260408T153423Z
UID:3063-1778526900-1778530500@tango-in-leipzig.de
SUMMARY:Anfängerkurs Studio 24
DESCRIPTION:
URL:https://tango-in-leipzig.de/event/anfaengerkurs-studio-24-5/
LOCATION:Studio 24 Dresden\, Grossenhainer Str. 29\, Dresden\, 01097\, Germany
CATEGORIES:Kurs
END:VEVENT
BEGIN:VEVENT
DTSTART;TZID=Europe/Berlin:20260511T193000
DTEND;TZID=Europe/Berlin:20260512T000000
DTSTAMP:20260421T023751
CREATED:20260417T092432Z
LAST-MODIFIED:20260417T092432Z
UID:3983-1778527800-1778544000@tango-in-leipzig.de
SUMMARY:Sentidos — Haus der Sinne
DESCRIPTION:Montagsmilonga im Haus der Sinne\, Prenzlauer Berg.
URL:https://tango-in-leipzig.de/event/sentidos-haus-der-sinne-4/
LOCATION:Haus der Sinne\, Ystader Str. 10\, Berlin\, 10437\, Germany
CATEGORIES:milonga
END:VEVENT
BEGIN:VEVENT
DTSTART;TZID=Europe/Berlin:20260511T200000
DTEND;TZID=Europe/Berlin:20260511T230000
DTSTAMP:20260421T023751
CREATED:20260408T192156Z
LAST-MODIFIED:20260408T192156Z
UID:3517-1778529600-1778540400@tango-in-leipzig.de
SUMMARY:Tango Club – Tango Studio Leipzig
DESCRIPTION:
URL:https://tango-in-leipzig.de/event/tango-club-tango-studio-leipzig-5/
LOCATION:Tango Studio Leipzig\, Brandvorwerkstraße 52-54\, Leipzig\, 04275\, Germany
CATEGORIES:milonga
ORGANIZER;CN="Tango Studio Leipzig":MAILTO:thoma@tangostudioleipzig.de
END:VEVENT
BEGIN:VEVENT
DTSTART;TZID=Europe/Berlin:20260511T201500
DTEND;TZID=Europe/Berlin:20260511T211500
DTSTAMP:20260421T023751
CREATED:20260408T153423Z
LAST-MODIFIED:20260408T153423Z
UID:3064-1778530500-1778534100@tango-in-leipzig.de
SUMMARY:Mittelstufe/Fortgeschrittene Studio 24
DESCRIPTION:
URL:https://tango-in-leipzig.de/event/mittelstufe-fortgeschrittene-studio-24-5/
LOCATION:Studio 24 Dresden\, Grossenhainer Str. 29\, Dresden\, 01097\, Germany
CATEGORIES:Kurs
END:VEVENT
BEGIN:VEVENT
DTSTART;TZID=Europe/Berlin:20260511T203000
DTEND;TZID=Europe/Berlin:20260511T223000
DTSTAMP:20260421T023751
CREATED:20260408T153423Z
LAST-MODIFIED:20260408T153423Z
UID:3059-1778531400-1778538600@tango-in-leipzig.de
SUMMARY:Practilonga Esquina
DESCRIPTION:
URL:https://tango-in-leipzig.de/event/practilonga-esquina-5/
LOCATION:Esquina del Tango Erfurt\, Schlösserstr. 5\, Erfurt\, 99084\, Germany
CATEGORIES:practica
END:VEVENT
BEGIN:VEVENT
DTSTART;TZID=Europe/Berlin:20260511T210000
DTEND;TZID=Europe/Berlin:20260512T010000
DTSTAMP:20260421T023751
CREATED:20260417T092432Z
LAST-MODIFIED:20260417T092432Z
UID:3985-1778533200-1778547600@tango-in-leipzig.de
SUMMARY:Milonga Popular — Tangoloft
DESCRIPTION:Montagsmilonga im Tangoloft\, Kreuzberg.
URL:https://tango-in-leipzig.de/event/milonga-popular-tangoloft-4/
LOCATION:Tangoloft\, Pfuelstr. 5\, Berlin\, 10997\, Germany
CATEGORIES:milonga
END:VEVENT
BEGIN:VEVENT
DTSTART;TZID=Europe/Berlin:20260512T181500
DTEND;TZID=Europe/Berlin:20260512T194500
DTSTAMP:20260421T023751
CREATED:20260408T153423Z
LAST-MODIFIED:20260408T153423Z
UID:3067-1778609700-1778615100@tango-in-leipzig.de
SUMMARY:Mittelstufe II – Esquina
DESCRIPTION:
URL:https://tango-in-leipzig.de/event/mittelstufe-ii-esquina-5/
LOCATION:Esquina del Tango Erfurt\, Schlösserstr. 5\, Erfurt\, 99084\, Germany
CATEGORIES:Kurs
END:VEVENT
BEGIN:VEVENT
DTSTART;TZID=Europe/Berlin:20260512T190000
DTEND;TZID=Europe/Berlin:20260512T220000
DTSTAMP:20260421T023751
CREATED:20260417T092432Z
LAST-MODIFIED:20260417T092432Z
UID:3986-1778612400-1778623200@tango-in-leipzig.de
SUMMARY:After-Work-Milonga — Balance-Zentrum Magdeburg
DESCRIPTION:Wöchentliche After-Work-Milonga. Bei warmem Wetter auf dem Glasbalkon an der Elbe.
URL:https://tango-in-leipzig.de/event/after-work-milonga-balance-zentrum-magdeburg-4/
LOCATION:Balance-Zentrum\, Nicolaistr. 5\, Magdeburg\, 39104\, Germany
CATEGORIES:milonga
END:VEVENT
BEGIN:VEVENT
DTSTART;TZID=Europe/Berlin:20260512T190000
DTEND;TZID=Europe/Berlin:20260512T230000
DTSTAMP:20260421T023751
CREATED:20260417T092432Z
LAST-MODIFIED:20260417T092432Z
UID:3987-1778612400-1778626800@tango-in-leipzig.de
SUMMARY:La Noche del Tango — Café Mosaik Magdeburg
DESCRIPTION:Offener Kurs mit Olenka & Patrick ab 19:00\, dann Milonga Tradicional 20:00–23:00 mit DJ Patrick.
URL:https://tango-in-leipzig.de/event/la-noche-del-tango-cafe-mosaik-magdeburg-4/
LOCATION:Café Mosaik\, Sternstr. 33\, Magdeburg\, 39104\, Germany
CATEGORIES:milonga
END:VEVENT
BEGIN:VEVENT
DTSTART;TZID=Europe/Berlin:20260512T190000
DTEND;TZID=Europe/Berlin:20260512T230000
DTSTAMP:20260421T023751
CREATED:20260417T092432Z
LAST-MODIFIED:20260417T092432Z
UID:3988-1778612400-1778626800@tango-in-leipzig.de
SUMMARY:TorEins Neolonga
DESCRIPTION:Dienstags-Neolonga in Kreuzberg. Eintritt frei.
URL:https://tango-in-leipzig.de/event/toreins-neolonga-4/
LOCATION:TorEins\, Möckernstr. 26\, Berlin\, 10963\, Germany
CATEGORIES:milonga
END:VEVENT
BEGIN:VEVENT
DTSTART;TZID=Europe/Berlin:20260512T200000
DTEND;TZID=Europe/Berlin:20260512T213000
DTSTAMP:20260421T023751
CREATED:20260408T153423Z
LAST-MODIFIED:20260408T153423Z
UID:3068-1778616000-1778621400@tango-in-leipzig.de
SUMMARY:Fortgeschrittene – Esquina
DESCRIPTION:
URL:https://tango-in-leipzig.de/event/fortgeschrittene-esquina-5/
LOCATION:Esquina del Tango Erfurt\, Schlösserstr. 5\, Erfurt\, 99084\, Germany
CATEGORIES:Kurs
END:VEVENT
BEGIN:VEVENT
DTSTART;TZID=Europe/Berlin:20260512T200000
DTEND;TZID=Europe/Berlin:20260513T010000
DTSTAMP:20260421T023751
CREATED:20260417T092432Z
LAST-MODIFIED:20260417T092432Z
UID:3990-1778616000-1778634000@tango-in-leipzig.de
SUMMARY:Tangonacht — Roter Salon / Volksbühne
DESCRIPTION:Dienstags-Tangonacht im Roten Salon an der Volksbühne\, Mitte.
URL:https://tango-in-leipzig.de/event/tangonacht-roter-salon-volksbuehne-4/
LOCATION:Roter Salon / Volksbühne\, Rosa-Luxemburg-Platz\, Berlin\, 10178\, Germany
CATEGORIES:milonga
END:VEVENT
BEGIN:VEVENT
DTSTART;TZID=Europe/Berlin:20260512T210000
DTEND;TZID=Europe/Berlin:20260512T233000
DTSTAMP:20260421T023751
CREATED:20260408T153423Z
LAST-MODIFIED:20260408T153423Z
UID:3066-1778619600-1778628600@tango-in-leipzig.de
SUMMARY:Practica Wasserhäuschen
DESCRIPTION:Dienstags-Practica von L-Tango e.V.
URL:https://tango-in-leipzig.de/event/practica-wasserhaeuschen-5/
LOCATION:Wasserhäuschen\, Industriestr. 72\, Leipzig\, 04229\, Germany
CATEGORIES:practica
END:VEVENT
BEGIN:VEVENT
DTSTART;TZID=Europe/Berlin:20260513T173000
DTEND;TZID=Europe/Berlin:20260513T183000
DTSTAMP:20260421T023751
CREATED:20260408T153423Z
LAST-MODIFIED:20260408T153423Z
UID:3074-1778693400-1778697000@tango-in-leipzig.de
SUMMARY:Anfängerkurs HTWK
DESCRIPTION:Lehrer: Nicole Terentjewa & Thomas Grau.
URL:https://tango-in-leipzig.de/event/anfaengerkurs-htwk-6/
LOCATION:HTWK Leipzig\, Gustav-Freytag-Str. 43-45\, Leipzig\, 04277\, Germany
CATEGORIES:Kurs
END:VEVENT
BEGIN:VEVENT
DTSTART;TZID=Europe/Berlin:20260513T174500
DTEND;TZID=Europe/Berlin:20260513T184500
DTSTAMP:20260421T023751
CREATED:20260408T153424Z
LAST-MODIFIED:20260408T153424Z
UID:3084-1778694300-1778697900@tango-in-leipzig.de
SUMMARY:Tango Grundstufe Gera
DESCRIPTION:Lehrer: Marion & Detlef. Kostenlose Probestunde.
URL:https://tango-in-leipzig.de/event/tango-grundstufe-gera-6/
LOCATION:Tanzschule Schulze Gera\, Friedrich-Naumann-Platz 3\, Gera\, 07545\, Germany
CATEGORIES:Kurs
END:VEVENT
BEGIN:VEVENT
DTSTART;TZID=Europe/Berlin:20260513T180000
DTEND;TZID=Europe/Berlin:20260513T191500
DTSTAMP:20260421T023751
CREATED:20260408T153424Z
LAST-MODIFIED:20260408T153424Z
UID:3080-1778695200-1778699700@tango-in-leipzig.de
SUMMARY:Anfänger II C-Tango
DESCRIPTION:
URL:https://tango-in-leipzig.de/event/anfaenger-ii-c-tango-2/
LOCATION:Kraftwerk e.V. Chemnitz\, Kassbergstr. 36\, Chemnitz\, 09112\, Germany
CATEGORIES:Kurs
END:VEVENT
BEGIN:VEVENT
DTSTART;TZID=Europe/Berlin:20260513T181500
DTEND;TZID=Europe/Berlin:20260513T193000
DTSTAMP:20260421T023751
CREATED:20260408T153423Z
LAST-MODIFIED:20260408T153423Z
UID:3072-1778696100-1778700600@tango-in-leipzig.de
SUMMARY:Mittelstufe – Sarah Mirren
DESCRIPTION:
URL:https://tango-in-leipzig.de/event/mittelstufe-sarah-mirren-6/
LOCATION:Sarah Mirren Tango\, Am Kanal 30\, Leipzig\, 04179\, Germany
CATEGORIES:Kurs
END:VEVENT
BEGIN:VEVENT
DTSTART;TZID=Europe/Berlin:20260513T183000
DTEND;TZID=Europe/Berlin:20260513T193000
DTSTAMP:20260421T023751
CREATED:20260408T153423Z
LAST-MODIFIED:20260408T153423Z
UID:3075-1778697000-1778700600@tango-in-leipzig.de
SUMMARY:Aufbaukurs HTWK
DESCRIPTION:Lehrer: Nicole Terentjewa & Thomas Grau.
URL:https://tango-in-leipzig.de/event/aufbaukurs-htwk-6/
LOCATION:HTWK Leipzig\, Gustav-Freytag-Str. 43-45\, Leipzig\, 04277\, Germany
CATEGORIES:Kurs
END:VEVENT
BEGIN:VEVENT
DTSTART;TZID=Europe/Berlin:20260513T183000
DTEND;TZID=Europe/Berlin:20260513T200000
DTSTAMP:20260421T023751
CREATED:20260408T153423Z
LAST-MODIFIED:20260408T153423Z
UID:3076-1778697000-1778702400@tango-in-leipzig.de
SUMMARY:Anfänger-Mittelstufe – Esquina
DESCRIPTION:
URL:https://tango-in-leipzig.de/event/anfaenger-mittelstufe-esquina-6/
LOCATION:Esquina del Tango Erfurt\, Schlösserstr. 5\, Erfurt\, 99084\, Germany
CATEGORIES:Kurs
END:VEVENT
BEGIN:VEVENT
DTSTART;TZID=Europe/Berlin:20260513T184500
DTEND;TZID=Europe/Berlin:20260513T201500
DTSTAMP:20260421T023751
CREATED:20260408T153424Z
LAST-MODIFIED:20260408T153424Z
UID:3085-1778697900-1778703300@tango-in-leipzig.de
SUMMARY:Tango Club (Fortgeschrittene) Gera
DESCRIPTION:
URL:https://tango-in-leipzig.de/event/tango-club-fortgeschrittene-gera-6/
LOCATION:Tanzschule Schulze Gera\, Friedrich-Naumann-Platz 3\, Gera\, 07545\, Germany
CATEGORIES:Kurs
END:VEVENT
BEGIN:VEVENT
DTSTART;TZID=Europe/Berlin:20260513T190000
DTEND;TZID=Europe/Berlin:20260513T201500
DTSTAMP:20260421T023751
CREATED:20260408T153423Z
LAST-MODIFIED:20260408T153423Z
UID:3070-1778698800-1778703300@tango-in-leipzig.de
SUMMARY:Level 3 Mittelstufe – Tangosalon
DESCRIPTION:
URL:https://tango-in-leipzig.de/event/level-3-mittelstufe-tangosalon-6/
LOCATION:Tangosalon Leipzig\, Holbeinstr. 29\, Leipzig\, 04229\, Germany
CATEGORIES:Kurs
END:VEVENT
BEGIN:VEVENT
DTSTART;TZID=Europe/Berlin:20260513T190000
DTEND;TZID=Europe/Berlin:20260513T203000
DTSTAMP:20260421T023751
CREATED:20260408T153424Z
LAST-MODIFIED:20260408T153424Z
UID:3083-1778698800-1778704200@tango-in-leipzig.de
SUMMARY:Basics – Seele des Tangos (La academia)
DESCRIPTION:Lehrerin: Carsta Mock.
URL:https://tango-in-leipzig.de/event/basics-seele-des-tangos-la-academia-6/
LOCATION:La academia\, Altleubnitz 11\, Dresden\, 01219\, Germany
CATEGORIES:Kurs
END:VEVENT
BEGIN:VEVENT
DTSTART;TZID=Europe/Berlin:20260513T191500
DTEND;TZID=Europe/Berlin:20260513T201500
DTSTAMP:20260421T023751
CREATED:20260408T153423Z
LAST-MODIFIED:20260408T153423Z
UID:3078-1778699700-1778703300@tango-in-leipzig.de
SUMMARY:Tango Grund-/Aufbaukurs Jena
DESCRIPTION:Lehrer: Rena & Olaf.
URL:https://tango-in-leipzig.de/event/tango-grund-aufbaukurs-jena-6/
LOCATION:Tanzhaus Jena\, Camsdorfer Ufer 17\, Jena\, 07749\, Germany
CATEGORIES:Kurs
END:VEVENT
BEGIN:VEVENT
DTSTART;TZID=Europe/Berlin:20260513T191500
DTEND;TZID=Europe/Berlin:20260513T203000
DTSTAMP:20260421T023751
CREATED:20260408T153424Z
LAST-MODIFIED:20260408T153424Z
UID:3081-1778699700-1778704200@tango-in-leipzig.de
SUMMARY:Mittelstufe II C-Tango
DESCRIPTION:
URL:https://tango-in-leipzig.de/event/mittelstufe-ii-c-tango-2/
LOCATION:Kraftwerk e.V. Chemnitz\, Kassbergstr. 36\, Chemnitz\, 09112\, Germany
CATEGORIES:Kurs
END:VEVENT
BEGIN:VEVENT
DTSTART;TZID=Europe/Berlin:20260513T193000
DTEND;TZID=Europe/Berlin:20260513T203000
DTSTAMP:20260421T023751
CREATED:20260408T153424Z
LAST-MODIFIED:20260408T153424Z
UID:3082-1778700600-1778704200@tango-in-leipzig.de
SUMMARY:TanzFabrik Mittelstufe
DESCRIPTION:
URL:https://tango-in-leipzig.de/event/tanzfabrik-mittelstufe-6/
LOCATION:TanzFabrik Chemnitz\, Neefestr. 58\, Chemnitz\, 09119\, Germany
CATEGORIES:Kurs
END:VEVENT
BEGIN:VEVENT
DTSTART;TZID=Europe/Berlin:20260513T193000
DTEND;TZID=Europe/Berlin:20260513T204500
DTSTAMP:20260421T023751
CREATED:20260408T153423Z
LAST-MODIFIED:20260408T153423Z
UID:3073-1778700600-1778705100@tango-in-leipzig.de
SUMMARY:Fortgeschrittene – Sarah Mirren
DESCRIPTION:
URL:https://tango-in-leipzig.de/event/fortgeschrittene-sarah-mirren-6/
LOCATION:Sarah Mirren Tango\, Am Kanal 30\, Leipzig\, 04179\, Germany
CATEGORIES:Kurs
END:VEVENT
BEGIN:VEVENT
DTSTART;TZID=Europe/Berlin:20260513T200000
DTEND;TZID=Europe/Berlin:20260513T213000
DTSTAMP:20260421T023751
CREATED:20260408T153423Z
LAST-MODIFIED:20260408T153423Z
UID:3077-1778702400-1778707800@tango-in-leipzig.de
SUMMARY:Mittelstufe-Fortgeschrittene – Esquina
DESCRIPTION:
URL:https://tango-in-leipzig.de/event/mittelstufe-fortgeschrittene-esquina-6/
LOCATION:Esquina del Tango Erfurt\, Schlösserstr. 5\, Erfurt\, 99084\, Germany
CATEGORIES:Kurs
END:VEVENT
BEGIN:VEVENT
DTSTART;TZID=Europe/Berlin:20260513T200000
DTEND;TZID=Europe/Berlin:20260514T010000
DTSTAMP:20260421T023751
CREATED:20260417T092432Z
LAST-MODIFIED:20260417T092432Z
UID:3994-1778702400-1778720400@tango-in-leipzig.de
SUMMARY:Ballhaus Milonga — Wedding
DESCRIPTION:Mittwochs-Milonga im Ballhaus Wedding.
URL:https://tango-in-leipzig.de/event/ballhaus-milonga-wedding-4/
LOCATION:Ballhaus Wedding\, Wriezener Str. 6\, Berlin\, 13359\, Germany
CATEGORIES:milonga
END:VEVENT
BEGIN:VEVENT
DTSTART;TZID=Europe/Berlin:20260513T202000
DTEND;TZID=Europe/Berlin:20260513T213000
DTSTAMP:20260421T023751
CREATED:20260408T153423Z
LAST-MODIFIED:20260408T153423Z
UID:3079-1778703600-1778707800@tango-in-leipzig.de
SUMMARY:Tango Mittelstufe Jena
DESCRIPTION:
URL:https://tango-in-leipzig.de/event/tango-mittelstufe-jena-6/
LOCATION:Tanzhaus Jena\, Camsdorfer Ufer 17\, Jena\, 07749\, Germany
CATEGORIES:Kurs
END:VEVENT
END:VCALENDAR