BEGIN:VCALENDAR
VERSION:2.0
PRODID:-//Tango in Leipzig - ECPv6.15.20//NONSGML v1.0//EN
CALSCALE:GREGORIAN
METHOD:PUBLISH
X-WR-CALNAME:Tango in Leipzig
X-ORIGINAL-URL:https://tango-in-leipzig.de
X-WR-CALDESC:Veranstaltungen für Tango in Leipzig
REFRESH-INTERVAL;VALUE=DURATION:PT1H
X-Robots-Tag:noindex
X-PUBLISHED-TTL:PT1H
BEGIN:VTIMEZONE
TZID:Europe/Berlin
BEGIN:DAYLIGHT
TZOFFSETFROM:+0100
TZOFFSETTO:+0200
TZNAME:CEST
DTSTART:20250330T010000
END:DAYLIGHT
BEGIN:STANDARD
TZOFFSETFROM:+0200
TZOFFSETTO:+0100
TZNAME:CET
DTSTART:20251026T010000
END:STANDARD
BEGIN:DAYLIGHT
TZOFFSETFROM:+0100
TZOFFSETTO:+0200
TZNAME:CEST
DTSTART:20260329T010000
END:DAYLIGHT
BEGIN:STANDARD
TZOFFSETFROM:+0200
TZOFFSETTO:+0100
TZNAME:CET
DTSTART:20261025T010000
END:STANDARD
BEGIN:DAYLIGHT
TZOFFSETFROM:+0100
TZOFFSETTO:+0200
TZNAME:CEST
DTSTART:20270328T010000
END:DAYLIGHT
BEGIN:STANDARD
TZOFFSETFROM:+0200
TZOFFSETTO:+0100
TZNAME:CET
DTSTART:20271031T010000
END:STANDARD
END:VTIMEZONE
BEGIN:VEVENT
DTSTART;TZID=Europe/Berlin:20260504T200000
DTEND;TZID=Europe/Berlin:20260504T230000
DTSTAMP:20260420T145519
CREATED:20260408T192149Z
LAST-MODIFIED:20260408T192149Z
UID:3516-1777924800-1777935600@tango-in-leipzig.de
SUMMARY:Tango Club – Tango Studio Leipzig
DESCRIPTION:
URL:https://tango-in-leipzig.de/event/tango-club-tango-studio-leipzig-4/
LOCATION:Tango Studio Leipzig\, Brandvorwerkstraße 52-54\, Leipzig\, 04275\, Germany
CATEGORIES:milonga
ORGANIZER;CN="Tango Studio Leipzig":MAILTO:thoma@tangostudioleipzig.de
END:VEVENT
BEGIN:VEVENT
DTSTART;TZID=Europe/Berlin:20260504T201500
DTEND;TZID=Europe/Berlin:20260504T211500
DTSTAMP:20260420T145519
CREATED:20260408T153421Z
LAST-MODIFIED:20260408T153421Z
UID:3004-1777925700-1777929300@tango-in-leipzig.de
SUMMARY:Mittelstufe/Fortgeschrittene Studio 24
DESCRIPTION:
URL:https://tango-in-leipzig.de/event/mittelstufe-fortgeschrittene-studio-24-4/
LOCATION:Studio 24 Dresden\, Grossenhainer Str. 29\, Dresden\, 01097\, Germany
CATEGORIES:Kurs
END:VEVENT
BEGIN:VEVENT
DTSTART;TZID=Europe/Berlin:20260504T203000
DTEND;TZID=Europe/Berlin:20260504T223000
DTSTAMP:20260420T145519
CREATED:20260408T153421Z
LAST-MODIFIED:20260408T153421Z
UID:2999-1777926600-1777933800@tango-in-leipzig.de
SUMMARY:Practilonga Esquina
DESCRIPTION:
URL:https://tango-in-leipzig.de/event/practilonga-esquina-4/
LOCATION:Esquina del Tango Erfurt\, Schlösserstr. 5\, Erfurt\, 99084\, Germany
CATEGORIES:practica
END:VEVENT
BEGIN:VEVENT
DTSTART;TZID=Europe/Berlin:20260504T210000
DTEND;TZID=Europe/Berlin:20260505T010000
DTSTAMP:20260420T145519
CREATED:20260417T092430Z
LAST-MODIFIED:20260417T092430Z
UID:3926-1777928400-1777942800@tango-in-leipzig.de
SUMMARY:Milonga Popular — Tangoloft
DESCRIPTION:Montagsmilonga im Tangoloft\, Kreuzberg.
URL:https://tango-in-leipzig.de/event/milonga-popular-tangoloft-3/
LOCATION:Tangoloft\, Pfuelstr. 5\, Berlin\, 10997\, Germany
CATEGORIES:milonga
END:VEVENT
BEGIN:VEVENT
DTSTART;TZID=Europe/Berlin:20260505T181500
DTEND;TZID=Europe/Berlin:20260505T194500
DTSTAMP:20260420T145519
CREATED:20260408T153421Z
LAST-MODIFIED:20260408T153421Z
UID:3008-1778004900-1778010300@tango-in-leipzig.de
SUMMARY:Mittelstufe II – Esquina
DESCRIPTION:
URL:https://tango-in-leipzig.de/event/mittelstufe-ii-esquina-4/
LOCATION:Esquina del Tango Erfurt\, Schlösserstr. 5\, Erfurt\, 99084\, Germany
CATEGORIES:Kurs
END:VEVENT
BEGIN:VEVENT
DTSTART;TZID=Europe/Berlin:20260505T183000
DTEND;TZID=Europe/Berlin:20260707T200000
DTSTAMP:20260420T145519
CREATED:20260417T092430Z
LAST-MODIFIED:20260417T092430Z
UID:3927-1778005800-1783454400@tango-in-leipzig.de
SUMMARY:Tango Level 2 — FU Berlin (s756-12)
DESCRIPTION:Di 18:30–20:00\, 05.05.–07.07.2026. Lehrerin: Rosa Angela Aimone Secat.
URL:https://tango-in-leipzig.de/event/tango-level-2-fu-berlin-s756-12/
LOCATION:FU Berlin Hochschulsport\, Arndt-Gymnasium Dahlem\, Königin-Luise-Str. 80–84\, Berlin\, 14195\, Germany
CATEGORIES:Kurs
END:VEVENT
BEGIN:VEVENT
DTSTART;TZID=Europe/Berlin:20260505T190000
DTEND;TZID=Europe/Berlin:20260505T220000
DTSTAMP:20260420T145519
CREATED:20260417T092430Z
LAST-MODIFIED:20260417T092430Z
UID:3928-1778007600-1778018400@tango-in-leipzig.de
SUMMARY:After-Work-Milonga — Balance-Zentrum Magdeburg
DESCRIPTION:Wöchentliche After-Work-Milonga. Bei warmem Wetter auf dem Glasbalkon an der Elbe.
URL:https://tango-in-leipzig.de/event/after-work-milonga-balance-zentrum-magdeburg-3/
LOCATION:Balance-Zentrum\, Nicolaistr. 5\, Magdeburg\, 39104\, Germany
CATEGORIES:milonga
END:VEVENT
BEGIN:VEVENT
DTSTART;TZID=Europe/Berlin:20260505T190000
DTEND;TZID=Europe/Berlin:20260505T230000
DTSTAMP:20260420T145519
CREATED:20260417T092430Z
LAST-MODIFIED:20260417T092430Z
UID:3929-1778007600-1778022000@tango-in-leipzig.de
SUMMARY:La Noche del Tango — Café Mosaik Magdeburg
DESCRIPTION:Offener Kurs mit Olenka & Patrick ab 19:00\, dann Milonga Tradicional 20:00–23:00 mit DJ Patrick.
URL:https://tango-in-leipzig.de/event/la-noche-del-tango-cafe-mosaik-magdeburg-3/
LOCATION:Café Mosaik\, Sternstr. 33\, Magdeburg\, 39104\, Germany
CATEGORIES:milonga
END:VEVENT
BEGIN:VEVENT
DTSTART;TZID=Europe/Berlin:20260505T190000
DTEND;TZID=Europe/Berlin:20260505T230000
DTSTAMP:20260420T145519
CREATED:20260417T092430Z
LAST-MODIFIED:20260417T092430Z
UID:3930-1778007600-1778022000@tango-in-leipzig.de
SUMMARY:TorEins Neolonga
DESCRIPTION:Dienstags-Neolonga in Kreuzberg. Eintritt frei.
URL:https://tango-in-leipzig.de/event/toreins-neolonga-3/
LOCATION:TorEins\, Möckernstr. 26\, Berlin\, 10963\, Germany
CATEGORIES:milonga
END:VEVENT
BEGIN:VEVENT
DTSTART;TZID=Europe/Berlin:20260505T200000
DTEND;TZID=Europe/Berlin:20260505T213000
DTSTAMP:20260420T145519
CREATED:20260408T153421Z
LAST-MODIFIED:20260408T153421Z
UID:3009-1778011200-1778016600@tango-in-leipzig.de
SUMMARY:Fortgeschrittene – Esquina
DESCRIPTION:
URL:https://tango-in-leipzig.de/event/fortgeschrittene-esquina-4/
LOCATION:Esquina del Tango Erfurt\, Schlösserstr. 5\, Erfurt\, 99084\, Germany
CATEGORIES:Kurs
END:VEVENT
BEGIN:VEVENT
DTSTART;TZID=Europe/Berlin:20260505T200000
DTEND;TZID=Europe/Berlin:20260506T010000
DTSTAMP:20260420T145519
CREATED:20260417T092430Z
LAST-MODIFIED:20260417T092430Z
UID:3932-1778011200-1778029200@tango-in-leipzig.de
SUMMARY:Tangonacht — Roter Salon / Volksbühne
DESCRIPTION:Dienstags-Tangonacht im Roten Salon an der Volksbühne\, Mitte.
URL:https://tango-in-leipzig.de/event/tangonacht-roter-salon-volksbuehne-3/
LOCATION:Roter Salon / Volksbühne\, Rosa-Luxemburg-Platz\, Berlin\, 10178\, Germany
CATEGORIES:milonga
END:VEVENT
BEGIN:VEVENT
DTSTART;TZID=Europe/Berlin:20260505T203000
DTEND;TZID=Europe/Berlin:20260505T230000
DTSTAMP:20260420T145519
CREATED:20260408T153421Z
LAST-MODIFIED:20260408T153421Z
UID:3006-1778013000-1778022000@tango-in-leipzig.de
SUMMARY:Milonga im Krötenhof
DESCRIPTION:
URL:https://tango-in-leipzig.de/event/milonga-im-kroetenhof-2/
LOCATION:Villa Krötenhof\, Wasserstadt 50\, Dessau-Rosslau\, 06846\, Germany
CATEGORIES:milonga
END:VEVENT
BEGIN:VEVENT
DTSTART;TZID=Europe/Berlin:20260505T210000
DTEND;TZID=Europe/Berlin:20260505T233000
DTSTAMP:20260420T145519
CREATED:20260408T153421Z
LAST-MODIFIED:20260408T153421Z
UID:3007-1778014800-1778023800@tango-in-leipzig.de
SUMMARY:Practica Wasserhäuschen
DESCRIPTION:Dienstags-Practica von L-Tango e.V.
URL:https://tango-in-leipzig.de/event/practica-wasserhaeuschen-4/
LOCATION:Wasserhäuschen\, Industriestr. 72\, Leipzig\, 04229\, Germany
CATEGORIES:practica
END:VEVENT
BEGIN:VEVENT
DTSTART;TZID=Europe/Berlin:20260506T173000
DTEND;TZID=Europe/Berlin:20260506T183000
DTSTAMP:20260420T145519
CREATED:20260408T153421Z
LAST-MODIFIED:20260408T153421Z
UID:3016-1778088600-1778092200@tango-in-leipzig.de
SUMMARY:Anfängerkurs HTWK
DESCRIPTION:Lehrer: Nicole Terentjewa & Thomas Grau.
URL:https://tango-in-leipzig.de/event/anfaengerkurs-htwk-5/
LOCATION:HTWK Leipzig\, Gustav-Freytag-Str. 43-45\, Leipzig\, 04277\, Germany
CATEGORIES:Kurs
END:VEVENT
BEGIN:VEVENT
DTSTART;TZID=Europe/Berlin:20260506T174500
DTEND;TZID=Europe/Berlin:20260506T184500
DTSTAMP:20260420T145519
CREATED:20260408T153422Z
LAST-MODIFIED:20260408T153422Z
UID:3026-1778089500-1778093100@tango-in-leipzig.de
SUMMARY:Tango Grundstufe Gera
DESCRIPTION:Lehrer: Marion & Detlef. Kostenlose Probestunde.
URL:https://tango-in-leipzig.de/event/tango-grundstufe-gera-5/
LOCATION:Tanzschule Schulze Gera\, Friedrich-Naumann-Platz 3\, Gera\, 07545\, Germany
CATEGORIES:Kurs
END:VEVENT
BEGIN:VEVENT
DTSTART;TZID=Europe/Berlin:20260506T180000
DTEND;TZID=Europe/Berlin:20260506T191500
DTSTAMP:20260420T145519
CREATED:20260408T153422Z
LAST-MODIFIED:20260408T153422Z
UID:3022-1778090400-1778094900@tango-in-leipzig.de
SUMMARY:Anfänger II C-Tango
DESCRIPTION:
URL:https://tango-in-leipzig.de/event/anfaenger-ii-c-tango/
LOCATION:Kraftwerk e.V. Chemnitz\, Kassbergstr. 36\, Chemnitz\, 09112\, Germany
CATEGORIES:Kurs
END:VEVENT
BEGIN:VEVENT
DTSTART;TZID=Europe/Berlin:20260506T181500
DTEND;TZID=Europe/Berlin:20260506T193000
DTSTAMP:20260420T145519
CREATED:20260408T153421Z
LAST-MODIFIED:20260408T153421Z
UID:3014-1778091300-1778095800@tango-in-leipzig.de
SUMMARY:Mittelstufe – Sarah Mirren
DESCRIPTION:
URL:https://tango-in-leipzig.de/event/mittelstufe-sarah-mirren-5/
LOCATION:Sarah Mirren Tango\, Am Kanal 30\, Leipzig\, 04179\, Germany
CATEGORIES:Kurs
END:VEVENT
BEGIN:VEVENT
DTSTART;TZID=Europe/Berlin:20260506T183000
DTEND;TZID=Europe/Berlin:20260506T193000
DTSTAMP:20260420T145519
CREATED:20260408T153421Z
LAST-MODIFIED:20260408T153421Z
UID:3017-1778092200-1778095800@tango-in-leipzig.de
SUMMARY:Aufbaukurs HTWK
DESCRIPTION:Lehrer: Nicole Terentjewa & Thomas Grau.
URL:https://tango-in-leipzig.de/event/aufbaukurs-htwk-5/
LOCATION:HTWK Leipzig\, Gustav-Freytag-Str. 43-45\, Leipzig\, 04277\, Germany
CATEGORIES:Kurs
END:VEVENT
BEGIN:VEVENT
DTSTART;TZID=Europe/Berlin:20260506T183000
DTEND;TZID=Europe/Berlin:20260506T200000
DTSTAMP:20260420T145519
CREATED:20260408T153421Z
LAST-MODIFIED:20260408T153421Z
UID:3018-1778092200-1778097600@tango-in-leipzig.de
SUMMARY:Anfänger-Mittelstufe – Esquina
DESCRIPTION:
URL:https://tango-in-leipzig.de/event/anfaenger-mittelstufe-esquina-5/
LOCATION:Esquina del Tango Erfurt\, Schlösserstr. 5\, Erfurt\, 99084\, Germany
CATEGORIES:Kurs
END:VEVENT
BEGIN:VEVENT
DTSTART;TZID=Europe/Berlin:20260506T184500
DTEND;TZID=Europe/Berlin:20260506T201500
DTSTAMP:20260420T145519
CREATED:20260408T153422Z
LAST-MODIFIED:20260408T153422Z
UID:3027-1778093100-1778098500@tango-in-leipzig.de
SUMMARY:Tango Club (Fortgeschrittene) Gera
DESCRIPTION:
URL:https://tango-in-leipzig.de/event/tango-club-fortgeschrittene-gera-5/
LOCATION:Tanzschule Schulze Gera\, Friedrich-Naumann-Platz 3\, Gera\, 07545\, Germany
CATEGORIES:Kurs
END:VEVENT
BEGIN:VEVENT
DTSTART;TZID=Europe/Berlin:20260506T190000
DTEND;TZID=Europe/Berlin:20260506T201500
DTSTAMP:20260420T145519
CREATED:20260408T153421Z
LAST-MODIFIED:20260408T153421Z
UID:3012-1778094000-1778098500@tango-in-leipzig.de
SUMMARY:Level 3 Mittelstufe – Tangosalon
DESCRIPTION:
URL:https://tango-in-leipzig.de/event/level-3-mittelstufe-tangosalon-5/
LOCATION:Tangosalon Leipzig\, Holbeinstr. 29\, Leipzig\, 04229\, Germany
CATEGORIES:Kurs
END:VEVENT
BEGIN:VEVENT
DTSTART;TZID=Europe/Berlin:20260506T190000
DTEND;TZID=Europe/Berlin:20260506T203000
DTSTAMP:20260420T145519
CREATED:20260408T153422Z
LAST-MODIFIED:20260408T153422Z
UID:3025-1778094000-1778099400@tango-in-leipzig.de
SUMMARY:Basics – Seele des Tangos (La academia)
DESCRIPTION:Lehrerin: Carsta Mock.
URL:https://tango-in-leipzig.de/event/basics-seele-des-tangos-la-academia-5/
LOCATION:La academia\, Altleubnitz 11\, Dresden\, 01219\, Germany
CATEGORIES:Kurs
END:VEVENT
BEGIN:VEVENT
DTSTART;TZID=Europe/Berlin:20260506T191500
DTEND;TZID=Europe/Berlin:20260506T201500
DTSTAMP:20260420T145519
CREATED:20260408T153421Z
LAST-MODIFIED:20260408T153421Z
UID:3020-1778094900-1778098500@tango-in-leipzig.de
SUMMARY:Tango Grund-/Aufbaukurs Jena
DESCRIPTION:Lehrer: Rena & Olaf.
URL:https://tango-in-leipzig.de/event/tango-grund-aufbaukurs-jena-5/
LOCATION:Tanzhaus Jena\, Camsdorfer Ufer 17\, Jena\, 07749\, Germany
CATEGORIES:Kurs
END:VEVENT
BEGIN:VEVENT
DTSTART;TZID=Europe/Berlin:20260506T191500
DTEND;TZID=Europe/Berlin:20260506T203000
DTSTAMP:20260420T145519
CREATED:20260408T153422Z
LAST-MODIFIED:20260408T153422Z
UID:3023-1778094900-1778099400@tango-in-leipzig.de
SUMMARY:Mittelstufe II C-Tango
DESCRIPTION:
URL:https://tango-in-leipzig.de/event/mittelstufe-ii-c-tango/
LOCATION:Kraftwerk e.V. Chemnitz\, Kassbergstr. 36\, Chemnitz\, 09112\, Germany
CATEGORIES:Kurs
END:VEVENT
BEGIN:VEVENT
DTSTART;TZID=Europe/Berlin:20260506T193000
DTEND;TZID=Europe/Berlin:20260506T203000
DTSTAMP:20260420T145519
CREATED:20260408T153422Z
LAST-MODIFIED:20260408T153422Z
UID:3024-1778095800-1778099400@tango-in-leipzig.de
SUMMARY:TanzFabrik Mittelstufe
DESCRIPTION:
URL:https://tango-in-leipzig.de/event/tanzfabrik-mittelstufe-5/
LOCATION:TanzFabrik Chemnitz\, Neefestr. 58\, Chemnitz\, 09119\, Germany
CATEGORIES:Kurs
END:VEVENT
BEGIN:VEVENT
DTSTART;TZID=Europe/Berlin:20260506T193000
DTEND;TZID=Europe/Berlin:20260506T204500
DTSTAMP:20260420T145519
CREATED:20260408T153421Z
LAST-MODIFIED:20260408T153421Z
UID:3015-1778095800-1778100300@tango-in-leipzig.de
SUMMARY:Fortgeschrittene – Sarah Mirren
DESCRIPTION:
URL:https://tango-in-leipzig.de/event/fortgeschrittene-sarah-mirren-5/
LOCATION:Sarah Mirren Tango\, Am Kanal 30\, Leipzig\, 04179\, Germany
CATEGORIES:Kurs
END:VEVENT
BEGIN:VEVENT
DTSTART;TZID=Europe/Berlin:20260506T200000
DTEND;TZID=Europe/Berlin:20260506T213000
DTSTAMP:20260420T145519
CREATED:20260408T153421Z
LAST-MODIFIED:20260408T153421Z
UID:3019-1778097600-1778103000@tango-in-leipzig.de
SUMMARY:Mittelstufe-Fortgeschrittene – Esquina
DESCRIPTION:
URL:https://tango-in-leipzig.de/event/mittelstufe-fortgeschrittene-esquina-5/
LOCATION:Esquina del Tango Erfurt\, Schlösserstr. 5\, Erfurt\, 99084\, Germany
CATEGORIES:Kurs
END:VEVENT
BEGIN:VEVENT
DTSTART;TZID=Europe/Berlin:20260506T200000
DTEND;TZID=Europe/Berlin:20260506T233000
DTSTAMP:20260420T145519
CREATED:20260408T153421Z
LAST-MODIFIED:20260408T153421Z
UID:3010-1778097600-1778110200@tango-in-leipzig.de
SUMMARY:DJ-Milonga Weltecho
DESCRIPTION:
URL:https://tango-in-leipzig.de/event/dj-milonga-weltecho/
LOCATION:Weltecho Chemnitz\, Annaberger Str. 24\, Chemnitz\, 09111\, Germany
CATEGORIES:milonga
END:VEVENT
BEGIN:VEVENT
DTSTART;TZID=Europe/Berlin:20260506T200000
DTEND;TZID=Europe/Berlin:20260507T010000
DTSTAMP:20260420T145519
CREATED:20260417T092430Z
LAST-MODIFIED:20260417T092430Z
UID:3936-1778097600-1778115600@tango-in-leipzig.de
SUMMARY:Ballhaus Milonga — Wedding
DESCRIPTION:Mittwochs-Milonga im Ballhaus Wedding.
URL:https://tango-in-leipzig.de/event/ballhaus-milonga-wedding-3/
LOCATION:Ballhaus Wedding\, Wriezener Str. 6\, Berlin\, 13359\, Germany
CATEGORIES:milonga
END:VEVENT
BEGIN:VEVENT
DTSTART;TZID=Europe/Berlin:20260506T202000
DTEND;TZID=Europe/Berlin:20260506T213000
DTSTAMP:20260420T145519
CREATED:20260408T153421Z
LAST-MODIFIED:20260408T153421Z
UID:3021-1778098800-1778103000@tango-in-leipzig.de
SUMMARY:Tango Mittelstufe Jena
DESCRIPTION:
URL:https://tango-in-leipzig.de/event/tango-mittelstufe-jena-5/
LOCATION:Tanzhaus Jena\, Camsdorfer Ufer 17\, Jena\, 07749\, Germany
CATEGORIES:Kurs
END:VEVENT
END:VCALENDAR