BEGIN:VCALENDAR
VERSION:2.0
PRODID:-//Tango in Leipzig - ECPv6.15.20//NONSGML v1.0//EN
CALSCALE:GREGORIAN
METHOD:PUBLISH
X-WR-CALNAME:Tango in Leipzig
X-ORIGINAL-URL:https://tango-in-leipzig.de
X-WR-CALDESC:Veranstaltungen für Tango in Leipzig
REFRESH-INTERVAL;VALUE=DURATION:PT1H
X-Robots-Tag:noindex
X-PUBLISHED-TTL:PT1H
BEGIN:VTIMEZONE
TZID:Europe/Berlin
BEGIN:DAYLIGHT
TZOFFSETFROM:+0100
TZOFFSETTO:+0200
TZNAME:CEST
DTSTART:20250330T010000
END:DAYLIGHT
BEGIN:STANDARD
TZOFFSETFROM:+0200
TZOFFSETTO:+0100
TZNAME:CET
DTSTART:20251026T010000
END:STANDARD
BEGIN:DAYLIGHT
TZOFFSETFROM:+0100
TZOFFSETTO:+0200
TZNAME:CEST
DTSTART:20260329T010000
END:DAYLIGHT
BEGIN:STANDARD
TZOFFSETFROM:+0200
TZOFFSETTO:+0100
TZNAME:CET
DTSTART:20261025T010000
END:STANDARD
BEGIN:DAYLIGHT
TZOFFSETFROM:+0100
TZOFFSETTO:+0200
TZNAME:CEST
DTSTART:20270328T010000
END:DAYLIGHT
BEGIN:STANDARD
TZOFFSETFROM:+0200
TZOFFSETTO:+0100
TZNAME:CET
DTSTART:20271031T010000
END:STANDARD
END:VTIMEZONE
BEGIN:VEVENT
DTSTART;TZID=Europe/Berlin:20260501T210000
DTEND;TZID=Europe/Berlin:20260502T000000
DTSTAMP:20260420T112355
CREATED:20260408T153420Z
LAST-MODIFIED:20260408T153420Z
UID:2985-1777669200-1777680000@tango-in-leipzig.de
SUMMARY:Freitags-Milonga Studio 24
DESCRIPTION:Offener Kurs ab 20:00 (10 EUR inkl. Tanzabend).
URL:https://tango-in-leipzig.de/event/freitags-milonga-studio-24-4/
LOCATION:Studio 24 Dresden\, Grossenhainer Str. 29\, Dresden\, 01097\, Germany
CATEGORIES:milonga
END:VEVENT
BEGIN:VEVENT
DTSTART;TZID=Europe/Berlin:20260501T210000
DTEND;TZID=Europe/Berlin:20260502T010000
DTSTAMP:20260420T112355
CREATED:20260408T153420Z
LAST-MODIFIED:20260408T153420Z
UID:2984-1777669200-1777683600@tango-in-leipzig.de
SUMMARY:Freitags-Milonga Tangosalon
DESCRIPTION:
URL:https://tango-in-leipzig.de/event/freitags-milonga-tangosalon-4/
LOCATION:Tangosalon Leipzig\, Holbeinstr. 29\, Leipzig\, 04229\, Germany
CATEGORIES:milonga
END:VEVENT
BEGIN:VEVENT
DTSTART;TZID=Europe/Berlin:20260501T210000
DTEND;TZID=Europe/Berlin:20260502T020000
DTSTAMP:20260420T112355
CREATED:20260417T092429Z
LAST-MODIFIED:20260417T092429Z
UID:3909-1777669200-1777687200@tango-in-leipzig.de
SUMMARY:Live-Milonga / Pista Doble — Haus der Sinne
DESCRIPTION:Freitags-Live-Milonga / Pista Doble im Haus der Sinne\, Prenzlauer Berg.
URL:https://tango-in-leipzig.de/event/live-milonga-pista-doble-haus-der-sinne-3/
LOCATION:Haus der Sinne\, Ystader Str. 10\, Berlin\, 10437\, Germany
CATEGORIES:milonga
END:VEVENT
BEGIN:VEVENT
DTSTART;TZID=Europe/Berlin:20260501T210000
DTEND;TZID=Europe/Berlin:20260502T030000
DTSTAMP:20260420T112355
CREATED:20260417T092429Z
LAST-MODIFIED:20260417T092429Z
UID:3906-1777669200-1777690800@tango-in-leipzig.de
SUMMARY:Die Freitagsmilonga — Nou Tango
DESCRIPTION:Freitags-Milonga im Nou Tango\, Mitte.
URL:https://tango-in-leipzig.de/event/die-freitagsmilonga-nou-tango-3/
LOCATION:Nou Tango\, Chausseestr. 102\, Berlin\, 10115\, Germany
CATEGORIES:milonga
END:VEVENT
BEGIN:VEVENT
DTSTART;TZID=Europe/Berlin:20260502T120000
DTEND;TZID=Europe/Berlin:20260502T150000
DTSTAMP:20260420T112355
CREATED:20260408T153420Z
LAST-MODIFIED:20260408T153420Z
UID:2990-1777723200-1777734000@tango-in-leipzig.de
SUMMARY:Einsteiger-Workshop Tango Salon
DESCRIPTION:3-stuendiger Workshop fuer absolute Anfaenger. Bei Einstieg in Level 1 innerhalb 2 Wochen: 10er-Karte nur 125 EUR.
URL:https://tango-in-leipzig.de/event/einsteiger-workshop-tango-salon/
LOCATION:Tangosalon Leipzig\, Holbeinstr. 29\, Leipzig\, 04229\, Germany
CATEGORIES:Schnupperkurs
END:VEVENT
BEGIN:VEVENT
DTSTART;TZID=Europe/Berlin:20260502T150000
DTEND;TZID=Europe/Berlin:20260502T190000
DTSTAMP:20260420T112355
CREATED:20260417T092429Z
LAST-MODIFIED:20260417T092429Z
UID:3910-1777734000-1777748400@tango-in-leipzig.de
SUMMARY:Tango Café — Maxixe
DESCRIPTION:Samstag-Nachmittags-Milonga in Kreuzberg.
URL:https://tango-in-leipzig.de/event/tango-cafe-maxixe-3/
LOCATION:Maxixe\, Fidicinstr. 3\, Berlin\, 10965\, Germany
CATEGORIES:milonga
END:VEVENT
BEGIN:VEVENT
DTSTART;TZID=Europe/Berlin:20260502T153000
DTEND;TZID=Europe/Berlin:20260502T163000
DTSTAMP:20260420T112355
CREATED:20260408T153420Z
LAST-MODIFIED:20260408T153420Z
UID:2991-1777735800-1777739400@tango-in-leipzig.de
SUMMARY:Tango Club Näder
DESCRIPTION:
URL:https://tango-in-leipzig.de/event/tango-club-naeder-4/
LOCATION:Tanzschule Näder Jena\, Engelplatz 8\, Jena\, 07743\, Germany
CATEGORIES:Kurs
END:VEVENT
BEGIN:VEVENT
DTSTART;TZID=Europe/Berlin:20260502T160000
DTEND;TZID=Europe/Berlin:20260502T200000
DTSTAMP:20260420T112355
CREATED:20260417T092429Z
LAST-MODIFIED:20260417T092429Z
UID:3911-1777737600-1777752000@tango-in-leipzig.de
SUMMARY:Tango Café La Bruja / El Gato — weRK36
DESCRIPTION:Samstag-Nachmittags-Milonga in Schöneberg.
URL:https://tango-in-leipzig.de/event/tango-cafe-la-bruja-el-gato-werk36-3/
LOCATION:weRK36\, Ella-Barowsky-Str. 70\, Berlin\, 10829\, Germany
CATEGORIES:milonga
END:VEVENT
BEGIN:VEVENT
DTSTART;TZID=Europe/Berlin:20260502T170000
DTEND;TZID=Europe/Berlin:20260502T220000
DTSTAMP:20260420T112355
CREATED:20260417T092429Z
LAST-MODIFIED:20260417T092429Z
UID:3912-1777741200-1777759200@tango-in-leipzig.de
SUMMARY:Milonga La Remise
DESCRIPTION:Samstags-Milonga in Moabit auf Spendenbasis.
URL:https://tango-in-leipzig.de/event/milonga-la-remise-3/
LOCATION:La Remise\, Bremer Str. 68\, Berlin\, 10551\, Germany
CATEGORIES:milonga
END:VEVENT
BEGIN:VEVENT
DTSTART;TZID=Europe/Berlin:20260502T200000
DTEND;TZID=Europe/Berlin:20260503T010000
DTSTAMP:20260420T112355
CREATED:20260408T153420Z
LAST-MODIFIED:20260408T153420Z
UID:2988-1777752000-1777770000@tango-in-leipzig.de
SUMMARY:Milonga AZUL
DESCRIPTION:Monatliche Milonga der Esquina del Tango.
URL:https://tango-in-leipzig.de/event/milonga-azul/
LOCATION:Esquina del Tango Erfurt\, Schlösserstr. 5\, Erfurt\, 99084\, Germany
CATEGORIES:milonga
END:VEVENT
BEGIN:VEVENT
DTSTART;TZID=Europe/Berlin:20260502T203000
DTEND;TZID=Europe/Berlin:20260503T003000
DTSTAMP:20260420T112355
CREATED:20260408T153420Z
LAST-MODIFIED:20260408T153420Z
UID:2989-1777753800-1777768200@tango-in-leipzig.de
SUMMARY:Samstagsmilonga Tres Tangos
DESCRIPTION:Kostenlose Tangostunde 19:45-20:30 vor jeder Milonga.
URL:https://tango-in-leipzig.de/event/samstagsmilonga-tres-tangos-4/
LOCATION:Tres Tangos Dresden\, Dornblüthstr. 16\, Dresden\, 01277\, Germany
CATEGORIES:milonga
END:VEVENT
BEGIN:VEVENT
DTSTART;TZID=Europe/Berlin:20260502T210000
DTEND;TZID=Europe/Berlin:20260503T030000
DTSTAMP:20260420T112355
CREATED:20260417T092429Z
LAST-MODIFIED:20260417T092429Z
UID:3916-1777755600-1777777200@tango-in-leipzig.de
SUMMARY:Tango Rouge — KitKatClub
DESCRIPTION:Samstags-Milonga im KitKatClub Basement\, Mitte. Strikter Dresscode.
URL:https://tango-in-leipzig.de/event/tango-rouge-kitkatclub-3/
LOCATION:KitKatClub\, Brückenstr. 1\, Berlin\, 10179\, Germany
CATEGORIES:milonga
END:VEVENT
BEGIN:VEVENT
DTSTART;TZID=Europe/Berlin:20260503T110000
DTEND;TZID=Europe/Berlin:20260503T130000
DTSTAMP:20260420T112355
CREATED:20260417T092429Z
LAST-MODIFIED:20260417T092429Z
UID:3917-1777806000-1777813200@tango-in-leipzig.de
SUMMARY:Sonntags Tango Praktika — Mala Junta
DESCRIPTION:Sonntags-Practica in Schöneberg.
URL:https://tango-in-leipzig.de/event/sonntags-tango-praktika-mala-junta-3/
LOCATION:Mala Junta\, Kolonnenstr. 29\, Berlin\, 10829\, Germany
CATEGORIES:practica
END:VEVENT
BEGIN:VEVENT
DTSTART;TZID=Europe/Berlin:20260503T150000
DTEND;TZID=Europe/Berlin:20260503T170000
DTSTAMP:20260420T112355
CREATED:20260408T153420Z
LAST-MODIFIED:20260408T153420Z
UID:2992-1777820400-1777827600@tango-in-leipzig.de
SUMMARY:Einsteiger-Milonga
DESCRIPTION:DJ Andreas.
URL:https://tango-in-leipzig.de/event/einsteiger-milonga/
LOCATION:Tangosalon Leipzig\, Holbeinstr. 29\, Leipzig\, 04229\, Germany
CATEGORIES:milonga
END:VEVENT
BEGIN:VEVENT
DTSTART;TZID=Europe/Berlin:20260503T150000
DTEND;TZID=Europe/Berlin:20260503T210000
DTSTAMP:20260420T112355
CREATED:20260417T092429Z
LAST-MODIFIED:20260417T092429Z
UID:3918-1777820400-1777842000@tango-in-leipzig.de
SUMMARY:Café Domínguez — Nou Tango
DESCRIPTION:Sonntags-Milonga im Nou Tango\, Mitte.
URL:https://tango-in-leipzig.de/event/cafe-dominguez-nou-tango-3/
LOCATION:Nou Tango\, Chausseestr. 102\, Berlin\, 10115\, Germany
CATEGORIES:milonga
END:VEVENT
BEGIN:VEVENT
DTSTART;TZID=Europe/Berlin:20260503T160000
DTEND;TZID=Europe/Berlin:20260503T180000
DTSTAMP:20260420T112355
CREATED:20260408T153421Z
LAST-MODIFIED:20260408T153421Z
UID:2997-1777824000-1777831200@tango-in-leipzig.de
SUMMARY:Sonntagskurs Typisch Tango
DESCRIPTION:Offenes Level.
URL:https://tango-in-leipzig.de/event/sonntagskurs-typisch-tango-4/
LOCATION:Yogastudio Ekatra\, Seengässlein 3\, Erfurt\, 99084\, Germany
CATEGORIES:Kurs
END:VEVENT
BEGIN:VEVENT
DTSTART;TZID=Europe/Berlin:20260503T160000
DTEND;TZID=Europe/Berlin:20260503T190000
DTSTAMP:20260420T112355
CREATED:20260408T153420Z
LAST-MODIFIED:20260408T153420Z
UID:2993-1777824000-1777834800@tango-in-leipzig.de
SUMMARY:Tango-Café Erfurt
DESCRIPTION:
URL:https://tango-in-leipzig.de/event/tango-cafe-erfurt/
LOCATION:Esquina del Tango Erfurt\, Schlösserstr. 5\, Erfurt\, 99084\, Germany
CATEGORIES:milonga
END:VEVENT
BEGIN:VEVENT
DTSTART;TZID=Europe/Berlin:20260503T160000
DTEND;TZID=Europe/Berlin:20260503T200000
DTSTAMP:20260420T112355
CREATED:20260417T092429Z
LAST-MODIFIED:20260417T092429Z
UID:3919-1777824000-1777838400@tango-in-leipzig.de
SUMMARY:Sonntags-Milonga — Mala Junta
DESCRIPTION:Sonntags-Milonga (Atipica/Bien Pulenta/Mimosa rotierend) in Schöneberg.
URL:https://tango-in-leipzig.de/event/sonntags-milonga-mala-junta-3/
LOCATION:Mala Junta\, Kolonnenstr. 29\, Berlin\, 10829\, Germany
CATEGORIES:milonga
END:VEVENT
BEGIN:VEVENT
DTSTART;TZID=Europe/Berlin:20260503T160000
DTEND;TZID=Europe/Berlin:20260503T200000
DTSTAMP:20260420T112355
CREATED:20260417T092429Z
LAST-MODIFIED:20260417T092429Z
UID:3920-1777824000-1777838400@tango-in-leipzig.de
SUMMARY:Tango zum Glück (Queer/Open Role) — TTMS
DESCRIPTION:Queer/Open-Role-Milonga in Kreuzberg.
URL:https://tango-in-leipzig.de/event/tango-zum-glueck-queer-open-role-ttms-3/
LOCATION:Tangotanzen macht schön (TTMS)\, Oranienstr. 185\, Berlin\, 10999\, Germany
CATEGORIES:milonga
END:VEVENT
BEGIN:VEVENT
DTSTART;TZID=Europe/Berlin:20260503T180000
DTEND;TZID=Europe/Berlin:20260504T020000
DTSTAMP:20260420T112355
CREATED:20260417T092429Z
LAST-MODIFIED:20260417T092429Z
UID:3921-1777831200-1777860000@tango-in-leipzig.de
SUMMARY:Tangoloft Sunday Milonga
DESCRIPTION:Sonntags-Milonga im Tangoloft\, Kreuzberg.
URL:https://tango-in-leipzig.de/event/tangoloft-sunday-milonga-3/
LOCATION:Tangoloft\, Pfuelstr. 5\, Berlin\, 10997\, Germany
CATEGORIES:milonga
END:VEVENT
BEGIN:VEVENT
DTSTART;TZID=Europe/Berlin:20260503T183000
DTEND;TZID=Europe/Berlin:20260503T220000
DTSTAMP:20260420T112355
CREATED:20260408T153420Z
LAST-MODIFIED:20260408T153420Z
UID:2994-1777833000-1777845600@tango-in-leipzig.de
SUMMARY:Sonntags-Milonga Weimar
DESCRIPTION:
URL:https://tango-in-leipzig.de/event/sonntags-milonga-weimar-4/
LOCATION:Villa Anneliese\, Riessnerstr. 46\, Weimar\, 99423\, Germany
CATEGORIES:milonga
END:VEVENT
BEGIN:VEVENT
DTSTART;TZID=Europe/Berlin:20260503T190000
DTEND;TZID=Europe/Berlin:20260503T200000
DTSTAMP:20260420T112355
CREATED:20260408T153421Z
LAST-MODIFIED:20260408T153421Z
UID:2998-1777834800-1777838400@tango-in-leipzig.de
SUMMARY:TanzFabrik BASIC
DESCRIPTION:
URL:https://tango-in-leipzig.de/event/tanzfabrik-basic-4/
LOCATION:TanzFabrik Chemnitz\, Neefestr. 58\, Chemnitz\, 09119\, Germany
CATEGORIES:Kurs
END:VEVENT
BEGIN:VEVENT
DTSTART;TZID=Europe/Berlin:20260503T190000
DTEND;TZID=Europe/Berlin:20260503T201500
DTSTAMP:20260420T112355
CREATED:20260408T153421Z
LAST-MODIFIED:20260408T153421Z
UID:2996-1777834800-1777839300@tango-in-leipzig.de
SUMMARY:Schnupperstunde Level 1 Tango Salon
DESCRIPTION:
URL:https://tango-in-leipzig.de/event/schnupperstunde-level-1-tango-salon-2/
LOCATION:Tangosalon Leipzig\, Holbeinstr. 29\, Leipzig\, 04229\, Germany
CATEGORIES:Schnupperkurs
END:VEVENT
BEGIN:VEVENT
DTSTART;TZID=Europe/Berlin:20260503T203000
DTEND;TZID=Europe/Berlin:20260503T220000
DTSTAMP:20260420T112355
CREATED:20260408T153421Z
LAST-MODIFIED:20260408T153421Z
UID:2995-1777840200-1777845600@tango-in-leipzig.de
SUMMARY:Übungskurs TanzFabrik Chemnitz
DESCRIPTION:
URL:https://tango-in-leipzig.de/event/uebungskurs-tanzfabrik-chemnitz-4/
LOCATION:TanzFabrik Chemnitz\, Neefestr. 58\, Chemnitz\, 09119\, Germany
CATEGORIES:practica
END:VEVENT
BEGIN:VEVENT
DTSTART;TZID=Europe/Berlin:20260504T183000
DTEND;TZID=Europe/Berlin:20260504T193000
DTSTAMP:20260420T112355
CREATED:20260408T153421Z
LAST-MODIFIED:20260408T153421Z
UID:3002-1777919400-1777923000@tango-in-leipzig.de
SUMMARY:Tango Club Hartwig
DESCRIPTION:
URL:https://tango-in-leipzig.de/event/tango-club-hartwig-4/
LOCATION:Tanzschule Hartwig Jena\, Lassallestr. 8\, Jena\, 07743\, Germany
CATEGORIES:Kurs
END:VEVENT
BEGIN:VEVENT
DTSTART;TZID=Europe/Berlin:20260504T183000
DTEND;TZID=Europe/Berlin:20260504T200000
DTSTAMP:20260420T112355
CREATED:20260408T153421Z
LAST-MODIFIED:20260408T153421Z
UID:3005-1777919400-1777924800@tango-in-leipzig.de
SUMMARY:Tango Argentino Uni Halle
DESCRIPTION:
URL:https://tango-in-leipzig.de/event/tango-argentino-uni-halle-4/
LOCATION:Sporthalle Kröllwitz\, Halle\, 06120\, Germany
CATEGORIES:Kurs
END:VEVENT
BEGIN:VEVENT
DTSTART;TZID=Europe/Berlin:20260504T190000
DTEND;TZID=Europe/Berlin:20260504T203000
DTSTAMP:20260420T112355
CREATED:20260408T153421Z
LAST-MODIFIED:20260408T153421Z
UID:3001-1777921200-1777926600@tango-in-leipzig.de
SUMMARY:Anfängerkurs Weimar
DESCRIPTION:Lehrer: Brigitte Backhaus & Carlos Tapia.
URL:https://tango-in-leipzig.de/event/anfaengerkurs-weimar-4/
LOCATION:mon ami Weimar\, Goetheplatz 11\, Weimar\, 99423\, Germany
CATEGORIES:Kurs
END:VEVENT
BEGIN:VEVENT
DTSTART;TZID=Europe/Berlin:20260504T190000
DTEND;TZID=Europe/Berlin:20260504T203000
DTSTAMP:20260420T112355
CREATED:20260408T153421Z
LAST-MODIFIED:20260408T153421Z
UID:3000-1777921200-1777926600@tango-in-leipzig.de
SUMMARY:Mittelstufe I – Esquina
DESCRIPTION:Lehrer: Hector Corona & Silvina Machado.
URL:https://tango-in-leipzig.de/event/mittelstufe-i-esquina-4/
LOCATION:Esquina del Tango Erfurt\, Schlösserstr. 5\, Erfurt\, 99084\, Germany
CATEGORIES:Kurs
END:VEVENT
BEGIN:VEVENT
DTSTART;TZID=Europe/Berlin:20260504T191500
DTEND;TZID=Europe/Berlin:20260504T201500
DTSTAMP:20260420T112355
CREATED:20260408T153421Z
LAST-MODIFIED:20260408T153421Z
UID:3003-1777922100-1777925700@tango-in-leipzig.de
SUMMARY:Anfängerkurs Studio 24
DESCRIPTION:
URL:https://tango-in-leipzig.de/event/anfaengerkurs-studio-24-4/
LOCATION:Studio 24 Dresden\, Grossenhainer Str. 29\, Dresden\, 01097\, Germany
CATEGORIES:Kurs
END:VEVENT
BEGIN:VEVENT
DTSTART;TZID=Europe/Berlin:20260504T193000
DTEND;TZID=Europe/Berlin:20260505T000000
DTSTAMP:20260420T112355
CREATED:20260417T092429Z
LAST-MODIFIED:20260417T092429Z
UID:3924-1777923000-1777939200@tango-in-leipzig.de
SUMMARY:Sentidos — Haus der Sinne
DESCRIPTION:Montagsmilonga im Haus der Sinne\, Prenzlauer Berg.
URL:https://tango-in-leipzig.de/event/sentidos-haus-der-sinne-3/
LOCATION:Haus der Sinne\, Ystader Str. 10\, Berlin\, 10437\, Germany
CATEGORIES:milonga
END:VEVENT
END:VCALENDAR